BEGIN:VCALENDAR
VERSION:2.0
PRODID:-//Highland Lakes Country Club and Community Association - ECPv6.15.20//NONSGML v1.0//EN
CALSCALE:GREGORIAN
METHOD:PUBLISH
X-WR-CALNAME:Highland Lakes Country Club and Community Association
X-ORIGINAL-URL:https://hlcc.org
X-WR-CALDESC:Events for Highland Lakes Country Club and Community Association
REFRESH-INTERVAL;VALUE=DURATION:PT1H
X-Robots-Tag:noindex
X-PUBLISHED-TTL:PT1H
BEGIN:VTIMEZONE
TZID:UTC
BEGIN:STANDARD
TZOFFSETFROM:+0000
TZOFFSETTO:+0000
TZNAME:UTC
DTSTART:20250101T000000
END:STANDARD
END:VTIMEZONE
BEGIN:VEVENT
DTSTART;TZID=UTC:20260424T100000
DTEND;TZID=UTC:20260424T120000
DTSTAMP:20260424T185748
CREATED:20250828T152345Z
LAST-MODIFIED:20250828T152345Z
UID:10005361-1777024800-1777032000@hlcc.org
SUMMARY:Pickleball - Fridays
DESCRIPTION:
URL:https://hlcc.org/event/pickleball-3/2026-04-24/
LOCATION:Clubhouse
CATEGORIES:Activities
ORGANIZER;CN="Activities":MAILTO:info@hcc.org
END:VEVENT
BEGIN:VEVENT
DTSTART;TZID=UTC:20260424T190000
DTEND;TZID=UTC:20260424T200000
DTSTAMP:20260424T185748
CREATED:20260331T172439Z
LAST-MODIFIED:20260331T172439Z
UID:10011847-1777057200-1777060800@hlcc.org
SUMMARY:Eclectic Evening of the Arts
DESCRIPTION:
URL:https://hlcc.org/event/eclectic-evening-of-the-arts-4/
CATEGORIES:Events
END:VEVENT
BEGIN:VEVENT
DTSTART;TZID=UTC:20260424T193000
DTEND;TZID=UTC:20260424T213000
DTSTAMP:20260424T185748
CREATED:20260326T175307Z
LAST-MODIFIED:20260326T175307Z
UID:10011528-1777059000-1777066200@hlcc.org
SUMMARY:Cards at the Clubhouse
DESCRIPTION:
URL:https://hlcc.org/event/cards-at-the-clubhouse/2026-04-24/
CATEGORIES:Activities
END:VEVENT
END:VCALENDAR