BEGIN:VCALENDAR
VERSION:2.0
PRODID:-//Highland Lakes Country Club and Community Association - ECPv6.15.20//NONSGML v1.0//EN
CALSCALE:GREGORIAN
METHOD:PUBLISH
X-WR-CALNAME:Highland Lakes Country Club and Community Association
X-ORIGINAL-URL:https://hlcc.org
X-WR-CALDESC:Events for Highland Lakes Country Club and Community Association
REFRESH-INTERVAL;VALUE=DURATION:PT1H
X-Robots-Tag:noindex
X-PUBLISHED-TTL:PT1H
BEGIN:VTIMEZONE
TZID:UTC
BEGIN:STANDARD
TZOFFSETFROM:+0000
TZOFFSETTO:+0000
TZNAME:UTC
DTSTART:20240101T000000
END:STANDARD
END:VTIMEZONE
BEGIN:VEVENT
DTSTART;TZID=UTC:20251103T170000
DTEND;TZID=UTC:20251103T180000
DTSTAMP:20260425T010128
CREATED:20250828T152335Z
LAST-MODIFIED:20250828T152335Z
UID:10000346-1762189200-1762192800@hlcc.org
SUMMARY:Yoga
DESCRIPTION:
URL:https://hlcc.org/event/yoga-2/2025-11-03/
LOCATION:Lake Room\, Highland Lakes\, NJ\, United States
CATEGORIES:Activities
ATTACH;FMTTYPE=image/jpeg:https://hlcc.org/wp-content/uploads/2022/12/2022-HLCC-Social-Media-v2-8.jpg
ORGANIZER;CN="Activities":MAILTO:info@hcc.org
END:VEVENT
BEGIN:VEVENT
DTSTART;TZID=UTC:20251103T180000
DTEND;TZID=UTC:20251103T190000
DTSTAMP:20260425T010128
CREATED:20250828T152504Z
LAST-MODIFIED:20250828T152504Z
UID:10009167-1762192800-1762196400@hlcc.org
SUMMARY:Pickle Ball - Summer
DESCRIPTION:
URL:https://hlcc.org/event/pickle-ball-winter-2/2025-11-03/
CATEGORIES:Activities
END:VEVENT
BEGIN:VEVENT
DTSTART;TZID=UTC:20251105T170000
DTEND;TZID=UTC:20251105T180000
DTSTAMP:20260425T010128
CREATED:20250828T152335Z
LAST-MODIFIED:20250828T152335Z
UID:10000347-1762362000-1762365600@hlcc.org
SUMMARY:Yoga
DESCRIPTION:
URL:https://hlcc.org/event/yoga-2/2025-11-05/
LOCATION:Lake Room\, Highland Lakes\, NJ\, United States
CATEGORIES:Activities
ATTACH;FMTTYPE=image/jpeg:https://hlcc.org/wp-content/uploads/2022/12/2022-HLCC-Social-Media-v2-8.jpg
ORGANIZER;CN="Activities":MAILTO:info@hcc.org
END:VEVENT
BEGIN:VEVENT
DTSTART;TZID=UTC:20251105T173000
DTEND;TZID=UTC:20251105T193000
DTSTAMP:20260425T010128
CREATED:20251030T145112Z
LAST-MODIFIED:20251030T145112Z
UID:10010714-1762363800-1762371000@hlcc.org
SUMMARY:Scouts
DESCRIPTION:
URL:https://hlcc.org/event/scouts-3/2025-11-05/
CATEGORIES:Activities
END:VEVENT
BEGIN:VEVENT
DTSTART;TZID=UTC:20251105T180000
DTEND;TZID=UTC:20251105T190000
DTSTAMP:20260425T010128
CREATED:20250828T152504Z
LAST-MODIFIED:20250828T152504Z
UID:10009168-1762365600-1762369200@hlcc.org
SUMMARY:Pickle Ball - Summer
DESCRIPTION:
URL:https://hlcc.org/event/pickle-ball-winter-2/2025-11-05/
CATEGORIES:Activities
END:VEVENT
BEGIN:VEVENT
DTSTART;TZID=UTC:20251105T190000
DTEND;TZID=UTC:20251105T200000
DTSTAMP:20260425T010128
CREATED:20250828T152415Z
LAST-MODIFIED:20250828T152415Z
UID:10009223-1762369200-1762372800@hlcc.org
SUMMARY:Darts
DESCRIPTION:
URL:https://hlcc.org/event/darts-2/2025-11-05/
LOCATION:Clubhouse
CATEGORIES:Activities
ORGANIZER;CN="Activities":MAILTO:info@hcc.org
END:VEVENT
BEGIN:VEVENT
DTSTART;TZID=UTC:20251106T080000
DTEND;TZID=UTC:20251106T093000
DTSTAMP:20260425T010128
CREATED:20250828T152339Z
LAST-MODIFIED:20250828T152339Z
UID:10003923-1762416000-1762421400@hlcc.org
SUMMARY:Yoga & Meditation
DESCRIPTION:
URL:https://hlcc.org/event/yoga-meditation/2025-11-06/
LOCATION:Clubhouse
CATEGORIES:Activities
ORGANIZER;CN="Activities":MAILTO:info@hcc.org
END:VEVENT
BEGIN:VEVENT
DTSTART;TZID=UTC:20251106T110000
DTEND;TZID=UTC:20251106T120000
DTSTAMP:20260425T010128
CREATED:20250828T152455Z
LAST-MODIFIED:20250828T152455Z
UID:10008268-1762426800-1762430400@hlcc.org
SUMMARY:Guitar Club
DESCRIPTION:
URL:https://hlcc.org/event/guitar-club/2025-11-06/
CATEGORIES:Activities
ATTACH;FMTTYPE=image/jpeg:https://hlcc.org/wp-content/uploads/2025/01/2025-GUITAR-CLUB.jpg
END:VEVENT
BEGIN:VEVENT
DTSTART;TZID=UTC:20251106T190000
DTEND;TZID=UTC:20251106T200000
DTSTAMP:20260425T010128
CREATED:20250828T152334Z
LAST-MODIFIED:20250828T152334Z
UID:10000982-1762455600-1762459200@hlcc.org
SUMMARY:Stitching
DESCRIPTION:
URL:https://hlcc.org/event/stitching/2025-11-06/
LOCATION:Clubhouse
CATEGORIES:Activities
ORGANIZER;CN="Activities":MAILTO:info@hcc.org
END:VEVENT
BEGIN:VEVENT
DTSTART;TZID=UTC:20251106T190000
DTEND;TZID=UTC:20251106T203000
DTSTAMP:20260425T010128
CREATED:20250828T152523Z
LAST-MODIFIED:20250828T152523Z
UID:10009562-1762455600-1762461000@hlcc.org
SUMMARY:Chess
DESCRIPTION:
URL:https://hlcc.org/event/chess/2025-11-06/
CATEGORIES:Activities
END:VEVENT
BEGIN:VEVENT
DTSTART;TZID=UTC:20251107T100000
DTEND;TZID=UTC:20251107T120000
DTSTAMP:20260425T010128
CREATED:20250828T152345Z
LAST-MODIFIED:20250828T152345Z
UID:10005337-1762509600-1762516800@hlcc.org
SUMMARY:Pickleball - Fridays
DESCRIPTION:
URL:https://hlcc.org/event/pickleball-3/2025-11-07/
LOCATION:Clubhouse
CATEGORIES:Activities
ORGANIZER;CN="Activities":MAILTO:info@hcc.org
END:VEVENT
BEGIN:VEVENT
DTSTART;TZID=UTC:20251107T183000
DTEND;TZID=UTC:20251107T203000
DTSTAMP:20260425T010128
CREATED:20251030T145734Z
LAST-MODIFIED:20251030T145734Z
UID:10010768-1762540200-1762547400@hlcc.org
SUMMARY:Bunco
DESCRIPTION:
URL:https://hlcc.org/event/bunco-10/
CATEGORIES:Activities
END:VEVENT
BEGIN:VEVENT
DTSTART;TZID=UTC:20251110T170000
DTEND;TZID=UTC:20251110T180000
DTSTAMP:20260425T010128
CREATED:20250828T152335Z
LAST-MODIFIED:20250828T152335Z
UID:10000348-1762794000-1762797600@hlcc.org
SUMMARY:Yoga
DESCRIPTION:
URL:https://hlcc.org/event/yoga-2/2025-11-10/
LOCATION:Lake Room\, Highland Lakes\, NJ\, United States
CATEGORIES:Activities
ATTACH;FMTTYPE=image/jpeg:https://hlcc.org/wp-content/uploads/2022/12/2022-HLCC-Social-Media-v2-8.jpg
ORGANIZER;CN="Activities":MAILTO:info@hcc.org
END:VEVENT
BEGIN:VEVENT
DTSTART;TZID=UTC:20251110T180000
DTEND;TZID=UTC:20251110T190000
DTSTAMP:20260425T010128
CREATED:20250828T152504Z
LAST-MODIFIED:20250828T152504Z
UID:10009169-1762797600-1762801200@hlcc.org
SUMMARY:Pickle Ball - Summer
DESCRIPTION:
URL:https://hlcc.org/event/pickle-ball-winter-2/2025-11-10/
CATEGORIES:Activities
END:VEVENT
BEGIN:VEVENT
DTSTART;TZID=UTC:20251111T190000
DTEND;TZID=UTC:20251111T200000
DTSTAMP:20260425T010128
CREATED:20251030T144032Z
LAST-MODIFIED:20251030T144032Z
UID:10002341-1762887600-1762891200@hlcc.org
SUMMARY:Artists Group
DESCRIPTION:
URL:https://hlcc.org/event/artists-group-2-2/2025-11-11/
LOCATION:Seckler Room
CATEGORIES:Activities
ORGANIZER;CN="Activities":MAILTO:info@hcc.org
END:VEVENT
BEGIN:VEVENT
DTSTART;TZID=UTC:20251112T170000
DTEND;TZID=UTC:20251112T180000
DTSTAMP:20260425T010128
CREATED:20250828T152335Z
LAST-MODIFIED:20250828T152335Z
UID:10000349-1762966800-1762970400@hlcc.org
SUMMARY:Yoga
DESCRIPTION:
URL:https://hlcc.org/event/yoga-2/2025-11-12/
LOCATION:Lake Room\, Highland Lakes\, NJ\, United States
CATEGORIES:Activities
ATTACH;FMTTYPE=image/jpeg:https://hlcc.org/wp-content/uploads/2022/12/2022-HLCC-Social-Media-v2-8.jpg
ORGANIZER;CN="Activities":MAILTO:info@hcc.org
END:VEVENT
BEGIN:VEVENT
DTSTART;TZID=UTC:20251112T180000
DTEND;TZID=UTC:20251112T190000
DTSTAMP:20260425T010128
CREATED:20250828T152504Z
LAST-MODIFIED:20250828T152504Z
UID:10009170-1762970400-1762974000@hlcc.org
SUMMARY:Pickle Ball - Summer
DESCRIPTION:
URL:https://hlcc.org/event/pickle-ball-winter-2/2025-11-12/
CATEGORIES:Activities
END:VEVENT
BEGIN:VEVENT
DTSTART;TZID=UTC:20251112T190000
DTEND;TZID=UTC:20251112T200000
DTSTAMP:20260425T010128
CREATED:20250828T152415Z
LAST-MODIFIED:20250828T152415Z
UID:10009224-1762974000-1762977600@hlcc.org
SUMMARY:Darts
DESCRIPTION:
URL:https://hlcc.org/event/darts-2/2025-11-12/
LOCATION:Clubhouse
CATEGORIES:Activities
ORGANIZER;CN="Activities":MAILTO:info@hcc.org
END:VEVENT
BEGIN:VEVENT
DTSTART;TZID=UTC:20251113T080000
DTEND;TZID=UTC:20251113T093000
DTSTAMP:20260425T010128
CREATED:20250828T152339Z
LAST-MODIFIED:20250828T152339Z
UID:10003924-1763020800-1763026200@hlcc.org
SUMMARY:Yoga & Meditation
DESCRIPTION:
URL:https://hlcc.org/event/yoga-meditation/2025-11-13/
LOCATION:Clubhouse
CATEGORIES:Activities
ORGANIZER;CN="Activities":MAILTO:info@hcc.org
END:VEVENT
BEGIN:VEVENT
DTSTART;TZID=UTC:20251113T110000
DTEND;TZID=UTC:20251113T120000
DTSTAMP:20260425T010128
CREATED:20250828T152455Z
LAST-MODIFIED:20250828T152455Z
UID:10008269-1763031600-1763035200@hlcc.org
SUMMARY:Guitar Club
DESCRIPTION:
URL:https://hlcc.org/event/guitar-club/2025-11-13/
CATEGORIES:Activities
ATTACH;FMTTYPE=image/jpeg:https://hlcc.org/wp-content/uploads/2025/01/2025-GUITAR-CLUB.jpg
END:VEVENT
BEGIN:VEVENT
DTSTART;TZID=UTC:20251113T190000
DTEND;TZID=UTC:20251113T200000
DTSTAMP:20260425T010128
CREATED:20250828T152334Z
LAST-MODIFIED:20250828T152334Z
UID:10000983-1763060400-1763064000@hlcc.org
SUMMARY:Stitching
DESCRIPTION:
URL:https://hlcc.org/event/stitching/2025-11-13/
LOCATION:Clubhouse
CATEGORIES:Activities
ORGANIZER;CN="Activities":MAILTO:info@hcc.org
END:VEVENT
BEGIN:VEVENT
DTSTART;TZID=UTC:20251113T190000
DTEND;TZID=UTC:20251113T203000
DTSTAMP:20260425T010128
CREATED:20250828T152523Z
LAST-MODIFIED:20250828T152523Z
UID:10009563-1763060400-1763065800@hlcc.org
SUMMARY:Chess
DESCRIPTION:
URL:https://hlcc.org/event/chess/2025-11-13/
CATEGORIES:Activities
END:VEVENT
BEGIN:VEVENT
DTSTART;TZID=UTC:20251114T100000
DTEND;TZID=UTC:20251114T120000
DTSTAMP:20260425T010128
CREATED:20250828T152345Z
LAST-MODIFIED:20250828T152345Z
UID:10005338-1763114400-1763121600@hlcc.org
SUMMARY:Pickleball - Fridays
DESCRIPTION:
URL:https://hlcc.org/event/pickleball-3/2025-11-14/
LOCATION:Clubhouse
CATEGORIES:Activities
ORGANIZER;CN="Activities":MAILTO:info@hcc.org
END:VEVENT
BEGIN:VEVENT
DTSTART;TZID=UTC:20251117T170000
DTEND;TZID=UTC:20251117T180000
DTSTAMP:20260425T010128
CREATED:20250828T152335Z
LAST-MODIFIED:20250828T152335Z
UID:10000350-1763398800-1763402400@hlcc.org
SUMMARY:Yoga
DESCRIPTION:
URL:https://hlcc.org/event/yoga-2/2025-11-17/
LOCATION:Lake Room\, Highland Lakes\, NJ\, United States
CATEGORIES:Activities
ATTACH;FMTTYPE=image/jpeg:https://hlcc.org/wp-content/uploads/2022/12/2022-HLCC-Social-Media-v2-8.jpg
ORGANIZER;CN="Activities":MAILTO:info@hcc.org
END:VEVENT
BEGIN:VEVENT
DTSTART;TZID=UTC:20251117T180000
DTEND;TZID=UTC:20251117T190000
DTSTAMP:20260425T010128
CREATED:20250828T152504Z
LAST-MODIFIED:20250828T152504Z
UID:10009171-1763402400-1763406000@hlcc.org
SUMMARY:Pickle Ball - Summer
DESCRIPTION:
URL:https://hlcc.org/event/pickle-ball-winter-2/2025-11-17/
CATEGORIES:Activities
END:VEVENT
BEGIN:VEVENT
DTSTART;TZID=UTC:20251119T170000
DTEND;TZID=UTC:20251119T180000
DTSTAMP:20260425T010128
CREATED:20250828T152335Z
LAST-MODIFIED:20250828T152335Z
UID:10000351-1763571600-1763575200@hlcc.org
SUMMARY:Yoga
DESCRIPTION:
URL:https://hlcc.org/event/yoga-2/2025-11-19/
LOCATION:Lake Room\, Highland Lakes\, NJ\, United States
CATEGORIES:Activities
ATTACH;FMTTYPE=image/jpeg:https://hlcc.org/wp-content/uploads/2022/12/2022-HLCC-Social-Media-v2-8.jpg
ORGANIZER;CN="Activities":MAILTO:info@hcc.org
END:VEVENT
BEGIN:VEVENT
DTSTART;TZID=UTC:20251119T180000
DTEND;TZID=UTC:20251119T190000
DTSTAMP:20260425T010128
CREATED:20250828T152504Z
LAST-MODIFIED:20250828T152504Z
UID:10009172-1763575200-1763578800@hlcc.org
SUMMARY:Pickle Ball - Summer
DESCRIPTION:
URL:https://hlcc.org/event/pickle-ball-winter-2/2025-11-19/
CATEGORIES:Activities
END:VEVENT
BEGIN:VEVENT
DTSTART;TZID=UTC:20251119T180000
DTEND;TZID=UTC:20251119T200000
DTSTAMP:20260425T010128
CREATED:20251030T145147Z
LAST-MODIFIED:20251030T145147Z
UID:10010750-1763575200-1763582400@hlcc.org
SUMMARY:Scouts
DESCRIPTION:
URL:https://hlcc.org/event/scouts-11/2025-11-19/
CATEGORIES:Activities
END:VEVENT
BEGIN:VEVENT
DTSTART;TZID=UTC:20251119T184500
DTEND;TZID=UTC:20251119T200000
DTSTAMP:20260425T010128
CREATED:20250828T152449Z
LAST-MODIFIED:20250828T152449Z
UID:10007610-1763577900-1763582400@hlcc.org
SUMMARY:Book Club
DESCRIPTION:
URL:https://hlcc.org/event/book-club-2/2025-11-19/
LOCATION:Clubhouse
CATEGORIES:Activities
ORGANIZER;CN="Activities":MAILTO:info@hcc.org
END:VEVENT
BEGIN:VEVENT
DTSTART;TZID=UTC:20251119T190000
DTEND;TZID=UTC:20251119T200000
DTSTAMP:20260425T010128
CREATED:20250828T152415Z
LAST-MODIFIED:20250828T152415Z
UID:10009225-1763578800-1763582400@hlcc.org
SUMMARY:Darts
DESCRIPTION:
URL:https://hlcc.org/event/darts-2/2025-11-19/
LOCATION:Clubhouse
CATEGORIES:Activities
ORGANIZER;CN="Activities":MAILTO:info@hcc.org
END:VEVENT
END:VCALENDAR