BEGIN:VCALENDAR
VERSION:2.0
PRODID:-//Highland Lakes Country Club and Community Association - ECPv6.15.20//NONSGML v1.0//EN
CALSCALE:GREGORIAN
METHOD:PUBLISH
X-ORIGINAL-URL:https://hlcc.org
X-WR-CALDESC:Events for Highland Lakes Country Club and Community Association
REFRESH-INTERVAL;VALUE=DURATION:PT1H
X-Robots-Tag:noindex
X-PUBLISHED-TTL:PT1H
BEGIN:VTIMEZONE
TZID:UTC
BEGIN:STANDARD
TZOFFSETFROM:+0000
TZOFFSETTO:+0000
TZNAME:UTC
DTSTART:20250101T000000
END:STANDARD
END:VTIMEZONE
BEGIN:VEVENT
DTSTART;TZID=UTC:20260302T140000
DTEND;TZID=UTC:20260302T160000
DTSTAMP:20260424T185845
CREATED:20260325T155753Z
LAST-MODIFIED:20260325T155753Z
UID:10011489-1772460000-1772467200@hlcc.org
SUMMARY:Pickleball
DESCRIPTION:
URL:https://hlcc.org/event/pickleball-4/2026-03-02/
CATEGORIES:Activities
END:VEVENT
BEGIN:VEVENT
DTSTART;TZID=UTC:20260302T170000
DTEND;TZID=UTC:20260302T180000
DTSTAMP:20260424T185845
CREATED:20250828T152335Z
LAST-MODIFIED:20250828T152335Z
UID:10000380-1772470800-1772474400@hlcc.org
SUMMARY:Yoga
DESCRIPTION:
URL:https://hlcc.org/event/yoga-2/2026-03-02/
LOCATION:Lake Room\, Highland Lakes\, NJ\, United States
CATEGORIES:Activities
ATTACH;FMTTYPE=image/jpeg:https://hlcc.org/wp-content/uploads/2022/12/2022-HLCC-Social-Media-v2-8.jpg
ORGANIZER;CN="Activities":MAILTO:info@hcc.org
END:VEVENT
BEGIN:VEVENT
DTSTART;TZID=UTC:20260303T093000
DTEND;TZID=UTC:20260303T113000
DTSTAMP:20260424T185845
CREATED:20260120T190858Z
LAST-MODIFIED:20260120T190859Z
UID:10010868-1772530200-1772537400@hlcc.org
SUMMARY:Playgroup Under 5
DESCRIPTION:
URL:https://hlcc.org/event/playgroup-under-5-5/2026-03-03/
CATEGORIES:Activities
ATTACH;FMTTYPE=image/jpeg:https://hlcc.org/wp-content/uploads/2026/01/2026-playgroup-1.jpg
END:VEVENT
BEGIN:VEVENT
DTSTART;TZID=UTC:20260304T140000
DTEND;TZID=UTC:20260304T160000
DTSTAMP:20260424T185845
CREATED:20260325T155753Z
LAST-MODIFIED:20260325T155753Z
UID:10011490-1772632800-1772640000@hlcc.org
SUMMARY:Pickleball
DESCRIPTION:
URL:https://hlcc.org/event/pickleball-4/2026-03-04/
CATEGORIES:Activities
END:VEVENT
BEGIN:VEVENT
DTSTART;TZID=UTC:20260304T170000
DTEND;TZID=UTC:20260304T180000
DTSTAMP:20260424T185845
CREATED:20250828T152335Z
LAST-MODIFIED:20250828T152335Z
UID:10000381-1772643600-1772647200@hlcc.org
SUMMARY:Yoga
DESCRIPTION:
URL:https://hlcc.org/event/yoga-2/2026-03-04/
LOCATION:Lake Room\, Highland Lakes\, NJ\, United States
CATEGORIES:Activities
ATTACH;FMTTYPE=image/jpeg:https://hlcc.org/wp-content/uploads/2022/12/2022-HLCC-Social-Media-v2-8.jpg
ORGANIZER;CN="Activities":MAILTO:info@hcc.org
END:VEVENT
BEGIN:VEVENT
DTSTART;TZID=UTC:20260304T173000
DTEND;TZID=UTC:20260304T193000
DTSTAMP:20260424T185845
CREATED:20251030T145112Z
LAST-MODIFIED:20251030T145112Z
UID:10010718-1772645400-1772652600@hlcc.org
SUMMARY:Scouts
DESCRIPTION:
URL:https://hlcc.org/event/scouts-3/2026-03-04/
CATEGORIES:Activities
END:VEVENT
BEGIN:VEVENT
DTSTART;TZID=UTC:20260304T190000
DTEND;TZID=UTC:20260304T210000
DTSTAMP:20260424T185845
CREATED:20260325T151643Z
LAST-MODIFIED:20260325T151644Z
UID:10011445-1772650800-1772658000@hlcc.org
SUMMARY:Darts
DESCRIPTION:
URL:https://hlcc.org/event/darts-3/2026-03-04/
CATEGORIES:Activities
ATTACH;FMTTYPE=image/jpeg:https://hlcc.org/wp-content/uploads/2026/03/2026-darts.jpg
END:VEVENT
BEGIN:VEVENT
DTSTART;TZID=UTC:20260305T080000
DTEND;TZID=UTC:20260305T093000
DTSTAMP:20260424T185845
CREATED:20250828T152339Z
LAST-MODIFIED:20250828T152339Z
UID:10003940-1772697600-1772703000@hlcc.org
SUMMARY:Yoga & Meditation
DESCRIPTION:
URL:https://hlcc.org/event/yoga-meditation/2026-03-05/
LOCATION:Clubhouse
CATEGORIES:Activities
ORGANIZER;CN="Activities":MAILTO:info@hcc.org
END:VEVENT
BEGIN:VEVENT
DTSTART;TZID=UTC:20260305T190000
DTEND;TZID=UTC:20260305T200000
DTSTAMP:20260424T185845
CREATED:20250828T152334Z
LAST-MODIFIED:20250828T152334Z
UID:10000999-1772737200-1772740800@hlcc.org
SUMMARY:Stitching
DESCRIPTION:
URL:https://hlcc.org/event/stitching/2026-03-05/
LOCATION:Clubhouse
CATEGORIES:Activities
ORGANIZER;CN="Activities":MAILTO:info@hcc.org
END:VEVENT
BEGIN:VEVENT
DTSTART;TZID=UTC:20260305T190000
DTEND;TZID=UTC:20260305T203000
DTSTAMP:20260424T185845
CREATED:20260205T181724Z
LAST-MODIFIED:20260205T185406Z
UID:10011037-1772737200-1772742600@hlcc.org
SUMMARY:Chess Club
DESCRIPTION:
URL:https://hlcc.org/event/chess-club-2/2026-03-05/
CATEGORIES:Activities
ATTACH;FMTTYPE=image/jpeg:https://hlcc.org/wp-content/uploads/2026/02/2026-chess-1.jpg
END:VEVENT
BEGIN:VEVENT
DTSTART;TZID=UTC:20260306T100000
DTEND;TZID=UTC:20260306T120000
DTSTAMP:20260424T185845
CREATED:20250828T152345Z
LAST-MODIFIED:20250828T152345Z
UID:10005354-1772791200-1772798400@hlcc.org
SUMMARY:Pickleball - Fridays
DESCRIPTION:
URL:https://hlcc.org/event/pickleball-3/2026-03-06/
LOCATION:Clubhouse
CATEGORIES:Activities
ORGANIZER;CN="Activities":MAILTO:info@hcc.org
END:VEVENT
BEGIN:VEVENT
DTSTART;TZID=UTC:20260306T183000
DTEND;TZID=UTC:20260306T193000
DTSTAMP:20260424T185845
CREATED:20260113T180034Z
LAST-MODIFIED:20260113T180034Z
UID:10010851-1772821800-1772825400@hlcc.org
SUMMARY:Bunco
DESCRIPTION:
URL:https://hlcc.org/event/bunco-11/2026-03-06/
CATEGORIES:Activities
END:VEVENT
BEGIN:VEVENT
DTSTART;TZID=UTC:20260306T193000
DTEND;TZID=UTC:20260306T213000
DTSTAMP:20260424T185845
CREATED:20260326T175307Z
LAST-MODIFIED:20260326T175307Z
UID:10011521-1772825400-1772832600@hlcc.org
SUMMARY:Cards at the Clubhouse
DESCRIPTION:
URL:https://hlcc.org/event/cards-at-the-clubhouse/2026-03-06/
CATEGORIES:Activities
END:VEVENT
BEGIN:VEVENT
DTSTART;TZID=UTC:20260309T140000
DTEND;TZID=UTC:20260309T160000
DTSTAMP:20260424T185845
CREATED:20260325T155753Z
LAST-MODIFIED:20260325T155753Z
UID:10011491-1773064800-1773072000@hlcc.org
SUMMARY:Pickleball
DESCRIPTION:
URL:https://hlcc.org/event/pickleball-4/2026-03-09/
CATEGORIES:Activities
END:VEVENT
BEGIN:VEVENT
DTSTART;TZID=UTC:20260309T170000
DTEND;TZID=UTC:20260309T180000
DTSTAMP:20260424T185845
CREATED:20250828T152335Z
LAST-MODIFIED:20250828T152335Z
UID:10000382-1773075600-1773079200@hlcc.org
SUMMARY:Yoga
DESCRIPTION:
URL:https://hlcc.org/event/yoga-2/2026-03-09/
LOCATION:Lake Room\, Highland Lakes\, NJ\, United States
CATEGORIES:Activities
ATTACH;FMTTYPE=image/jpeg:https://hlcc.org/wp-content/uploads/2022/12/2022-HLCC-Social-Media-v2-8.jpg
ORGANIZER;CN="Activities":MAILTO:info@hcc.org
END:VEVENT
BEGIN:VEVENT
DTSTART;TZID=UTC:20260310T093000
DTEND;TZID=UTC:20260310T113000
DTSTAMP:20260424T185845
CREATED:20260120T190858Z
LAST-MODIFIED:20260120T190859Z
UID:10010869-1773135000-1773142200@hlcc.org
SUMMARY:Playgroup Under 5
DESCRIPTION:
URL:https://hlcc.org/event/playgroup-under-5-5/2026-03-10/
CATEGORIES:Activities
ATTACH;FMTTYPE=image/jpeg:https://hlcc.org/wp-content/uploads/2026/01/2026-playgroup-1.jpg
END:VEVENT
BEGIN:VEVENT
DTSTART;TZID=UTC:20260311T140000
DTEND;TZID=UTC:20260311T160000
DTSTAMP:20260424T185845
CREATED:20260325T155753Z
LAST-MODIFIED:20260325T155753Z
UID:10011492-1773237600-1773244800@hlcc.org
SUMMARY:Pickleball
DESCRIPTION:
URL:https://hlcc.org/event/pickleball-4/2026-03-11/
CATEGORIES:Activities
END:VEVENT
BEGIN:VEVENT
DTSTART;TZID=UTC:20260311T170000
DTEND;TZID=UTC:20260311T180000
DTSTAMP:20260424T185845
CREATED:20250828T152335Z
LAST-MODIFIED:20250828T152335Z
UID:10000383-1773248400-1773252000@hlcc.org
SUMMARY:Yoga
DESCRIPTION:
URL:https://hlcc.org/event/yoga-2/2026-03-11/
LOCATION:Lake Room\, Highland Lakes\, NJ\, United States
CATEGORIES:Activities
ATTACH;FMTTYPE=image/jpeg:https://hlcc.org/wp-content/uploads/2022/12/2022-HLCC-Social-Media-v2-8.jpg
ORGANIZER;CN="Activities":MAILTO:info@hcc.org
END:VEVENT
BEGIN:VEVENT
DTSTART;TZID=UTC:20260311T190000
DTEND;TZID=UTC:20260311T210000
DTSTAMP:20260424T185845
CREATED:20260325T151643Z
LAST-MODIFIED:20260325T151644Z
UID:10011446-1773255600-1773262800@hlcc.org
SUMMARY:Darts
DESCRIPTION:
URL:https://hlcc.org/event/darts-3/2026-03-11/
CATEGORIES:Activities
ATTACH;FMTTYPE=image/jpeg:https://hlcc.org/wp-content/uploads/2026/03/2026-darts.jpg
END:VEVENT
BEGIN:VEVENT
DTSTART;TZID=UTC:20260312T080000
DTEND;TZID=UTC:20260312T093000
DTSTAMP:20260424T185845
CREATED:20250828T152339Z
LAST-MODIFIED:20250828T152339Z
UID:10003941-1773302400-1773307800@hlcc.org
SUMMARY:Yoga & Meditation
DESCRIPTION:
URL:https://hlcc.org/event/yoga-meditation/2026-03-12/
LOCATION:Clubhouse
CATEGORIES:Activities
ORGANIZER;CN="Activities":MAILTO:info@hcc.org
END:VEVENT
BEGIN:VEVENT
DTSTART;TZID=UTC:20260312T190000
DTEND;TZID=UTC:20260312T200000
DTSTAMP:20260424T185845
CREATED:20250828T152334Z
LAST-MODIFIED:20250828T152334Z
UID:10001000-1773342000-1773345600@hlcc.org
SUMMARY:Stitching
DESCRIPTION:
URL:https://hlcc.org/event/stitching/2026-03-12/
LOCATION:Clubhouse
CATEGORIES:Activities
ORGANIZER;CN="Activities":MAILTO:info@hcc.org
END:VEVENT
BEGIN:VEVENT
DTSTART;TZID=UTC:20260312T190000
DTEND;TZID=UTC:20260312T203000
DTSTAMP:20260424T185845
CREATED:20260205T181724Z
LAST-MODIFIED:20260205T185406Z
UID:10011038-1773342000-1773347400@hlcc.org
SUMMARY:Chess Club
DESCRIPTION:
URL:https://hlcc.org/event/chess-club-2/2026-03-12/
CATEGORIES:Activities
ATTACH;FMTTYPE=image/jpeg:https://hlcc.org/wp-content/uploads/2026/02/2026-chess-1.jpg
END:VEVENT
BEGIN:VEVENT
DTSTART;TZID=UTC:20260313T100000
DTEND;TZID=UTC:20260313T120000
DTSTAMP:20260424T185845
CREATED:20250828T152345Z
LAST-MODIFIED:20250828T152345Z
UID:10005355-1773396000-1773403200@hlcc.org
SUMMARY:Pickleball - Fridays
DESCRIPTION:
URL:https://hlcc.org/event/pickleball-3/2026-03-13/
LOCATION:Clubhouse
CATEGORIES:Activities
ORGANIZER;CN="Activities":MAILTO:info@hcc.org
END:VEVENT
BEGIN:VEVENT
DTSTART;TZID=UTC:20260313T193000
DTEND;TZID=UTC:20260313T213000
DTSTAMP:20260424T185845
CREATED:20260326T175307Z
LAST-MODIFIED:20260326T175307Z
UID:10011522-1773430200-1773437400@hlcc.org
SUMMARY:Cards at the Clubhouse
DESCRIPTION:
URL:https://hlcc.org/event/cards-at-the-clubhouse/2026-03-13/
CATEGORIES:Activities
END:VEVENT
BEGIN:VEVENT
DTSTART;TZID=UTC:20260316T140000
DTEND;TZID=UTC:20260316T160000
DTSTAMP:20260424T185845
CREATED:20260325T155753Z
LAST-MODIFIED:20260325T155753Z
UID:10011493-1773669600-1773676800@hlcc.org
SUMMARY:Pickleball
DESCRIPTION:
URL:https://hlcc.org/event/pickleball-4/2026-03-16/
CATEGORIES:Activities
END:VEVENT
BEGIN:VEVENT
DTSTART;TZID=UTC:20260316T170000
DTEND;TZID=UTC:20260316T180000
DTSTAMP:20260424T185845
CREATED:20250828T152335Z
LAST-MODIFIED:20250828T152335Z
UID:10000384-1773680400-1773684000@hlcc.org
SUMMARY:Yoga
DESCRIPTION:
URL:https://hlcc.org/event/yoga-2/2026-03-16/
LOCATION:Lake Room\, Highland Lakes\, NJ\, United States
CATEGORIES:Activities
ATTACH;FMTTYPE=image/jpeg:https://hlcc.org/wp-content/uploads/2022/12/2022-HLCC-Social-Media-v2-8.jpg
ORGANIZER;CN="Activities":MAILTO:info@hcc.org
END:VEVENT
BEGIN:VEVENT
DTSTART;TZID=UTC:20260317T093000
DTEND;TZID=UTC:20260317T113000
DTSTAMP:20260424T185845
CREATED:20260120T190858Z
LAST-MODIFIED:20260120T190859Z
UID:10010870-1773739800-1773747000@hlcc.org
SUMMARY:Playgroup Under 5
DESCRIPTION:
URL:https://hlcc.org/event/playgroup-under-5-5/2026-03-17/
CATEGORIES:Activities
ATTACH;FMTTYPE=image/jpeg:https://hlcc.org/wp-content/uploads/2026/01/2026-playgroup-1.jpg
END:VEVENT
BEGIN:VEVENT
DTSTART;TZID=UTC:20260318T140000
DTEND;TZID=UTC:20260318T160000
DTSTAMP:20260424T185845
CREATED:20260325T155753Z
LAST-MODIFIED:20260325T155753Z
UID:10011494-1773842400-1773849600@hlcc.org
SUMMARY:Pickleball
DESCRIPTION:
URL:https://hlcc.org/event/pickleball-4/2026-03-18/
CATEGORIES:Activities
END:VEVENT
BEGIN:VEVENT
DTSTART;TZID=UTC:20260318T170000
DTEND;TZID=UTC:20260318T180000
DTSTAMP:20260424T185845
CREATED:20250828T152335Z
LAST-MODIFIED:20250828T152335Z
UID:10000385-1773853200-1773856800@hlcc.org
SUMMARY:Yoga
DESCRIPTION:
URL:https://hlcc.org/event/yoga-2/2026-03-18/
LOCATION:Lake Room\, Highland Lakes\, NJ\, United States
CATEGORIES:Activities
ATTACH;FMTTYPE=image/jpeg:https://hlcc.org/wp-content/uploads/2022/12/2022-HLCC-Social-Media-v2-8.jpg
ORGANIZER;CN="Activities":MAILTO:info@hcc.org
END:VEVENT
BEGIN:VEVENT
DTSTART;TZID=UTC:20260318T180000
DTEND;TZID=UTC:20260318T200000
DTSTAMP:20260424T185845
CREATED:20251030T145147Z
LAST-MODIFIED:20251030T145147Z
UID:10010754-1773856800-1773864000@hlcc.org
SUMMARY:Scouts
DESCRIPTION:
URL:https://hlcc.org/event/scouts-11/2026-03-18/
CATEGORIES:Activities
END:VEVENT
END:VCALENDAR