BEGIN:VCALENDAR
VERSION:2.0
PRODID:-//Highland Lakes Country Club and Community Association - ECPv6.15.20//NONSGML v1.0//EN
CALSCALE:GREGORIAN
METHOD:PUBLISH
X-ORIGINAL-URL:https://hlcc.org
X-WR-CALDESC:Events for Highland Lakes Country Club and Community Association
REFRESH-INTERVAL;VALUE=DURATION:PT1H
X-Robots-Tag:noindex
X-PUBLISHED-TTL:PT1H
BEGIN:VTIMEZONE
TZID:UTC
BEGIN:STANDARD
TZOFFSETFROM:+0000
TZOFFSETTO:+0000
TZNAME:UTC
DTSTART:20250101T000000
END:STANDARD
END:VTIMEZONE
BEGIN:VEVENT
DTSTART;TZID=UTC:20260803T170000
DTEND;TZID=UTC:20260803T180000
DTSTAMP:20260424T233319
CREATED:20250828T152335Z
LAST-MODIFIED:20250828T152335Z
UID:10000424-1785776400-1785780000@hlcc.org
SUMMARY:Yoga
DESCRIPTION:
URL:https://hlcc.org/event/yoga-2/2026-08-03/
LOCATION:Lake Room\, Highland Lakes\, NJ\, United States
CATEGORIES:Activities
ATTACH;FMTTYPE=image/jpeg:https://hlcc.org/wp-content/uploads/2022/12/2022-HLCC-Social-Media-v2-8.jpg
ORGANIZER;CN="Activities":MAILTO:info@hcc.org
END:VEVENT
BEGIN:VEVENT
DTSTART;TZID=UTC:20260803T180000
DTEND;TZID=UTC:20260803T190000
DTSTAMP:20260424T233319
CREATED:20260210T153306Z
LAST-MODIFIED:20260210T153307Z
UID:10011369-1785780000-1785783600@hlcc.org
SUMMARY:Summer Ceramics
DESCRIPTION:
URL:https://hlcc.org/event/summer-ceramics/2026-08-03/
CATEGORIES:Activities
END:VEVENT
BEGIN:VEVENT
DTSTART;TZID=UTC:20260803T180000
DTEND;TZID=UTC:20260803T190000
DTSTAMP:20260424T233319
CREATED:20260331T171733Z
LAST-MODIFIED:20260331T171733Z
UID:10011824-1785780000-1785783600@hlcc.org
SUMMARY:Ceramics
DESCRIPTION:
URL:https://hlcc.org/event/ceramics-2/2026-08-03/
CATEGORIES:Activities
END:VEVENT
BEGIN:VEVENT
DTSTART;TZID=UTC:20260804T080000
DTEND;TZID=UTC:20260804T170000
DTSTAMP:20260424T233319
CREATED:20260210T162438Z
LAST-MODIFIED:20260210T162439Z
UID:10011386-1785830400-1785862800@hlcc.org
SUMMARY:Leather Crafting
DESCRIPTION:
URL:https://hlcc.org/event/leather-crafting-3/
CATEGORIES:Activities
END:VEVENT
BEGIN:VEVENT
DTSTART;TZID=UTC:20260805T170000
DTEND;TZID=UTC:20260805T180000
DTSTAMP:20260424T233319
CREATED:20250828T152335Z
LAST-MODIFIED:20250828T152335Z
UID:10000425-1785949200-1785952800@hlcc.org
SUMMARY:Yoga
DESCRIPTION:
URL:https://hlcc.org/event/yoga-2/2026-08-05/
LOCATION:Lake Room\, Highland Lakes\, NJ\, United States
CATEGORIES:Activities
ATTACH;FMTTYPE=image/jpeg:https://hlcc.org/wp-content/uploads/2022/12/2022-HLCC-Social-Media-v2-8.jpg
ORGANIZER;CN="Activities":MAILTO:info@hcc.org
END:VEVENT
BEGIN:VEVENT
DTSTART;TZID=UTC:20260805T173000
DTEND;TZID=UTC:20260805T193000
DTSTAMP:20260424T233319
CREATED:20251030T145112Z
LAST-MODIFIED:20251030T145112Z
UID:10010723-1785951000-1785958200@hlcc.org
SUMMARY:Scouts
DESCRIPTION:
URL:https://hlcc.org/event/scouts-3/2026-08-05/
CATEGORIES:Activities
END:VEVENT
BEGIN:VEVENT
DTSTART;TZID=UTC:20260805T190000
DTEND;TZID=UTC:20260805T210000
DTSTAMP:20260424T233319
CREATED:20260325T151643Z
LAST-MODIFIED:20260325T151644Z
UID:10011467-1785956400-1785963600@hlcc.org
SUMMARY:Darts
DESCRIPTION:
URL:https://hlcc.org/event/darts-3/2026-08-05/
CATEGORIES:Activities
ATTACH;FMTTYPE=image/jpeg:https://hlcc.org/wp-content/uploads/2026/03/2026-darts.jpg
END:VEVENT
BEGIN:VEVENT
DTSTART;TZID=UTC:20260806T080000
DTEND;TZID=UTC:20260806T093000
DTSTAMP:20260424T233319
CREATED:20250828T152339Z
LAST-MODIFIED:20250828T152339Z
UID:10003962-1786003200-1786008600@hlcc.org
SUMMARY:Yoga & Meditation
DESCRIPTION:
URL:https://hlcc.org/event/yoga-meditation/2026-08-06/
LOCATION:Clubhouse
CATEGORIES:Activities
ORGANIZER;CN="Activities":MAILTO:info@hcc.org
END:VEVENT
BEGIN:VEVENT
DTSTART;TZID=UTC:20260806T180000
DTEND;TZID=UTC:20260806T200000
DTSTAMP:20260424T233319
CREATED:20260210T162534Z
LAST-MODIFIED:20260210T162727Z
UID:10011387-1786039200-1786046400@hlcc.org
SUMMARY:Volley Ball at Beach 2
DESCRIPTION:
URL:https://hlcc.org/event/volley-ball-at-beach-2/
CATEGORIES:Activities,Athletics
END:VEVENT
BEGIN:VEVENT
DTSTART;TZID=UTC:20260806T190000
DTEND;TZID=UTC:20260806T200000
DTSTAMP:20260424T233319
CREATED:20250828T152334Z
LAST-MODIFIED:20250828T152334Z
UID:10001021-1786042800-1786046400@hlcc.org
SUMMARY:Stitching
DESCRIPTION:
URL:https://hlcc.org/event/stitching/2026-08-06/
LOCATION:Clubhouse
CATEGORIES:Activities
ORGANIZER;CN="Activities":MAILTO:info@hcc.org
END:VEVENT
BEGIN:VEVENT
DTSTART;TZID=UTC:20260806T190000
DTEND;TZID=UTC:20260806T203000
DTSTAMP:20260424T233319
CREATED:20260205T181724Z
LAST-MODIFIED:20260205T185406Z
UID:10011059-1786042800-1786048200@hlcc.org
SUMMARY:Chess Club
DESCRIPTION:
URL:https://hlcc.org/event/chess-club-2/2026-08-06/
CATEGORIES:Activities
ATTACH;FMTTYPE=image/jpeg:https://hlcc.org/wp-content/uploads/2026/02/2026-chess-1.jpg
END:VEVENT
BEGIN:VEVENT
DTSTART;TZID=UTC:20260807T100000
DTEND;TZID=UTC:20260807T120000
DTSTAMP:20260424T233319
CREATED:20250828T152345Z
LAST-MODIFIED:20250828T152345Z
UID:10005376-1786096800-1786104000@hlcc.org
SUMMARY:Pickleball - Fridays
DESCRIPTION:
URL:https://hlcc.org/event/pickleball-3/2026-08-07/
LOCATION:Clubhouse
CATEGORIES:Activities
ORGANIZER;CN="Activities":MAILTO:info@hcc.org
END:VEVENT
BEGIN:VEVENT
DTSTART;TZID=UTC:20260807T183000
DTEND;TZID=UTC:20260807T193000
DTSTAMP:20260424T233319
CREATED:20260113T180034Z
LAST-MODIFIED:20260113T180034Z
UID:10010856-1786127400-1786131000@hlcc.org
SUMMARY:Bunco
DESCRIPTION:
URL:https://hlcc.org/event/bunco-11/2026-08-07/
CATEGORIES:Activities
END:VEVENT
BEGIN:VEVENT
DTSTART;TZID=UTC:20260807T193000
DTEND;TZID=UTC:20260807T213000
DTSTAMP:20260424T233319
CREATED:20260326T175307Z
LAST-MODIFIED:20260326T175307Z
UID:10011543-1786131000-1786138200@hlcc.org
SUMMARY:Cards at the Clubhouse
DESCRIPTION:
URL:https://hlcc.org/event/cards-at-the-clubhouse/2026-08-07/
CATEGORIES:Activities
END:VEVENT
BEGIN:VEVENT
DTSTART;TZID=UTC:20260810T170000
DTEND;TZID=UTC:20260810T180000
DTSTAMP:20260424T233319
CREATED:20250828T152335Z
LAST-MODIFIED:20250828T152335Z
UID:10000426-1786381200-1786384800@hlcc.org
SUMMARY:Yoga
DESCRIPTION:
URL:https://hlcc.org/event/yoga-2/2026-08-10/
LOCATION:Lake Room\, Highland Lakes\, NJ\, United States
CATEGORIES:Activities
ATTACH;FMTTYPE=image/jpeg:https://hlcc.org/wp-content/uploads/2022/12/2022-HLCC-Social-Media-v2-8.jpg
ORGANIZER;CN="Activities":MAILTO:info@hcc.org
END:VEVENT
BEGIN:VEVENT
DTSTART;TZID=UTC:20260810T180000
DTEND;TZID=UTC:20260810T190000
DTSTAMP:20260424T233319
CREATED:20260210T153306Z
LAST-MODIFIED:20260210T153307Z
UID:10011370-1786384800-1786388400@hlcc.org
SUMMARY:Summer Ceramics
DESCRIPTION:
URL:https://hlcc.org/event/summer-ceramics/2026-08-10/
CATEGORIES:Activities
END:VEVENT
BEGIN:VEVENT
DTSTART;TZID=UTC:20260810T180000
DTEND;TZID=UTC:20260810T190000
DTSTAMP:20260424T233319
CREATED:20260331T171733Z
LAST-MODIFIED:20260331T171733Z
UID:10011825-1786384800-1786388400@hlcc.org
SUMMARY:Ceramics
DESCRIPTION:
URL:https://hlcc.org/event/ceramics-2/2026-08-10/
CATEGORIES:Activities
END:VEVENT
BEGIN:VEVENT
DTSTART;TZID=UTC:20260811T180000
DTEND;TZID=UTC:20260811T190000
DTSTAMP:20260424T233319
CREATED:20260210T163000Z
LAST-MODIFIED:20260210T163000Z
UID:10011390-1786471200-1786474800@hlcc.org
SUMMARY:Chess on the Lawn
DESCRIPTION:
URL:https://hlcc.org/event/chess-on-the-lawn/
CATEGORIES:Activities
END:VEVENT
BEGIN:VEVENT
DTSTART;TZID=UTC:20260812T170000
DTEND;TZID=UTC:20260812T180000
DTSTAMP:20260424T233319
CREATED:20250828T152335Z
LAST-MODIFIED:20250828T152335Z
UID:10000427-1786554000-1786557600@hlcc.org
SUMMARY:Yoga
DESCRIPTION:
URL:https://hlcc.org/event/yoga-2/2026-08-12/
LOCATION:Lake Room\, Highland Lakes\, NJ\, United States
CATEGORIES:Activities
ATTACH;FMTTYPE=image/jpeg:https://hlcc.org/wp-content/uploads/2022/12/2022-HLCC-Social-Media-v2-8.jpg
ORGANIZER;CN="Activities":MAILTO:info@hcc.org
END:VEVENT
BEGIN:VEVENT
DTSTART;TZID=UTC:20260812T190000
DTEND;TZID=UTC:20260812T210000
DTSTAMP:20260424T233319
CREATED:20260325T151643Z
LAST-MODIFIED:20260325T151644Z
UID:10011468-1786561200-1786568400@hlcc.org
SUMMARY:Darts
DESCRIPTION:
URL:https://hlcc.org/event/darts-3/2026-08-12/
CATEGORIES:Activities
ATTACH;FMTTYPE=image/jpeg:https://hlcc.org/wp-content/uploads/2026/03/2026-darts.jpg
END:VEVENT
BEGIN:VEVENT
DTSTART;TZID=UTC:20260813T080000
DTEND;TZID=UTC:20260813T093000
DTSTAMP:20260424T233319
CREATED:20250828T152339Z
LAST-MODIFIED:20250828T152339Z
UID:10003963-1786608000-1786613400@hlcc.org
SUMMARY:Yoga & Meditation
DESCRIPTION:
URL:https://hlcc.org/event/yoga-meditation/2026-08-13/
LOCATION:Clubhouse
CATEGORIES:Activities
ORGANIZER;CN="Activities":MAILTO:info@hcc.org
END:VEVENT
BEGIN:VEVENT
DTSTART;TZID=UTC:20260813T180000
DTEND;TZID=UTC:20260813T190000
DTSTAMP:20260424T233319
CREATED:20260210T163139Z
LAST-MODIFIED:20260210T163140Z
UID:10011392-1786644000-1786647600@hlcc.org
SUMMARY:Kickball at Beach 1
DESCRIPTION:
URL:https://hlcc.org/event/kickball-at-beach-1/
CATEGORIES:Activities
END:VEVENT
BEGIN:VEVENT
DTSTART;TZID=UTC:20260813T190000
DTEND;TZID=UTC:20260813T200000
DTSTAMP:20260424T233319
CREATED:20250828T152334Z
LAST-MODIFIED:20250828T152334Z
UID:10001022-1786647600-1786651200@hlcc.org
SUMMARY:Stitching
DESCRIPTION:
URL:https://hlcc.org/event/stitching/2026-08-13/
LOCATION:Clubhouse
CATEGORIES:Activities
ORGANIZER;CN="Activities":MAILTO:info@hcc.org
END:VEVENT
BEGIN:VEVENT
DTSTART;TZID=UTC:20260813T190000
DTEND;TZID=UTC:20260813T203000
DTSTAMP:20260424T233319
CREATED:20260205T181724Z
LAST-MODIFIED:20260205T185406Z
UID:10011060-1786647600-1786653000@hlcc.org
SUMMARY:Chess Club
DESCRIPTION:
URL:https://hlcc.org/event/chess-club-2/2026-08-13/
CATEGORIES:Activities
ATTACH;FMTTYPE=image/jpeg:https://hlcc.org/wp-content/uploads/2026/02/2026-chess-1.jpg
END:VEVENT
BEGIN:VEVENT
DTSTART;TZID=UTC:20260814T100000
DTEND;TZID=UTC:20260814T120000
DTSTAMP:20260424T233319
CREATED:20250828T152345Z
LAST-MODIFIED:20250828T152345Z
UID:10005377-1786701600-1786708800@hlcc.org
SUMMARY:Pickleball - Fridays
DESCRIPTION:
URL:https://hlcc.org/event/pickleball-3/2026-08-14/
LOCATION:Clubhouse
CATEGORIES:Activities
ORGANIZER;CN="Activities":MAILTO:info@hcc.org
END:VEVENT
BEGIN:VEVENT
DTSTART;TZID=UTC:20260814T193000
DTEND;TZID=UTC:20260814T213000
DTSTAMP:20260424T233319
CREATED:20260326T175307Z
LAST-MODIFIED:20260326T175307Z
UID:10011544-1786735800-1786743000@hlcc.org
SUMMARY:Cards at the Clubhouse
DESCRIPTION:
URL:https://hlcc.org/event/cards-at-the-clubhouse/2026-08-14/
CATEGORIES:Activities
END:VEVENT
BEGIN:VEVENT
DTSTART;VALUE=DATE:20260815
DTEND;VALUE=DATE:20260816
DTSTAMP:20260424T233319
CREATED:20260210T163211Z
LAST-MODIFIED:20260210T163243Z
UID:10011393-1786752000-1786838399@hlcc.org
SUMMARY:Summer Activities Ends
DESCRIPTION:
URL:https://hlcc.org/event/summer-activities-ends/
CATEGORIES:Activities
END:VEVENT
BEGIN:VEVENT
DTSTART;TZID=UTC:20260817T170000
DTEND;TZID=UTC:20260817T180000
DTSTAMP:20260424T233319
CREATED:20250828T152335Z
LAST-MODIFIED:20250828T152335Z
UID:10000428-1786986000-1786989600@hlcc.org
SUMMARY:Yoga
DESCRIPTION:
URL:https://hlcc.org/event/yoga-2/2026-08-17/
LOCATION:Lake Room\, Highland Lakes\, NJ\, United States
CATEGORIES:Activities
ATTACH;FMTTYPE=image/jpeg:https://hlcc.org/wp-content/uploads/2022/12/2022-HLCC-Social-Media-v2-8.jpg
ORGANIZER;CN="Activities":MAILTO:info@hcc.org
END:VEVENT
BEGIN:VEVENT
DTSTART;TZID=UTC:20260817T180000
DTEND;TZID=UTC:20260817T190000
DTSTAMP:20260424T233319
CREATED:20260210T153306Z
LAST-MODIFIED:20260210T153307Z
UID:10011371-1786989600-1786993200@hlcc.org
SUMMARY:Summer Ceramics
DESCRIPTION:
URL:https://hlcc.org/event/summer-ceramics/2026-08-17/
CATEGORIES:Activities
END:VEVENT
BEGIN:VEVENT
DTSTART;TZID=UTC:20260817T180000
DTEND;TZID=UTC:20260817T190000
DTSTAMP:20260424T233319
CREATED:20260331T171733Z
LAST-MODIFIED:20260331T171733Z
UID:10011826-1786989600-1786993200@hlcc.org
SUMMARY:Ceramics
DESCRIPTION:
URL:https://hlcc.org/event/ceramics-2/2026-08-17/
CATEGORIES:Activities
END:VEVENT
END:VCALENDAR