BEGIN:VCALENDAR
VERSION:2.0
PRODID:-//Highland Lakes Country Club and Community Association - ECPv6.15.20//NONSGML v1.0//EN
CALSCALE:GREGORIAN
METHOD:PUBLISH
X-WR-CALNAME:Highland Lakes Country Club and Community Association
X-ORIGINAL-URL:https://hlcc.org
X-WR-CALDESC:Events for Highland Lakes Country Club and Community Association
REFRESH-INTERVAL;VALUE=DURATION:PT1H
X-Robots-Tag:noindex
X-PUBLISHED-TTL:PT1H
BEGIN:VTIMEZONE
TZID:UTC
BEGIN:STANDARD
TZOFFSETFROM:+0000
TZOFFSETTO:+0000
TZNAME:UTC
DTSTART:20250101T000000
END:STANDARD
END:VTIMEZONE
BEGIN:VEVENT
DTSTART;TZID=UTC:20260406T170000
DTEND;TZID=UTC:20260406T180000
DTSTAMP:20260424T235124
CREATED:20250828T152335Z
LAST-MODIFIED:20250828T152335Z
UID:10000390-1775494800-1775498400@hlcc.org
SUMMARY:Yoga
DESCRIPTION:
URL:https://hlcc.org/event/yoga-2/2026-04-06/
LOCATION:Lake Room\, Highland Lakes\, NJ\, United States
CATEGORIES:Activities
ATTACH;FMTTYPE=image/jpeg:https://hlcc.org/wp-content/uploads/2022/12/2022-HLCC-Social-Media-v2-8.jpg
ORGANIZER;CN="Activities":MAILTO:info@hcc.org
END:VEVENT
BEGIN:VEVENT
DTSTART;TZID=UTC:20260407T093000
DTEND;TZID=UTC:20260407T113000
DTSTAMP:20260424T235124
CREATED:20260120T190858Z
LAST-MODIFIED:20260120T190859Z
UID:10010873-1775554200-1775561400@hlcc.org
SUMMARY:Playgroup Under 5
DESCRIPTION:
URL:https://hlcc.org/event/playgroup-under-5-5/2026-04-07/
CATEGORIES:Activities
ATTACH;FMTTYPE=image/jpeg:https://hlcc.org/wp-content/uploads/2026/01/2026-playgroup-1.jpg
END:VEVENT
BEGIN:VEVENT
DTSTART;TZID=UTC:20260408T140000
DTEND;TZID=UTC:20260408T160000
DTSTAMP:20260424T235124
CREATED:20260325T155753Z
LAST-MODIFIED:20260325T155753Z
UID:10011500-1775656800-1775664000@hlcc.org
SUMMARY:Pickleball
DESCRIPTION:
URL:https://hlcc.org/event/pickleball-4/2026-04-08/
CATEGORIES:Activities
END:VEVENT
BEGIN:VEVENT
DTSTART;TZID=UTC:20260408T170000
DTEND;TZID=UTC:20260408T180000
DTSTAMP:20260424T235124
CREATED:20250828T152335Z
LAST-MODIFIED:20250828T152335Z
UID:10000391-1775667600-1775671200@hlcc.org
SUMMARY:Yoga
DESCRIPTION:
URL:https://hlcc.org/event/yoga-2/2026-04-08/
LOCATION:Lake Room\, Highland Lakes\, NJ\, United States
CATEGORIES:Activities
ATTACH;FMTTYPE=image/jpeg:https://hlcc.org/wp-content/uploads/2022/12/2022-HLCC-Social-Media-v2-8.jpg
ORGANIZER;CN="Activities":MAILTO:info@hcc.org
END:VEVENT
BEGIN:VEVENT
DTSTART;TZID=UTC:20260408T190000
DTEND;TZID=UTC:20260408T210000
DTSTAMP:20260424T235124
CREATED:20260325T151643Z
LAST-MODIFIED:20260325T151644Z
UID:10011450-1775674800-1775682000@hlcc.org
SUMMARY:Darts
DESCRIPTION:
URL:https://hlcc.org/event/darts-3/2026-04-08/
CATEGORIES:Activities
ATTACH;FMTTYPE=image/jpeg:https://hlcc.org/wp-content/uploads/2026/03/2026-darts.jpg
END:VEVENT
BEGIN:VEVENT
DTSTART;TZID=UTC:20260409T080000
DTEND;TZID=UTC:20260409T093000
DTSTAMP:20260424T235124
CREATED:20250828T152339Z
LAST-MODIFIED:20250828T152339Z
UID:10003945-1775721600-1775727000@hlcc.org
SUMMARY:Yoga & Meditation
DESCRIPTION:
URL:https://hlcc.org/event/yoga-meditation/2026-04-09/
LOCATION:Clubhouse
CATEGORIES:Activities
ORGANIZER;CN="Activities":MAILTO:info@hcc.org
END:VEVENT
BEGIN:VEVENT
DTSTART;TZID=UTC:20260409T190000
DTEND;TZID=UTC:20260409T200000
DTSTAMP:20260424T235124
CREATED:20250828T152334Z
LAST-MODIFIED:20250828T152334Z
UID:10001004-1775761200-1775764800@hlcc.org
SUMMARY:Stitching
DESCRIPTION:
URL:https://hlcc.org/event/stitching/2026-04-09/
LOCATION:Clubhouse
CATEGORIES:Activities
ORGANIZER;CN="Activities":MAILTO:info@hcc.org
END:VEVENT
BEGIN:VEVENT
DTSTART;TZID=UTC:20260409T190000
DTEND;TZID=UTC:20260409T203000
DTSTAMP:20260424T235124
CREATED:20260205T181724Z
LAST-MODIFIED:20260205T185406Z
UID:10011042-1775761200-1775766600@hlcc.org
SUMMARY:Chess Club
DESCRIPTION:
URL:https://hlcc.org/event/chess-club-2/2026-04-09/
CATEGORIES:Activities
ATTACH;FMTTYPE=image/jpeg:https://hlcc.org/wp-content/uploads/2026/02/2026-chess-1.jpg
END:VEVENT
BEGIN:VEVENT
DTSTART;TZID=UTC:20260410T100000
DTEND;TZID=UTC:20260410T120000
DTSTAMP:20260424T235124
CREATED:20250828T152345Z
LAST-MODIFIED:20250828T152345Z
UID:10005359-1775815200-1775822400@hlcc.org
SUMMARY:Pickleball - Fridays
DESCRIPTION:
URL:https://hlcc.org/event/pickleball-3/2026-04-10/
LOCATION:Clubhouse
CATEGORIES:Activities
ORGANIZER;CN="Activities":MAILTO:info@hcc.org
END:VEVENT
BEGIN:VEVENT
DTSTART;TZID=UTC:20260410T183000
DTEND;TZID=UTC:20260410T193000
DTSTAMP:20260424T235124
CREATED:20260331T171642Z
LAST-MODIFIED:20260331T171642Z
UID:10011807-1775845800-1775849400@hlcc.org
SUMMARY:Bunco
DESCRIPTION:
URL:https://hlcc.org/event/bunco-12/
CATEGORIES:Activities
END:VEVENT
BEGIN:VEVENT
DTSTART;TZID=UTC:20260410T193000
DTEND;TZID=UTC:20260410T213000
DTSTAMP:20260424T235124
CREATED:20260326T175307Z
LAST-MODIFIED:20260326T175307Z
UID:10011526-1775849400-1775856600@hlcc.org
SUMMARY:Cards at the Clubhouse
DESCRIPTION:
URL:https://hlcc.org/event/cards-at-the-clubhouse/2026-04-10/
CATEGORIES:Activities
END:VEVENT
BEGIN:VEVENT
DTSTART;TZID=UTC:20260413T140000
DTEND;TZID=UTC:20260413T160000
DTSTAMP:20260424T235124
CREATED:20260325T155753Z
LAST-MODIFIED:20260325T155753Z
UID:10011501-1776088800-1776096000@hlcc.org
SUMMARY:Pickleball
DESCRIPTION:
URL:https://hlcc.org/event/pickleball-4/2026-04-13/
CATEGORIES:Activities
END:VEVENT
BEGIN:VEVENT
DTSTART;TZID=UTC:20260413T170000
DTEND;TZID=UTC:20260413T180000
DTSTAMP:20260424T235124
CREATED:20250828T152335Z
LAST-MODIFIED:20250828T152335Z
UID:10000392-1776099600-1776103200@hlcc.org
SUMMARY:Yoga
DESCRIPTION:
URL:https://hlcc.org/event/yoga-2/2026-04-13/
LOCATION:Lake Room\, Highland Lakes\, NJ\, United States
CATEGORIES:Activities
ATTACH;FMTTYPE=image/jpeg:https://hlcc.org/wp-content/uploads/2022/12/2022-HLCC-Social-Media-v2-8.jpg
ORGANIZER;CN="Activities":MAILTO:info@hcc.org
END:VEVENT
BEGIN:VEVENT
DTSTART;TZID=UTC:20260413T180000
DTEND;TZID=UTC:20260413T190000
DTSTAMP:20260424T235124
CREATED:20260331T171733Z
LAST-MODIFIED:20260331T171733Z
UID:10011808-1776103200-1776106800@hlcc.org
SUMMARY:Ceramics
DESCRIPTION:
URL:https://hlcc.org/event/ceramics-2/2026-04-13/
CATEGORIES:Activities
END:VEVENT
BEGIN:VEVENT
DTSTART;TZID=UTC:20260414T093000
DTEND;TZID=UTC:20260414T113000
DTSTAMP:20260424T235124
CREATED:20260120T190858Z
LAST-MODIFIED:20260120T190859Z
UID:10010874-1776159000-1776166200@hlcc.org
SUMMARY:Playgroup Under 5
DESCRIPTION:
URL:https://hlcc.org/event/playgroup-under-5-5/2026-04-14/
CATEGORIES:Activities
ATTACH;FMTTYPE=image/jpeg:https://hlcc.org/wp-content/uploads/2026/01/2026-playgroup-1.jpg
END:VEVENT
BEGIN:VEVENT
DTSTART;TZID=UTC:20260415T140000
DTEND;TZID=UTC:20260415T160000
DTSTAMP:20260424T235124
CREATED:20260325T155753Z
LAST-MODIFIED:20260325T155753Z
UID:10011502-1776261600-1776268800@hlcc.org
SUMMARY:Pickleball
DESCRIPTION:
URL:https://hlcc.org/event/pickleball-4/2026-04-15/
CATEGORIES:Activities
END:VEVENT
BEGIN:VEVENT
DTSTART;TZID=UTC:20260415T170000
DTEND;TZID=UTC:20260415T180000
DTSTAMP:20260424T235124
CREATED:20250828T152335Z
LAST-MODIFIED:20250828T152335Z
UID:10000393-1776272400-1776276000@hlcc.org
SUMMARY:Yoga
DESCRIPTION:
URL:https://hlcc.org/event/yoga-2/2026-04-15/
LOCATION:Lake Room\, Highland Lakes\, NJ\, United States
CATEGORIES:Activities
ATTACH;FMTTYPE=image/jpeg:https://hlcc.org/wp-content/uploads/2022/12/2022-HLCC-Social-Media-v2-8.jpg
ORGANIZER;CN="Activities":MAILTO:info@hcc.org
END:VEVENT
BEGIN:VEVENT
DTSTART;TZID=UTC:20260415T190000
DTEND;TZID=UTC:20260415T210000
DTSTAMP:20260424T235124
CREATED:20260325T151643Z
LAST-MODIFIED:20260325T151644Z
UID:10011451-1776279600-1776286800@hlcc.org
SUMMARY:Darts
DESCRIPTION:
URL:https://hlcc.org/event/darts-3/2026-04-15/
CATEGORIES:Activities
ATTACH;FMTTYPE=image/jpeg:https://hlcc.org/wp-content/uploads/2026/03/2026-darts.jpg
END:VEVENT
BEGIN:VEVENT
DTSTART;TZID=UTC:20260416T080000
DTEND;TZID=UTC:20260416T093000
DTSTAMP:20260424T235124
CREATED:20250828T152339Z
LAST-MODIFIED:20250828T152339Z
UID:10003946-1776326400-1776331800@hlcc.org
SUMMARY:Yoga & Meditation
DESCRIPTION:
URL:https://hlcc.org/event/yoga-meditation/2026-04-16/
LOCATION:Clubhouse
CATEGORIES:Activities
ORGANIZER;CN="Activities":MAILTO:info@hcc.org
END:VEVENT
BEGIN:VEVENT
DTSTART;TZID=UTC:20260416T190000
DTEND;TZID=UTC:20260416T200000
DTSTAMP:20260424T235124
CREATED:20250828T152334Z
LAST-MODIFIED:20250828T152334Z
UID:10001005-1776366000-1776369600@hlcc.org
SUMMARY:Stitching
DESCRIPTION:
URL:https://hlcc.org/event/stitching/2026-04-16/
LOCATION:Clubhouse
CATEGORIES:Activities
ORGANIZER;CN="Activities":MAILTO:info@hcc.org
END:VEVENT
BEGIN:VEVENT
DTSTART;TZID=UTC:20260416T190000
DTEND;TZID=UTC:20260416T203000
DTSTAMP:20260424T235124
CREATED:20260205T181724Z
LAST-MODIFIED:20260205T185406Z
UID:10011043-1776366000-1776371400@hlcc.org
SUMMARY:Chess Club
DESCRIPTION:
URL:https://hlcc.org/event/chess-club-2/2026-04-16/
CATEGORIES:Activities
ATTACH;FMTTYPE=image/jpeg:https://hlcc.org/wp-content/uploads/2026/02/2026-chess-1.jpg
END:VEVENT
BEGIN:VEVENT
DTSTART;TZID=UTC:20260417T100000
DTEND;TZID=UTC:20260417T120000
DTSTAMP:20260424T235124
CREATED:20250828T152345Z
LAST-MODIFIED:20250828T152345Z
UID:10005360-1776420000-1776427200@hlcc.org
SUMMARY:Pickleball - Fridays
DESCRIPTION:
URL:https://hlcc.org/event/pickleball-3/2026-04-17/
LOCATION:Clubhouse
CATEGORIES:Activities
ORGANIZER;CN="Activities":MAILTO:info@hcc.org
END:VEVENT
BEGIN:VEVENT
DTSTART;TZID=UTC:20260417T193000
DTEND;TZID=UTC:20260417T213000
DTSTAMP:20260424T235124
CREATED:20260326T175307Z
LAST-MODIFIED:20260326T175307Z
UID:10011527-1776454200-1776461400@hlcc.org
SUMMARY:Cards at the Clubhouse
DESCRIPTION:
URL:https://hlcc.org/event/cards-at-the-clubhouse/2026-04-17/
CATEGORIES:Activities
END:VEVENT
BEGIN:VEVENT
DTSTART;TZID=UTC:20260420T140000
DTEND;TZID=UTC:20260420T160000
DTSTAMP:20260424T235124
CREATED:20260325T155753Z
LAST-MODIFIED:20260325T155753Z
UID:10011503-1776693600-1776700800@hlcc.org
SUMMARY:Pickleball
DESCRIPTION:
URL:https://hlcc.org/event/pickleball-4/2026-04-20/
CATEGORIES:Activities
END:VEVENT
BEGIN:VEVENT
DTSTART;TZID=UTC:20260420T170000
DTEND;TZID=UTC:20260420T180000
DTSTAMP:20260424T235124
CREATED:20250828T152335Z
LAST-MODIFIED:20250828T152335Z
UID:10000394-1776704400-1776708000@hlcc.org
SUMMARY:Yoga
DESCRIPTION:
URL:https://hlcc.org/event/yoga-2/2026-04-20/
LOCATION:Lake Room\, Highland Lakes\, NJ\, United States
CATEGORIES:Activities
ATTACH;FMTTYPE=image/jpeg:https://hlcc.org/wp-content/uploads/2022/12/2022-HLCC-Social-Media-v2-8.jpg
ORGANIZER;CN="Activities":MAILTO:info@hcc.org
END:VEVENT
BEGIN:VEVENT
DTSTART;TZID=UTC:20260420T180000
DTEND;TZID=UTC:20260420T190000
DTSTAMP:20260424T235124
CREATED:20260331T171733Z
LAST-MODIFIED:20260331T171733Z
UID:10011809-1776708000-1776711600@hlcc.org
SUMMARY:Ceramics
DESCRIPTION:
URL:https://hlcc.org/event/ceramics-2/2026-04-20/
CATEGORIES:Activities
END:VEVENT
BEGIN:VEVENT
DTSTART;TZID=UTC:20260421T093000
DTEND;TZID=UTC:20260421T113000
DTSTAMP:20260424T235124
CREATED:20260120T190858Z
LAST-MODIFIED:20260120T190859Z
UID:10010875-1776763800-1776771000@hlcc.org
SUMMARY:Playgroup Under 5
DESCRIPTION:
URL:https://hlcc.org/event/playgroup-under-5-5/2026-04-21/
CATEGORIES:Activities
ATTACH;FMTTYPE=image/jpeg:https://hlcc.org/wp-content/uploads/2026/01/2026-playgroup-1.jpg
END:VEVENT
BEGIN:VEVENT
DTSTART;TZID=UTC:20260422T140000
DTEND;TZID=UTC:20260422T160000
DTSTAMP:20260424T235124
CREATED:20260325T155753Z
LAST-MODIFIED:20260325T155753Z
UID:10011504-1776866400-1776873600@hlcc.org
SUMMARY:Pickleball
DESCRIPTION:
URL:https://hlcc.org/event/pickleball-4/2026-04-22/
CATEGORIES:Activities
END:VEVENT
BEGIN:VEVENT
DTSTART;TZID=UTC:20260422T170000
DTEND;TZID=UTC:20260422T180000
DTSTAMP:20260424T235124
CREATED:20250828T152335Z
LAST-MODIFIED:20250828T152335Z
UID:10000395-1776877200-1776880800@hlcc.org
SUMMARY:Yoga
DESCRIPTION:
URL:https://hlcc.org/event/yoga-2/2026-04-22/
LOCATION:Lake Room\, Highland Lakes\, NJ\, United States
CATEGORIES:Activities
ATTACH;FMTTYPE=image/jpeg:https://hlcc.org/wp-content/uploads/2022/12/2022-HLCC-Social-Media-v2-8.jpg
ORGANIZER;CN="Activities":MAILTO:info@hcc.org
END:VEVENT
BEGIN:VEVENT
DTSTART;TZID=UTC:20260422T173000
DTEND;TZID=UTC:20260422T183000
DTSTAMP:20260424T235124
CREATED:20260331T172351Z
LAST-MODIFIED:20260331T172351Z
UID:10011846-1776879000-1776882600@hlcc.org
SUMMARY:Scouts
DESCRIPTION:
URL:https://hlcc.org/event/scouts-15/
CATEGORIES:Activities
END:VEVENT
END:VCALENDAR