BEGIN:VCALENDAR
VERSION:2.0
PRODID:-//Highland Lakes Country Club and Community Association - ECPv6.15.20//NONSGML v1.0//EN
CALSCALE:GREGORIAN
METHOD:PUBLISH
X-WR-CALNAME:Highland Lakes Country Club and Community Association
X-ORIGINAL-URL:https://hlcc.org
X-WR-CALDESC:Events for Highland Lakes Country Club and Community Association
REFRESH-INTERVAL;VALUE=DURATION:PT1H
X-Robots-Tag:noindex
X-PUBLISHED-TTL:PT1H
BEGIN:VTIMEZONE
TZID:UTC
BEGIN:STANDARD
TZOFFSETFROM:+0000
TZOFFSETTO:+0000
TZNAME:UTC
DTSTART:20250101T000000
END:STANDARD
END:VTIMEZONE
BEGIN:VEVENT
DTSTART;TZID=UTC:20260522T193000
DTEND;TZID=UTC:20260522T213000
DTSTAMP:20260425T041618
CREATED:20260326T175307Z
LAST-MODIFIED:20260326T175307Z
UID:10011532-1779478200-1779485400@hlcc.org
SUMMARY:Cards at the Clubhouse
DESCRIPTION:
URL:https://hlcc.org/event/cards-at-the-clubhouse/2026-05-22/
CATEGORIES:Activities
END:VEVENT
BEGIN:VEVENT
DTSTART;TZID=UTC:20260525T140000
DTEND;TZID=UTC:20260525T160000
DTSTAMP:20260425T041618
CREATED:20260325T155753Z
LAST-MODIFIED:20260325T155753Z
UID:10011513-1779717600-1779724800@hlcc.org
SUMMARY:Pickleball
DESCRIPTION:
URL:https://hlcc.org/event/pickleball-4/2026-05-25/
CATEGORIES:Activities
END:VEVENT
BEGIN:VEVENT
DTSTART;TZID=UTC:20260525T170000
DTEND;TZID=UTC:20260525T180000
DTSTAMP:20260425T041618
CREATED:20250828T152335Z
LAST-MODIFIED:20250828T152335Z
UID:10000404-1779728400-1779732000@hlcc.org
SUMMARY:Yoga
DESCRIPTION:
URL:https://hlcc.org/event/yoga-2/2026-05-25/
LOCATION:Lake Room\, Highland Lakes\, NJ\, United States
CATEGORIES:Activities
ATTACH;FMTTYPE=image/jpeg:https://hlcc.org/wp-content/uploads/2022/12/2022-HLCC-Social-Media-v2-8.jpg
ORGANIZER;CN="Activities":MAILTO:info@hcc.org
END:VEVENT
BEGIN:VEVENT
DTSTART;TZID=UTC:20260525T180000
DTEND;TZID=UTC:20260525T190000
DTSTAMP:20260425T041618
CREATED:20260331T171733Z
LAST-MODIFIED:20260331T171733Z
UID:10011814-1779732000-1779735600@hlcc.org
SUMMARY:Ceramics
DESCRIPTION:
URL:https://hlcc.org/event/ceramics-2/2026-05-25/
CATEGORIES:Activities
END:VEVENT
BEGIN:VEVENT
DTSTART;TZID=UTC:20260526T093000
DTEND;TZID=UTC:20260526T113000
DTSTAMP:20260425T041618
CREATED:20260120T190858Z
LAST-MODIFIED:20260120T190859Z
UID:10010880-1779787800-1779795000@hlcc.org
SUMMARY:Playgroup Under 5
DESCRIPTION:
URL:https://hlcc.org/event/playgroup-under-5-5/2026-05-26/
CATEGORIES:Activities
ATTACH;FMTTYPE=image/jpeg:https://hlcc.org/wp-content/uploads/2026/01/2026-playgroup-1.jpg
END:VEVENT
BEGIN:VEVENT
DTSTART;TZID=UTC:20260527T170000
DTEND;TZID=UTC:20260527T180000
DTSTAMP:20260425T041618
CREATED:20250828T152335Z
LAST-MODIFIED:20250828T152335Z
UID:10000405-1779901200-1779904800@hlcc.org
SUMMARY:Yoga
DESCRIPTION:
URL:https://hlcc.org/event/yoga-2/2026-05-27/
LOCATION:Lake Room\, Highland Lakes\, NJ\, United States
CATEGORIES:Activities
ATTACH;FMTTYPE=image/jpeg:https://hlcc.org/wp-content/uploads/2022/12/2022-HLCC-Social-Media-v2-8.jpg
ORGANIZER;CN="Activities":MAILTO:info@hcc.org
END:VEVENT
BEGIN:VEVENT
DTSTART;TZID=UTC:20260527T190000
DTEND;TZID=UTC:20260527T210000
DTSTAMP:20260425T041618
CREATED:20260325T151643Z
LAST-MODIFIED:20260325T151644Z
UID:10011457-1779908400-1779915600@hlcc.org
SUMMARY:Darts
DESCRIPTION:
URL:https://hlcc.org/event/darts-3/2026-05-27/
CATEGORIES:Activities
ATTACH;FMTTYPE=image/jpeg:https://hlcc.org/wp-content/uploads/2026/03/2026-darts.jpg
END:VEVENT
BEGIN:VEVENT
DTSTART;TZID=UTC:20260528T080000
DTEND;TZID=UTC:20260528T093000
DTSTAMP:20260425T041618
CREATED:20250828T152339Z
LAST-MODIFIED:20250828T152339Z
UID:10003952-1779955200-1779960600@hlcc.org
SUMMARY:Yoga & Meditation
DESCRIPTION:
URL:https://hlcc.org/event/yoga-meditation/2026-05-28/
LOCATION:Clubhouse
CATEGORIES:Activities
ORGANIZER;CN="Activities":MAILTO:info@hcc.org
END:VEVENT
BEGIN:VEVENT
DTSTART;TZID=UTC:20260528T190000
DTEND;TZID=UTC:20260528T200000
DTSTAMP:20260425T041618
CREATED:20250828T152334Z
LAST-MODIFIED:20250828T152334Z
UID:10001011-1779994800-1779998400@hlcc.org
SUMMARY:Stitching
DESCRIPTION:
URL:https://hlcc.org/event/stitching/2026-05-28/
LOCATION:Clubhouse
CATEGORIES:Activities
ORGANIZER;CN="Activities":MAILTO:info@hcc.org
END:VEVENT
BEGIN:VEVENT
DTSTART;TZID=UTC:20260528T190000
DTEND;TZID=UTC:20260528T203000
DTSTAMP:20260425T041618
CREATED:20260205T181724Z
LAST-MODIFIED:20260205T185406Z
UID:10011049-1779994800-1780000200@hlcc.org
SUMMARY:Chess Club
DESCRIPTION:
URL:https://hlcc.org/event/chess-club-2/2026-05-28/
CATEGORIES:Activities
ATTACH;FMTTYPE=image/jpeg:https://hlcc.org/wp-content/uploads/2026/02/2026-chess-1.jpg
END:VEVENT
BEGIN:VEVENT
DTSTART;TZID=UTC:20260529T100000
DTEND;TZID=UTC:20260529T120000
DTSTAMP:20260425T041618
CREATED:20250828T152345Z
LAST-MODIFIED:20250828T152345Z
UID:10005366-1780048800-1780056000@hlcc.org
SUMMARY:Pickleball - Fridays
DESCRIPTION:
URL:https://hlcc.org/event/pickleball-3/2026-05-29/
LOCATION:Clubhouse
CATEGORIES:Activities
ORGANIZER;CN="Activities":MAILTO:info@hcc.org
END:VEVENT
BEGIN:VEVENT
DTSTART;TZID=UTC:20260529T193000
DTEND;TZID=UTC:20260529T213000
DTSTAMP:20260425T041618
CREATED:20260326T175307Z
LAST-MODIFIED:20260326T175307Z
UID:10011533-1780083000-1780090200@hlcc.org
SUMMARY:Cards at the Clubhouse
DESCRIPTION:
URL:https://hlcc.org/event/cards-at-the-clubhouse/2026-05-29/
CATEGORIES:Activities
END:VEVENT
BEGIN:VEVENT
DTSTART;TZID=UTC:20260601T170000
DTEND;TZID=UTC:20260601T180000
DTSTAMP:20260425T041618
CREATED:20250828T152335Z
LAST-MODIFIED:20250828T152335Z
UID:10000406-1780333200-1780336800@hlcc.org
SUMMARY:Yoga
DESCRIPTION:
URL:https://hlcc.org/event/yoga-2/2026-06-01/
LOCATION:Lake Room\, Highland Lakes\, NJ\, United States
CATEGORIES:Activities
ATTACH;FMTTYPE=image/jpeg:https://hlcc.org/wp-content/uploads/2022/12/2022-HLCC-Social-Media-v2-8.jpg
ORGANIZER;CN="Activities":MAILTO:info@hcc.org
END:VEVENT
BEGIN:VEVENT
DTSTART;TZID=UTC:20260601T180000
DTEND;TZID=UTC:20260601T190000
DTSTAMP:20260425T041618
CREATED:20260331T171733Z
LAST-MODIFIED:20260331T171733Z
UID:10011815-1780336800-1780340400@hlcc.org
SUMMARY:Ceramics
DESCRIPTION:
URL:https://hlcc.org/event/ceramics-2/2026-06-01/
CATEGORIES:Activities
END:VEVENT
BEGIN:VEVENT
DTSTART;TZID=UTC:20260602T093000
DTEND;TZID=UTC:20260602T113000
DTSTAMP:20260425T041618
CREATED:20260120T190858Z
LAST-MODIFIED:20260120T190859Z
UID:10010881-1780392600-1780399800@hlcc.org
SUMMARY:Playgroup Under 5
DESCRIPTION:
URL:https://hlcc.org/event/playgroup-under-5-5/2026-06-02/
CATEGORIES:Activities
ATTACH;FMTTYPE=image/jpeg:https://hlcc.org/wp-content/uploads/2026/01/2026-playgroup-1.jpg
END:VEVENT
BEGIN:VEVENT
DTSTART;TZID=UTC:20260603T170000
DTEND;TZID=UTC:20260603T180000
DTSTAMP:20260425T041618
CREATED:20250828T152335Z
LAST-MODIFIED:20250828T152335Z
UID:10000407-1780506000-1780509600@hlcc.org
SUMMARY:Yoga
DESCRIPTION:
URL:https://hlcc.org/event/yoga-2/2026-06-03/
LOCATION:Lake Room\, Highland Lakes\, NJ\, United States
CATEGORIES:Activities
ATTACH;FMTTYPE=image/jpeg:https://hlcc.org/wp-content/uploads/2022/12/2022-HLCC-Social-Media-v2-8.jpg
ORGANIZER;CN="Activities":MAILTO:info@hcc.org
END:VEVENT
BEGIN:VEVENT
DTSTART;TZID=UTC:20260603T173000
DTEND;TZID=UTC:20260603T193000
DTSTAMP:20260425T041618
CREATED:20251030T145112Z
LAST-MODIFIED:20251030T145112Z
UID:10010721-1780507800-1780515000@hlcc.org
SUMMARY:Scouts
DESCRIPTION:
URL:https://hlcc.org/event/scouts-3/2026-06-03/
CATEGORIES:Activities
END:VEVENT
BEGIN:VEVENT
DTSTART;TZID=UTC:20260603T190000
DTEND;TZID=UTC:20260603T210000
DTSTAMP:20260425T041618
CREATED:20260325T151643Z
LAST-MODIFIED:20260325T151644Z
UID:10011458-1780513200-1780520400@hlcc.org
SUMMARY:Darts
DESCRIPTION:
URL:https://hlcc.org/event/darts-3/2026-06-03/
CATEGORIES:Activities
ATTACH;FMTTYPE=image/jpeg:https://hlcc.org/wp-content/uploads/2026/03/2026-darts.jpg
END:VEVENT
BEGIN:VEVENT
DTSTART;TZID=UTC:20260604T080000
DTEND;TZID=UTC:20260604T093000
DTSTAMP:20260425T041618
CREATED:20250828T152339Z
LAST-MODIFIED:20250828T152339Z
UID:10003953-1780560000-1780565400@hlcc.org
SUMMARY:Yoga & Meditation
DESCRIPTION:
URL:https://hlcc.org/event/yoga-meditation/2026-06-04/
LOCATION:Clubhouse
CATEGORIES:Activities
ORGANIZER;CN="Activities":MAILTO:info@hcc.org
END:VEVENT
BEGIN:VEVENT
DTSTART;TZID=UTC:20260604T190000
DTEND;TZID=UTC:20260604T200000
DTSTAMP:20260425T041618
CREATED:20250828T152334Z
LAST-MODIFIED:20250828T152334Z
UID:10001012-1780599600-1780603200@hlcc.org
SUMMARY:Stitching
DESCRIPTION:
URL:https://hlcc.org/event/stitching/2026-06-04/
LOCATION:Clubhouse
CATEGORIES:Activities
ORGANIZER;CN="Activities":MAILTO:info@hcc.org
END:VEVENT
BEGIN:VEVENT
DTSTART;TZID=UTC:20260604T190000
DTEND;TZID=UTC:20260604T203000
DTSTAMP:20260425T041618
CREATED:20260205T181724Z
LAST-MODIFIED:20260205T185406Z
UID:10011050-1780599600-1780605000@hlcc.org
SUMMARY:Chess Club
DESCRIPTION:
URL:https://hlcc.org/event/chess-club-2/2026-06-04/
CATEGORIES:Activities
ATTACH;FMTTYPE=image/jpeg:https://hlcc.org/wp-content/uploads/2026/02/2026-chess-1.jpg
END:VEVENT
BEGIN:VEVENT
DTSTART;TZID=UTC:20260605T100000
DTEND;TZID=UTC:20260605T120000
DTSTAMP:20260425T041618
CREATED:20250828T152345Z
LAST-MODIFIED:20250828T152345Z
UID:10005367-1780653600-1780660800@hlcc.org
SUMMARY:Pickleball - Fridays
DESCRIPTION:
URL:https://hlcc.org/event/pickleball-3/2026-06-05/
LOCATION:Clubhouse
CATEGORIES:Activities
ORGANIZER;CN="Activities":MAILTO:info@hcc.org
END:VEVENT
BEGIN:VEVENT
DTSTART;TZID=UTC:20260605T183000
DTEND;TZID=UTC:20260605T193000
DTSTAMP:20260425T041618
CREATED:20260113T180034Z
LAST-MODIFIED:20260113T180034Z
UID:10010854-1780684200-1780687800@hlcc.org
SUMMARY:Bunco
DESCRIPTION:
URL:https://hlcc.org/event/bunco-11/2026-06-05/
CATEGORIES:Activities
END:VEVENT
BEGIN:VEVENT
DTSTART;TZID=UTC:20260605T193000
DTEND;TZID=UTC:20260605T213000
DTSTAMP:20260425T041618
CREATED:20260326T175307Z
LAST-MODIFIED:20260326T175307Z
UID:10011534-1780687800-1780695000@hlcc.org
SUMMARY:Cards at the Clubhouse
DESCRIPTION:
URL:https://hlcc.org/event/cards-at-the-clubhouse/2026-06-05/
CATEGORIES:Activities
END:VEVENT
BEGIN:VEVENT
DTSTART;TZID=UTC:20260608T170000
DTEND;TZID=UTC:20260608T180000
DTSTAMP:20260425T041618
CREATED:20250828T152335Z
LAST-MODIFIED:20250828T152335Z
UID:10000408-1780938000-1780941600@hlcc.org
SUMMARY:Yoga
DESCRIPTION:
URL:https://hlcc.org/event/yoga-2/2026-06-08/
LOCATION:Lake Room\, Highland Lakes\, NJ\, United States
CATEGORIES:Activities
ATTACH;FMTTYPE=image/jpeg:https://hlcc.org/wp-content/uploads/2022/12/2022-HLCC-Social-Media-v2-8.jpg
ORGANIZER;CN="Activities":MAILTO:info@hcc.org
END:VEVENT
BEGIN:VEVENT
DTSTART;TZID=UTC:20260608T180000
DTEND;TZID=UTC:20260608T190000
DTSTAMP:20260425T041618
CREATED:20260331T171733Z
LAST-MODIFIED:20260331T171733Z
UID:10011816-1780941600-1780945200@hlcc.org
SUMMARY:Ceramics
DESCRIPTION:
URL:https://hlcc.org/event/ceramics-2/2026-06-08/
CATEGORIES:Activities
END:VEVENT
BEGIN:VEVENT
DTSTART;TZID=UTC:20260609T093000
DTEND;TZID=UTC:20260609T113000
DTSTAMP:20260425T041618
CREATED:20260120T190858Z
LAST-MODIFIED:20260120T190859Z
UID:10010882-1780997400-1781004600@hlcc.org
SUMMARY:Playgroup Under 5
DESCRIPTION:
URL:https://hlcc.org/event/playgroup-under-5-5/2026-06-09/
CATEGORIES:Activities
ATTACH;FMTTYPE=image/jpeg:https://hlcc.org/wp-content/uploads/2026/01/2026-playgroup-1.jpg
END:VEVENT
BEGIN:VEVENT
DTSTART;TZID=UTC:20260610T170000
DTEND;TZID=UTC:20260610T180000
DTSTAMP:20260425T041618
CREATED:20250828T152335Z
LAST-MODIFIED:20250828T152335Z
UID:10000409-1781110800-1781114400@hlcc.org
SUMMARY:Yoga
DESCRIPTION:
URL:https://hlcc.org/event/yoga-2/2026-06-10/
LOCATION:Lake Room\, Highland Lakes\, NJ\, United States
CATEGORIES:Activities
ATTACH;FMTTYPE=image/jpeg:https://hlcc.org/wp-content/uploads/2022/12/2022-HLCC-Social-Media-v2-8.jpg
ORGANIZER;CN="Activities":MAILTO:info@hcc.org
END:VEVENT
BEGIN:VEVENT
DTSTART;TZID=UTC:20260610T190000
DTEND;TZID=UTC:20260610T210000
DTSTAMP:20260425T041618
CREATED:20260325T151643Z
LAST-MODIFIED:20260325T151644Z
UID:10011459-1781118000-1781125200@hlcc.org
SUMMARY:Darts
DESCRIPTION:
URL:https://hlcc.org/event/darts-3/2026-06-10/
CATEGORIES:Activities
ATTACH;FMTTYPE=image/jpeg:https://hlcc.org/wp-content/uploads/2026/03/2026-darts.jpg
END:VEVENT
BEGIN:VEVENT
DTSTART;TZID=UTC:20260611T080000
DTEND;TZID=UTC:20260611T093000
DTSTAMP:20260425T041618
CREATED:20250828T152339Z
LAST-MODIFIED:20250828T152339Z
UID:10003954-1781164800-1781170200@hlcc.org
SUMMARY:Yoga & Meditation
DESCRIPTION:
URL:https://hlcc.org/event/yoga-meditation/2026-06-11/
LOCATION:Clubhouse
CATEGORIES:Activities
ORGANIZER;CN="Activities":MAILTO:info@hcc.org
END:VEVENT
END:VCALENDAR