BEGIN:VCALENDAR
VERSION:2.0
PRODID:-//Highland Lakes Country Club and Community Association - ECPv6.15.20//NONSGML v1.0//EN
CALSCALE:GREGORIAN
METHOD:PUBLISH
X-ORIGINAL-URL:https://hlcc.org
X-WR-CALDESC:Events for Highland Lakes Country Club and Community Association
REFRESH-INTERVAL;VALUE=DURATION:PT1H
X-Robots-Tag:noindex
X-PUBLISHED-TTL:PT1H
BEGIN:VTIMEZONE
TZID:UTC
BEGIN:STANDARD
TZOFFSETFROM:+0000
TZOFFSETTO:+0000
TZNAME:UTC
DTSTART:20250101T000000
END:STANDARD
END:VTIMEZONE
BEGIN:VEVENT
DTSTART;TZID=UTC:20260206T193000
DTEND;TZID=UTC:20260206T213000
DTSTAMP:20260424T235143
CREATED:20260326T175307Z
LAST-MODIFIED:20260326T175307Z
UID:10011517-1770406200-1770413400@hlcc.org
SUMMARY:Cards at the Clubhouse
DESCRIPTION:
URL:https://hlcc.org/event/cards-at-the-clubhouse/2026-02-06/
CATEGORIES:Activities
END:VEVENT
BEGIN:VEVENT
DTSTART;TZID=UTC:20260209T140000
DTEND;TZID=UTC:20260209T160000
DTSTAMP:20260424T235143
CREATED:20251120T145155Z
LAST-MODIFIED:20251120T145239Z
UID:10010843-1770645600-1770652800@hlcc.org
SUMMARY:Pickle Ball - Winter
DESCRIPTION:
URL:https://hlcc.org/event/pickle-ball-winter-2-2/2026-02-09/
CATEGORIES:Activities
END:VEVENT
BEGIN:VEVENT
DTSTART;TZID=UTC:20260209T170000
DTEND;TZID=UTC:20260209T180000
DTSTAMP:20260424T235143
CREATED:20250828T152335Z
LAST-MODIFIED:20250828T152335Z
UID:10000374-1770656400-1770660000@hlcc.org
SUMMARY:Yoga
DESCRIPTION:
URL:https://hlcc.org/event/yoga-2/2026-02-09/
LOCATION:Lake Room\, Highland Lakes\, NJ\, United States
CATEGORIES:Activities
ATTACH;FMTTYPE=image/jpeg:https://hlcc.org/wp-content/uploads/2022/12/2022-HLCC-Social-Media-v2-8.jpg
ORGANIZER;CN="Activities":MAILTO:info@hcc.org
END:VEVENT
BEGIN:VEVENT
DTSTART;TZID=UTC:20260210T093000
DTEND;TZID=UTC:20260210T113000
DTSTAMP:20260424T235143
CREATED:20260120T185036Z
LAST-MODIFIED:20260120T185036Z
UID:10010866-1770715800-1770723000@hlcc.org
SUMMARY:Playgroup Under 5 - Valentine Party
DESCRIPTION:
URL:https://hlcc.org/event/playgroup-under-5-valentine-party/
CATEGORIES:Activities
ATTACH;FMTTYPE=image/jpeg:https://hlcc.org/wp-content/uploads/2026/01/2-10-2026-PG-valentines-day.jpg
END:VEVENT
BEGIN:VEVENT
DTSTART;TZID=UTC:20260211T140000
DTEND;TZID=UTC:20260211T160000
DTSTAMP:20260424T235143
CREATED:20251120T145155Z
LAST-MODIFIED:20251120T145239Z
UID:10010844-1770818400-1770825600@hlcc.org
SUMMARY:Pickle Ball - Winter
DESCRIPTION:
URL:https://hlcc.org/event/pickle-ball-winter-2-2/2026-02-11/
CATEGORIES:Activities
END:VEVENT
BEGIN:VEVENT
DTSTART;TZID=UTC:20260211T170000
DTEND;TZID=UTC:20260211T180000
DTSTAMP:20260424T235143
CREATED:20250828T152335Z
LAST-MODIFIED:20250828T152335Z
UID:10000375-1770829200-1770832800@hlcc.org
SUMMARY:Yoga
DESCRIPTION:
URL:https://hlcc.org/event/yoga-2/2026-02-11/
LOCATION:Lake Room\, Highland Lakes\, NJ\, United States
CATEGORIES:Activities
ATTACH;FMTTYPE=image/jpeg:https://hlcc.org/wp-content/uploads/2022/12/2022-HLCC-Social-Media-v2-8.jpg
ORGANIZER;CN="Activities":MAILTO:info@hcc.org
END:VEVENT
BEGIN:VEVENT
DTSTART;TZID=UTC:20260211T190000
DTEND;TZID=UTC:20260211T210000
DTSTAMP:20260424T235143
CREATED:20260325T151643Z
LAST-MODIFIED:20260325T151644Z
UID:10011442-1770836400-1770843600@hlcc.org
SUMMARY:Darts
DESCRIPTION:
URL:https://hlcc.org/event/darts-3/2026-02-11/
CATEGORIES:Activities
ATTACH;FMTTYPE=image/jpeg:https://hlcc.org/wp-content/uploads/2026/03/2026-darts.jpg
END:VEVENT
BEGIN:VEVENT
DTSTART;TZID=UTC:20260212T080000
DTEND;TZID=UTC:20260212T093000
DTSTAMP:20260424T235143
CREATED:20250828T152339Z
LAST-MODIFIED:20250828T152339Z
UID:10003937-1770883200-1770888600@hlcc.org
SUMMARY:Yoga & Meditation
DESCRIPTION:
URL:https://hlcc.org/event/yoga-meditation/2026-02-12/
LOCATION:Clubhouse
CATEGORIES:Activities
ORGANIZER;CN="Activities":MAILTO:info@hcc.org
END:VEVENT
BEGIN:VEVENT
DTSTART;TZID=UTC:20260212T190000
DTEND;TZID=UTC:20260212T200000
DTSTAMP:20260424T235143
CREATED:20250828T152334Z
LAST-MODIFIED:20250828T152334Z
UID:10000996-1770922800-1770926400@hlcc.org
SUMMARY:Stitching
DESCRIPTION:
URL:https://hlcc.org/event/stitching/2026-02-12/
LOCATION:Clubhouse
CATEGORIES:Activities
ORGANIZER;CN="Activities":MAILTO:info@hcc.org
END:VEVENT
BEGIN:VEVENT
DTSTART;TZID=UTC:20260212T190000
DTEND;TZID=UTC:20260212T203000
DTSTAMP:20260424T235143
CREATED:20260205T181724Z
LAST-MODIFIED:20260205T185406Z
UID:10011034-1770922800-1770928200@hlcc.org
SUMMARY:Chess Club
DESCRIPTION:
URL:https://hlcc.org/event/chess-club-2/2026-02-12/
CATEGORIES:Activities
ATTACH;FMTTYPE=image/jpeg:https://hlcc.org/wp-content/uploads/2026/02/2026-chess-1.jpg
END:VEVENT
BEGIN:VEVENT
DTSTART;TZID=UTC:20260213T100000
DTEND;TZID=UTC:20260213T120000
DTSTAMP:20260424T235143
CREATED:20250828T152345Z
LAST-MODIFIED:20250828T152345Z
UID:10005351-1770976800-1770984000@hlcc.org
SUMMARY:Pickleball - Fridays
DESCRIPTION:
URL:https://hlcc.org/event/pickleball-3/2026-02-13/
LOCATION:Clubhouse
CATEGORIES:Activities
ORGANIZER;CN="Activities":MAILTO:info@hcc.org
END:VEVENT
BEGIN:VEVENT
DTSTART;TZID=UTC:20260213T193000
DTEND;TZID=UTC:20260213T213000
DTSTAMP:20260424T235143
CREATED:20260326T175307Z
LAST-MODIFIED:20260326T175307Z
UID:10011518-1771011000-1771018200@hlcc.org
SUMMARY:Cards at the Clubhouse
DESCRIPTION:
URL:https://hlcc.org/event/cards-at-the-clubhouse/2026-02-13/
CATEGORIES:Activities
END:VEVENT
BEGIN:VEVENT
DTSTART;TZID=UTC:20260216T140000
DTEND;TZID=UTC:20260216T160000
DTSTAMP:20260424T235143
CREATED:20251120T145155Z
LAST-MODIFIED:20251120T145239Z
UID:10010845-1771250400-1771257600@hlcc.org
SUMMARY:Pickle Ball - Winter
DESCRIPTION:
URL:https://hlcc.org/event/pickle-ball-winter-2-2/2026-02-16/
CATEGORIES:Activities
END:VEVENT
BEGIN:VEVENT
DTSTART;TZID=UTC:20260216T170000
DTEND;TZID=UTC:20260216T180000
DTSTAMP:20260424T235143
CREATED:20250828T152335Z
LAST-MODIFIED:20250828T152335Z
UID:10000376-1771261200-1771264800@hlcc.org
SUMMARY:Yoga
DESCRIPTION:
URL:https://hlcc.org/event/yoga-2/2026-02-16/
LOCATION:Lake Room\, Highland Lakes\, NJ\, United States
CATEGORIES:Activities
ATTACH;FMTTYPE=image/jpeg:https://hlcc.org/wp-content/uploads/2022/12/2022-HLCC-Social-Media-v2-8.jpg
ORGANIZER;CN="Activities":MAILTO:info@hcc.org
END:VEVENT
BEGIN:VEVENT
DTSTART;TZID=UTC:20260218T140000
DTEND;TZID=UTC:20260218T160000
DTSTAMP:20260424T235143
CREATED:20251120T145155Z
LAST-MODIFIED:20251120T145239Z
UID:10010846-1771423200-1771430400@hlcc.org
SUMMARY:Pickle Ball - Winter
DESCRIPTION:
URL:https://hlcc.org/event/pickle-ball-winter-2-2/2026-02-18/
CATEGORIES:Activities
END:VEVENT
BEGIN:VEVENT
DTSTART;TZID=UTC:20260218T170000
DTEND;TZID=UTC:20260218T180000
DTSTAMP:20260424T235143
CREATED:20250828T152335Z
LAST-MODIFIED:20250828T152335Z
UID:10000377-1771434000-1771437600@hlcc.org
SUMMARY:Yoga
DESCRIPTION:
URL:https://hlcc.org/event/yoga-2/2026-02-18/
LOCATION:Lake Room\, Highland Lakes\, NJ\, United States
CATEGORIES:Activities
ATTACH;FMTTYPE=image/jpeg:https://hlcc.org/wp-content/uploads/2022/12/2022-HLCC-Social-Media-v2-8.jpg
ORGANIZER;CN="Activities":MAILTO:info@hcc.org
END:VEVENT
BEGIN:VEVENT
DTSTART;TZID=UTC:20260218T180000
DTEND;TZID=UTC:20260218T200000
DTSTAMP:20260424T235143
CREATED:20251030T145147Z
LAST-MODIFIED:20251030T145147Z
UID:10010753-1771437600-1771444800@hlcc.org
SUMMARY:Scouts
DESCRIPTION:
URL:https://hlcc.org/event/scouts-11/2026-02-18/
CATEGORIES:Activities
END:VEVENT
BEGIN:VEVENT
DTSTART;TZID=UTC:20260218T184500
DTEND;TZID=UTC:20260218T200000
DTSTAMP:20260424T235143
CREATED:20250828T152449Z
LAST-MODIFIED:20250828T152449Z
UID:10007613-1771440300-1771444800@hlcc.org
SUMMARY:Book Club
DESCRIPTION:
URL:https://hlcc.org/event/book-club-2/2026-02-18/
LOCATION:Clubhouse
CATEGORIES:Activities
ORGANIZER;CN="Activities":MAILTO:info@hcc.org
END:VEVENT
BEGIN:VEVENT
DTSTART;TZID=UTC:20260218T190000
DTEND;TZID=UTC:20260218T210000
DTSTAMP:20260424T235143
CREATED:20260325T151643Z
LAST-MODIFIED:20260325T151644Z
UID:10011443-1771441200-1771448400@hlcc.org
SUMMARY:Darts
DESCRIPTION:
URL:https://hlcc.org/event/darts-3/2026-02-18/
CATEGORIES:Activities
ATTACH;FMTTYPE=image/jpeg:https://hlcc.org/wp-content/uploads/2026/03/2026-darts.jpg
END:VEVENT
BEGIN:VEVENT
DTSTART;TZID=UTC:20260219T080000
DTEND;TZID=UTC:20260219T093000
DTSTAMP:20260424T235143
CREATED:20250828T152339Z
LAST-MODIFIED:20250828T152339Z
UID:10003938-1771488000-1771493400@hlcc.org
SUMMARY:Yoga & Meditation
DESCRIPTION:
URL:https://hlcc.org/event/yoga-meditation/2026-02-19/
LOCATION:Clubhouse
CATEGORIES:Activities
ORGANIZER;CN="Activities":MAILTO:info@hcc.org
END:VEVENT
BEGIN:VEVENT
DTSTART;TZID=UTC:20260219T190000
DTEND;TZID=UTC:20260219T200000
DTSTAMP:20260424T235143
CREATED:20250828T152334Z
LAST-MODIFIED:20250828T152334Z
UID:10000997-1771527600-1771531200@hlcc.org
SUMMARY:Stitching
DESCRIPTION:
URL:https://hlcc.org/event/stitching/2026-02-19/
LOCATION:Clubhouse
CATEGORIES:Activities
ORGANIZER;CN="Activities":MAILTO:info@hcc.org
END:VEVENT
BEGIN:VEVENT
DTSTART;TZID=UTC:20260219T190000
DTEND;TZID=UTC:20260219T203000
DTSTAMP:20260424T235143
CREATED:20260205T181724Z
LAST-MODIFIED:20260205T185406Z
UID:10011035-1771527600-1771533000@hlcc.org
SUMMARY:Chess Club
DESCRIPTION:
URL:https://hlcc.org/event/chess-club-2/2026-02-19/
CATEGORIES:Activities
ATTACH;FMTTYPE=image/jpeg:https://hlcc.org/wp-content/uploads/2026/02/2026-chess-1.jpg
END:VEVENT
BEGIN:VEVENT
DTSTART;TZID=UTC:20260220T100000
DTEND;TZID=UTC:20260220T120000
DTSTAMP:20260424T235143
CREATED:20250828T152345Z
LAST-MODIFIED:20250828T152345Z
UID:10005352-1771581600-1771588800@hlcc.org
SUMMARY:Pickleball - Fridays
DESCRIPTION:
URL:https://hlcc.org/event/pickleball-3/2026-02-20/
LOCATION:Clubhouse
CATEGORIES:Activities
ORGANIZER;CN="Activities":MAILTO:info@hcc.org
END:VEVENT
BEGIN:VEVENT
DTSTART;TZID=UTC:20260220T193000
DTEND;TZID=UTC:20260220T213000
DTSTAMP:20260424T235143
CREATED:20260326T175307Z
LAST-MODIFIED:20260326T175307Z
UID:10011519-1771615800-1771623000@hlcc.org
SUMMARY:Cards at the Clubhouse
DESCRIPTION:
URL:https://hlcc.org/event/cards-at-the-clubhouse/2026-02-20/
CATEGORIES:Activities
END:VEVENT
BEGIN:VEVENT
DTSTART;TZID=UTC:20260223T140000
DTEND;TZID=UTC:20260223T160000
DTSTAMP:20260424T235143
CREATED:20251120T145155Z
LAST-MODIFIED:20251120T145239Z
UID:10010847-1771855200-1771862400@hlcc.org
SUMMARY:Pickle Ball - Winter
DESCRIPTION:
URL:https://hlcc.org/event/pickle-ball-winter-2-2/2026-02-23/
CATEGORIES:Activities
END:VEVENT
BEGIN:VEVENT
DTSTART;TZID=UTC:20260223T170000
DTEND;TZID=UTC:20260223T180000
DTSTAMP:20260424T235143
CREATED:20250828T152335Z
LAST-MODIFIED:20250828T152335Z
UID:10000378-1771866000-1771869600@hlcc.org
SUMMARY:Yoga
DESCRIPTION:
URL:https://hlcc.org/event/yoga-2/2026-02-23/
LOCATION:Lake Room\, Highland Lakes\, NJ\, United States
CATEGORIES:Activities
ATTACH;FMTTYPE=image/jpeg:https://hlcc.org/wp-content/uploads/2022/12/2022-HLCC-Social-Media-v2-8.jpg
ORGANIZER;CN="Activities":MAILTO:info@hcc.org
END:VEVENT
BEGIN:VEVENT
DTSTART;TZID=UTC:20260224T093000
DTEND;TZID=UTC:20260224T113000
DTSTAMP:20260424T235143
CREATED:20260120T190858Z
LAST-MODIFIED:20260120T190859Z
UID:10010867-1771925400-1771932600@hlcc.org
SUMMARY:Playgroup Under 5
DESCRIPTION:
URL:https://hlcc.org/event/playgroup-under-5-5/2026-02-24/
CATEGORIES:Activities
ATTACH;FMTTYPE=image/jpeg:https://hlcc.org/wp-content/uploads/2026/01/2026-playgroup-1.jpg
END:VEVENT
BEGIN:VEVENT
DTSTART;TZID=UTC:20260225T140000
DTEND;TZID=UTC:20260225T160000
DTSTAMP:20260424T235143
CREATED:20251120T145155Z
LAST-MODIFIED:20251120T145239Z
UID:10010848-1772028000-1772035200@hlcc.org
SUMMARY:Pickle Ball - Winter
DESCRIPTION:
URL:https://hlcc.org/event/pickle-ball-winter-2-2/2026-02-25/
CATEGORIES:Activities
END:VEVENT
BEGIN:VEVENT
DTSTART;TZID=UTC:20260225T170000
DTEND;TZID=UTC:20260225T180000
DTSTAMP:20260424T235143
CREATED:20250828T152335Z
LAST-MODIFIED:20250828T152335Z
UID:10000379-1772038800-1772042400@hlcc.org
SUMMARY:Yoga
DESCRIPTION:
URL:https://hlcc.org/event/yoga-2/2026-02-25/
LOCATION:Lake Room\, Highland Lakes\, NJ\, United States
CATEGORIES:Activities
ATTACH;FMTTYPE=image/jpeg:https://hlcc.org/wp-content/uploads/2022/12/2022-HLCC-Social-Media-v2-8.jpg
ORGANIZER;CN="Activities":MAILTO:info@hcc.org
END:VEVENT
BEGIN:VEVENT
DTSTART;TZID=UTC:20260225T190000
DTEND;TZID=UTC:20260225T210000
DTSTAMP:20260424T235143
CREATED:20260325T151643Z
LAST-MODIFIED:20260325T151644Z
UID:10011444-1772046000-1772053200@hlcc.org
SUMMARY:Darts
DESCRIPTION:
URL:https://hlcc.org/event/darts-3/2026-02-25/
CATEGORIES:Activities
ATTACH;FMTTYPE=image/jpeg:https://hlcc.org/wp-content/uploads/2026/03/2026-darts.jpg
END:VEVENT
END:VCALENDAR