BEGIN:VCALENDAR
VERSION:2.0
PRODID:-//Highland Lakes Country Club and Community Association - ECPv6.15.20//NONSGML v1.0//EN
CALSCALE:GREGORIAN
METHOD:PUBLISH
X-WR-CALNAME:Highland Lakes Country Club and Community Association
X-ORIGINAL-URL:https://hlcc.org
X-WR-CALDESC:Events for Highland Lakes Country Club and Community Association
REFRESH-INTERVAL;VALUE=DURATION:PT1H
X-Robots-Tag:noindex
X-PUBLISHED-TTL:PT1H
BEGIN:VTIMEZONE
TZID:UTC
BEGIN:STANDARD
TZOFFSETFROM:+0000
TZOFFSETTO:+0000
TZNAME:UTC
DTSTART:20250101T000000
END:STANDARD
END:VTIMEZONE
BEGIN:VEVENT
DTSTART;TZID=UTC:20260514T080000
DTEND;TZID=UTC:20260514T093000
DTSTAMP:20260424T235122
CREATED:20250828T152339Z
LAST-MODIFIED:20250828T152339Z
UID:10003950-1778745600-1778751000@hlcc.org
SUMMARY:Yoga & Meditation
DESCRIPTION:
URL:https://hlcc.org/event/yoga-meditation/2026-05-14/
LOCATION:Clubhouse
CATEGORIES:Activities
ORGANIZER;CN="Activities":MAILTO:info@hcc.org
END:VEVENT
BEGIN:VEVENT
DTSTART;TZID=UTC:20260514T190000
DTEND;TZID=UTC:20260514T200000
DTSTAMP:20260424T235122
CREATED:20250828T152334Z
LAST-MODIFIED:20250828T152334Z
UID:10001009-1778785200-1778788800@hlcc.org
SUMMARY:Stitching
DESCRIPTION:
URL:https://hlcc.org/event/stitching/2026-05-14/
LOCATION:Clubhouse
CATEGORIES:Activities
ORGANIZER;CN="Activities":MAILTO:info@hcc.org
END:VEVENT
BEGIN:VEVENT
DTSTART;TZID=UTC:20260514T190000
DTEND;TZID=UTC:20260514T203000
DTSTAMP:20260424T235122
CREATED:20260205T181724Z
LAST-MODIFIED:20260205T185406Z
UID:10011047-1778785200-1778790600@hlcc.org
SUMMARY:Chess Club
DESCRIPTION:
URL:https://hlcc.org/event/chess-club-2/2026-05-14/
CATEGORIES:Activities
ATTACH;FMTTYPE=image/jpeg:https://hlcc.org/wp-content/uploads/2026/02/2026-chess-1.jpg
END:VEVENT
BEGIN:VEVENT
DTSTART;TZID=UTC:20260515T100000
DTEND;TZID=UTC:20260515T120000
DTSTAMP:20260424T235122
CREATED:20250828T152345Z
LAST-MODIFIED:20250828T152345Z
UID:10005364-1778839200-1778846400@hlcc.org
SUMMARY:Pickleball - Fridays
DESCRIPTION:
URL:https://hlcc.org/event/pickleball-3/2026-05-15/
LOCATION:Clubhouse
CATEGORIES:Activities
ORGANIZER;CN="Activities":MAILTO:info@hcc.org
END:VEVENT
BEGIN:VEVENT
DTSTART;TZID=UTC:20260515T193000
DTEND;TZID=UTC:20260515T213000
DTSTAMP:20260424T235122
CREATED:20260326T175307Z
LAST-MODIFIED:20260326T175307Z
UID:10011531-1778873400-1778880600@hlcc.org
SUMMARY:Cards at the Clubhouse
DESCRIPTION:
URL:https://hlcc.org/event/cards-at-the-clubhouse/2026-05-15/
CATEGORIES:Activities
END:VEVENT
BEGIN:VEVENT
DTSTART;TZID=UTC:20260518T140000
DTEND;TZID=UTC:20260518T160000
DTSTAMP:20260424T235122
CREATED:20260325T155753Z
LAST-MODIFIED:20260325T155753Z
UID:10011511-1779112800-1779120000@hlcc.org
SUMMARY:Pickleball
DESCRIPTION:
URL:https://hlcc.org/event/pickleball-4/2026-05-18/
CATEGORIES:Activities
END:VEVENT
BEGIN:VEVENT
DTSTART;TZID=UTC:20260518T170000
DTEND;TZID=UTC:20260518T180000
DTSTAMP:20260424T235122
CREATED:20250828T152335Z
LAST-MODIFIED:20250828T152335Z
UID:10000402-1779123600-1779127200@hlcc.org
SUMMARY:Yoga
DESCRIPTION:
URL:https://hlcc.org/event/yoga-2/2026-05-18/
LOCATION:Lake Room\, Highland Lakes\, NJ\, United States
CATEGORIES:Activities
ATTACH;FMTTYPE=image/jpeg:https://hlcc.org/wp-content/uploads/2022/12/2022-HLCC-Social-Media-v2-8.jpg
ORGANIZER;CN="Activities":MAILTO:info@hcc.org
END:VEVENT
BEGIN:VEVENT
DTSTART;TZID=UTC:20260518T180000
DTEND;TZID=UTC:20260518T190000
DTSTAMP:20260424T235122
CREATED:20260331T171733Z
LAST-MODIFIED:20260331T171733Z
UID:10011813-1779127200-1779130800@hlcc.org
SUMMARY:Ceramics
DESCRIPTION:
URL:https://hlcc.org/event/ceramics-2/2026-05-18/
CATEGORIES:Activities
END:VEVENT
BEGIN:VEVENT
DTSTART;TZID=UTC:20260519T093000
DTEND;TZID=UTC:20260519T113000
DTSTAMP:20260424T235122
CREATED:20260120T190858Z
LAST-MODIFIED:20260120T190859Z
UID:10010879-1779183000-1779190200@hlcc.org
SUMMARY:Playgroup Under 5
DESCRIPTION:
URL:https://hlcc.org/event/playgroup-under-5-5/2026-05-19/
CATEGORIES:Activities
ATTACH;FMTTYPE=image/jpeg:https://hlcc.org/wp-content/uploads/2026/01/2026-playgroup-1.jpg
END:VEVENT
BEGIN:VEVENT
DTSTART;TZID=UTC:20260520T140000
DTEND;TZID=UTC:20260520T160000
DTSTAMP:20260424T235122
CREATED:20260325T155753Z
LAST-MODIFIED:20260325T155753Z
UID:10011512-1779285600-1779292800@hlcc.org
SUMMARY:Pickleball
DESCRIPTION:
URL:https://hlcc.org/event/pickleball-4/2026-05-20/
CATEGORIES:Activities
END:VEVENT
BEGIN:VEVENT
DTSTART;TZID=UTC:20260520T170000
DTEND;TZID=UTC:20260520T180000
DTSTAMP:20260424T235122
CREATED:20250828T152335Z
LAST-MODIFIED:20250828T152335Z
UID:10000403-1779296400-1779300000@hlcc.org
SUMMARY:Yoga
DESCRIPTION:
URL:https://hlcc.org/event/yoga-2/2026-05-20/
LOCATION:Lake Room\, Highland Lakes\, NJ\, United States
CATEGORIES:Activities
ATTACH;FMTTYPE=image/jpeg:https://hlcc.org/wp-content/uploads/2022/12/2022-HLCC-Social-Media-v2-8.jpg
ORGANIZER;CN="Activities":MAILTO:info@hcc.org
END:VEVENT
BEGIN:VEVENT
DTSTART;TZID=UTC:20260520T180000
DTEND;TZID=UTC:20260520T200000
DTSTAMP:20260424T235122
CREATED:20251030T145147Z
LAST-MODIFIED:20251030T145147Z
UID:10010756-1779300000-1779307200@hlcc.org
SUMMARY:Scouts
DESCRIPTION:
URL:https://hlcc.org/event/scouts-11/2026-05-20/
CATEGORIES:Activities
END:VEVENT
BEGIN:VEVENT
DTSTART;TZID=UTC:20260520T190000
DTEND;TZID=UTC:20260520T210000
DTSTAMP:20260424T235122
CREATED:20260325T151643Z
LAST-MODIFIED:20260325T151644Z
UID:10011456-1779303600-1779310800@hlcc.org
SUMMARY:Darts
DESCRIPTION:
URL:https://hlcc.org/event/darts-3/2026-05-20/
CATEGORIES:Activities
ATTACH;FMTTYPE=image/jpeg:https://hlcc.org/wp-content/uploads/2026/03/2026-darts.jpg
END:VEVENT
BEGIN:VEVENT
DTSTART;TZID=UTC:20260521T080000
DTEND;TZID=UTC:20260521T093000
DTSTAMP:20260424T235122
CREATED:20250828T152339Z
LAST-MODIFIED:20250828T152339Z
UID:10003951-1779350400-1779355800@hlcc.org
SUMMARY:Yoga & Meditation
DESCRIPTION:
URL:https://hlcc.org/event/yoga-meditation/2026-05-21/
LOCATION:Clubhouse
CATEGORIES:Activities
ORGANIZER;CN="Activities":MAILTO:info@hcc.org
END:VEVENT
BEGIN:VEVENT
DTSTART;TZID=UTC:20260521T190000
DTEND;TZID=UTC:20260521T200000
DTSTAMP:20260424T235122
CREATED:20250828T152334Z
LAST-MODIFIED:20250828T152334Z
UID:10001010-1779390000-1779393600@hlcc.org
SUMMARY:Stitching
DESCRIPTION:
URL:https://hlcc.org/event/stitching/2026-05-21/
LOCATION:Clubhouse
CATEGORIES:Activities
ORGANIZER;CN="Activities":MAILTO:info@hcc.org
END:VEVENT
BEGIN:VEVENT
DTSTART;TZID=UTC:20260521T190000
DTEND;TZID=UTC:20260521T203000
DTSTAMP:20260424T235122
CREATED:20260205T181724Z
LAST-MODIFIED:20260205T185406Z
UID:10011048-1779390000-1779395400@hlcc.org
SUMMARY:Chess Club
DESCRIPTION:
URL:https://hlcc.org/event/chess-club-2/2026-05-21/
CATEGORIES:Activities
ATTACH;FMTTYPE=image/jpeg:https://hlcc.org/wp-content/uploads/2026/02/2026-chess-1.jpg
END:VEVENT
BEGIN:VEVENT
DTSTART;TZID=UTC:20260522T100000
DTEND;TZID=UTC:20260522T120000
DTSTAMP:20260424T235122
CREATED:20250828T152345Z
LAST-MODIFIED:20250828T152345Z
UID:10005365-1779444000-1779451200@hlcc.org
SUMMARY:Pickleball - Fridays
DESCRIPTION:
URL:https://hlcc.org/event/pickleball-3/2026-05-22/
LOCATION:Clubhouse
CATEGORIES:Activities
ORGANIZER;CN="Activities":MAILTO:info@hcc.org
END:VEVENT
BEGIN:VEVENT
DTSTART;TZID=UTC:20260522T193000
DTEND;TZID=UTC:20260522T213000
DTSTAMP:20260424T235122
CREATED:20260326T175307Z
LAST-MODIFIED:20260326T175307Z
UID:10011532-1779478200-1779485400@hlcc.org
SUMMARY:Cards at the Clubhouse
DESCRIPTION:
URL:https://hlcc.org/event/cards-at-the-clubhouse/2026-05-22/
CATEGORIES:Activities
END:VEVENT
BEGIN:VEVENT
DTSTART;TZID=UTC:20260525T140000
DTEND;TZID=UTC:20260525T160000
DTSTAMP:20260424T235122
CREATED:20260325T155753Z
LAST-MODIFIED:20260325T155753Z
UID:10011513-1779717600-1779724800@hlcc.org
SUMMARY:Pickleball
DESCRIPTION:
URL:https://hlcc.org/event/pickleball-4/2026-05-25/
CATEGORIES:Activities
END:VEVENT
BEGIN:VEVENT
DTSTART;TZID=UTC:20260525T170000
DTEND;TZID=UTC:20260525T180000
DTSTAMP:20260424T235122
CREATED:20250828T152335Z
LAST-MODIFIED:20250828T152335Z
UID:10000404-1779728400-1779732000@hlcc.org
SUMMARY:Yoga
DESCRIPTION:
URL:https://hlcc.org/event/yoga-2/2026-05-25/
LOCATION:Lake Room\, Highland Lakes\, NJ\, United States
CATEGORIES:Activities
ATTACH;FMTTYPE=image/jpeg:https://hlcc.org/wp-content/uploads/2022/12/2022-HLCC-Social-Media-v2-8.jpg
ORGANIZER;CN="Activities":MAILTO:info@hcc.org
END:VEVENT
BEGIN:VEVENT
DTSTART;TZID=UTC:20260525T180000
DTEND;TZID=UTC:20260525T190000
DTSTAMP:20260424T235122
CREATED:20260331T171733Z
LAST-MODIFIED:20260331T171733Z
UID:10011814-1779732000-1779735600@hlcc.org
SUMMARY:Ceramics
DESCRIPTION:
URL:https://hlcc.org/event/ceramics-2/2026-05-25/
CATEGORIES:Activities
END:VEVENT
BEGIN:VEVENT
DTSTART;TZID=UTC:20260526T093000
DTEND;TZID=UTC:20260526T113000
DTSTAMP:20260424T235122
CREATED:20260120T190858Z
LAST-MODIFIED:20260120T190859Z
UID:10010880-1779787800-1779795000@hlcc.org
SUMMARY:Playgroup Under 5
DESCRIPTION:
URL:https://hlcc.org/event/playgroup-under-5-5/2026-05-26/
CATEGORIES:Activities
ATTACH;FMTTYPE=image/jpeg:https://hlcc.org/wp-content/uploads/2026/01/2026-playgroup-1.jpg
END:VEVENT
BEGIN:VEVENT
DTSTART;TZID=UTC:20260527T170000
DTEND;TZID=UTC:20260527T180000
DTSTAMP:20260424T235122
CREATED:20250828T152335Z
LAST-MODIFIED:20250828T152335Z
UID:10000405-1779901200-1779904800@hlcc.org
SUMMARY:Yoga
DESCRIPTION:
URL:https://hlcc.org/event/yoga-2/2026-05-27/
LOCATION:Lake Room\, Highland Lakes\, NJ\, United States
CATEGORIES:Activities
ATTACH;FMTTYPE=image/jpeg:https://hlcc.org/wp-content/uploads/2022/12/2022-HLCC-Social-Media-v2-8.jpg
ORGANIZER;CN="Activities":MAILTO:info@hcc.org
END:VEVENT
BEGIN:VEVENT
DTSTART;TZID=UTC:20260527T190000
DTEND;TZID=UTC:20260527T210000
DTSTAMP:20260424T235122
CREATED:20260325T151643Z
LAST-MODIFIED:20260325T151644Z
UID:10011457-1779908400-1779915600@hlcc.org
SUMMARY:Darts
DESCRIPTION:
URL:https://hlcc.org/event/darts-3/2026-05-27/
CATEGORIES:Activities
ATTACH;FMTTYPE=image/jpeg:https://hlcc.org/wp-content/uploads/2026/03/2026-darts.jpg
END:VEVENT
BEGIN:VEVENT
DTSTART;TZID=UTC:20260528T080000
DTEND;TZID=UTC:20260528T093000
DTSTAMP:20260424T235122
CREATED:20250828T152339Z
LAST-MODIFIED:20250828T152339Z
UID:10003952-1779955200-1779960600@hlcc.org
SUMMARY:Yoga & Meditation
DESCRIPTION:
URL:https://hlcc.org/event/yoga-meditation/2026-05-28/
LOCATION:Clubhouse
CATEGORIES:Activities
ORGANIZER;CN="Activities":MAILTO:info@hcc.org
END:VEVENT
BEGIN:VEVENT
DTSTART;TZID=UTC:20260528T190000
DTEND;TZID=UTC:20260528T200000
DTSTAMP:20260424T235122
CREATED:20250828T152334Z
LAST-MODIFIED:20250828T152334Z
UID:10001011-1779994800-1779998400@hlcc.org
SUMMARY:Stitching
DESCRIPTION:
URL:https://hlcc.org/event/stitching/2026-05-28/
LOCATION:Clubhouse
CATEGORIES:Activities
ORGANIZER;CN="Activities":MAILTO:info@hcc.org
END:VEVENT
BEGIN:VEVENT
DTSTART;TZID=UTC:20260528T190000
DTEND;TZID=UTC:20260528T203000
DTSTAMP:20260424T235122
CREATED:20260205T181724Z
LAST-MODIFIED:20260205T185406Z
UID:10011049-1779994800-1780000200@hlcc.org
SUMMARY:Chess Club
DESCRIPTION:
URL:https://hlcc.org/event/chess-club-2/2026-05-28/
CATEGORIES:Activities
ATTACH;FMTTYPE=image/jpeg:https://hlcc.org/wp-content/uploads/2026/02/2026-chess-1.jpg
END:VEVENT
BEGIN:VEVENT
DTSTART;TZID=UTC:20260529T100000
DTEND;TZID=UTC:20260529T120000
DTSTAMP:20260424T235122
CREATED:20250828T152345Z
LAST-MODIFIED:20250828T152345Z
UID:10005366-1780048800-1780056000@hlcc.org
SUMMARY:Pickleball - Fridays
DESCRIPTION:
URL:https://hlcc.org/event/pickleball-3/2026-05-29/
LOCATION:Clubhouse
CATEGORIES:Activities
ORGANIZER;CN="Activities":MAILTO:info@hcc.org
END:VEVENT
BEGIN:VEVENT
DTSTART;TZID=UTC:20260529T193000
DTEND;TZID=UTC:20260529T213000
DTSTAMP:20260424T235122
CREATED:20260326T175307Z
LAST-MODIFIED:20260326T175307Z
UID:10011533-1780083000-1780090200@hlcc.org
SUMMARY:Cards at the Clubhouse
DESCRIPTION:
URL:https://hlcc.org/event/cards-at-the-clubhouse/2026-05-29/
CATEGORIES:Activities
END:VEVENT
BEGIN:VEVENT
DTSTART;TZID=UTC:20260601T170000
DTEND;TZID=UTC:20260601T180000
DTSTAMP:20260424T235122
CREATED:20250828T152335Z
LAST-MODIFIED:20250828T152335Z
UID:10000406-1780333200-1780336800@hlcc.org
SUMMARY:Yoga
DESCRIPTION:
URL:https://hlcc.org/event/yoga-2/2026-06-01/
LOCATION:Lake Room\, Highland Lakes\, NJ\, United States
CATEGORIES:Activities
ATTACH;FMTTYPE=image/jpeg:https://hlcc.org/wp-content/uploads/2022/12/2022-HLCC-Social-Media-v2-8.jpg
ORGANIZER;CN="Activities":MAILTO:info@hcc.org
END:VEVENT
END:VCALENDAR