BEGIN:VCALENDAR
VERSION:2.0
PRODID:-//Highland Lakes Country Club and Community Association - ECPv6.15.20//NONSGML v1.0//EN
CALSCALE:GREGORIAN
METHOD:PUBLISH
X-ORIGINAL-URL:https://hlcc.org
X-WR-CALDESC:Events for Highland Lakes Country Club and Community Association
REFRESH-INTERVAL;VALUE=DURATION:PT1H
X-Robots-Tag:noindex
X-PUBLISHED-TTL:PT1H
BEGIN:VTIMEZONE
TZID:UTC
BEGIN:STANDARD
TZOFFSETFROM:+0000
TZOFFSETTO:+0000
TZNAME:UTC
DTSTART:20250101T000000
END:STANDARD
END:VTIMEZONE
BEGIN:VEVENT
DTSTART;TZID=UTC:20260715T170000
DTEND;TZID=UTC:20260715T180000
DTSTAMP:20260425T030512
CREATED:20250828T152335Z
LAST-MODIFIED:20250828T152335Z
UID:10000419-1784134800-1784138400@hlcc.org
SUMMARY:Yoga
DESCRIPTION:
URL:https://hlcc.org/event/yoga-2/2026-07-15/
LOCATION:Lake Room\, Highland Lakes\, NJ\, United States
CATEGORIES:Activities
ATTACH;FMTTYPE=image/jpeg:https://hlcc.org/wp-content/uploads/2022/12/2022-HLCC-Social-Media-v2-8.jpg
ORGANIZER;CN="Activities":MAILTO:info@hcc.org
END:VEVENT
BEGIN:VEVENT
DTSTART;TZID=UTC:20260715T180000
DTEND;TZID=UTC:20260715T200000
DTSTAMP:20260425T030512
CREATED:20251030T145147Z
LAST-MODIFIED:20251030T145147Z
UID:10010758-1784138400-1784145600@hlcc.org
SUMMARY:Scouts
DESCRIPTION:
URL:https://hlcc.org/event/scouts-11/2026-07-15/
CATEGORIES:Activities
END:VEVENT
BEGIN:VEVENT
DTSTART;TZID=UTC:20260715T190000
DTEND;TZID=UTC:20260715T210000
DTSTAMP:20260425T030512
CREATED:20260325T151643Z
LAST-MODIFIED:20260325T151644Z
UID:10011464-1784142000-1784149200@hlcc.org
SUMMARY:Darts
DESCRIPTION:
URL:https://hlcc.org/event/darts-3/2026-07-15/
CATEGORIES:Activities
ATTACH;FMTTYPE=image/jpeg:https://hlcc.org/wp-content/uploads/2026/03/2026-darts.jpg
END:VEVENT
BEGIN:VEVENT
DTSTART;TZID=UTC:20260716T080000
DTEND;TZID=UTC:20260716T093000
DTSTAMP:20260425T030512
CREATED:20250828T152339Z
LAST-MODIFIED:20250828T152339Z
UID:10003959-1784188800-1784194200@hlcc.org
SUMMARY:Yoga & Meditation
DESCRIPTION:
URL:https://hlcc.org/event/yoga-meditation/2026-07-16/
LOCATION:Clubhouse
CATEGORIES:Activities
ORGANIZER;CN="Activities":MAILTO:info@hcc.org
END:VEVENT
BEGIN:VEVENT
DTSTART;TZID=UTC:20260716T190000
DTEND;TZID=UTC:20260716T200000
DTSTAMP:20260425T030512
CREATED:20250828T152334Z
LAST-MODIFIED:20250828T152334Z
UID:10001018-1784228400-1784232000@hlcc.org
SUMMARY:Stitching
DESCRIPTION:
URL:https://hlcc.org/event/stitching/2026-07-16/
LOCATION:Clubhouse
CATEGORIES:Activities
ORGANIZER;CN="Activities":MAILTO:info@hcc.org
END:VEVENT
BEGIN:VEVENT
DTSTART;TZID=UTC:20260716T190000
DTEND;TZID=UTC:20260716T203000
DTSTAMP:20260425T030512
CREATED:20260205T181724Z
LAST-MODIFIED:20260205T185406Z
UID:10011056-1784228400-1784233800@hlcc.org
SUMMARY:Chess Club
DESCRIPTION:
URL:https://hlcc.org/event/chess-club-2/2026-07-16/
CATEGORIES:Activities
ATTACH;FMTTYPE=image/jpeg:https://hlcc.org/wp-content/uploads/2026/02/2026-chess-1.jpg
END:VEVENT
BEGIN:VEVENT
DTSTART;TZID=UTC:20260716T193000
DTEND;TZID=UTC:20260716T213000
DTSTAMP:20260425T030512
CREATED:20260210T160926Z
LAST-MODIFIED:20260210T160926Z
UID:10011379-1784230200-1784237400@hlcc.org
SUMMARY:Movie Night on the Lawn
DESCRIPTION:
URL:https://hlcc.org/event/movie-night-on-the-lawn/
CATEGORIES:Activities
END:VEVENT
BEGIN:VEVENT
DTSTART;TZID=UTC:20260717T100000
DTEND;TZID=UTC:20260717T120000
DTSTAMP:20260425T030512
CREATED:20250828T152345Z
LAST-MODIFIED:20250828T152345Z
UID:10005373-1784282400-1784289600@hlcc.org
SUMMARY:Pickleball - Fridays
DESCRIPTION:
URL:https://hlcc.org/event/pickleball-3/2026-07-17/
LOCATION:Clubhouse
CATEGORIES:Activities
ORGANIZER;CN="Activities":MAILTO:info@hcc.org
END:VEVENT
BEGIN:VEVENT
DTSTART;TZID=UTC:20260717T193000
DTEND;TZID=UTC:20260717T213000
DTSTAMP:20260425T030512
CREATED:20260326T175307Z
LAST-MODIFIED:20260326T175307Z
UID:10011540-1784316600-1784323800@hlcc.org
SUMMARY:Cards at the Clubhouse
DESCRIPTION:
URL:https://hlcc.org/event/cards-at-the-clubhouse/2026-07-17/
CATEGORIES:Activities
END:VEVENT
BEGIN:VEVENT
DTSTART;TZID=UTC:20260720T170000
DTEND;TZID=UTC:20260720T180000
DTSTAMP:20260425T030512
CREATED:20250828T152335Z
LAST-MODIFIED:20250828T152335Z
UID:10000420-1784566800-1784570400@hlcc.org
SUMMARY:Yoga
DESCRIPTION:
URL:https://hlcc.org/event/yoga-2/2026-07-20/
LOCATION:Lake Room\, Highland Lakes\, NJ\, United States
CATEGORIES:Activities
ATTACH;FMTTYPE=image/jpeg:https://hlcc.org/wp-content/uploads/2022/12/2022-HLCC-Social-Media-v2-8.jpg
ORGANIZER;CN="Activities":MAILTO:info@hcc.org
END:VEVENT
BEGIN:VEVENT
DTSTART;TZID=UTC:20260720T180000
DTEND;TZID=UTC:20260720T190000
DTSTAMP:20260425T030512
CREATED:20260210T153306Z
LAST-MODIFIED:20260210T153307Z
UID:10011367-1784570400-1784574000@hlcc.org
SUMMARY:Summer Ceramics
DESCRIPTION:
URL:https://hlcc.org/event/summer-ceramics/2026-07-20/
CATEGORIES:Activities
END:VEVENT
BEGIN:VEVENT
DTSTART;TZID=UTC:20260720T180000
DTEND;TZID=UTC:20260720T190000
DTSTAMP:20260425T030512
CREATED:20260331T171733Z
LAST-MODIFIED:20260331T171733Z
UID:10011822-1784570400-1784574000@hlcc.org
SUMMARY:Ceramics
DESCRIPTION:
URL:https://hlcc.org/event/ceramics-2/2026-07-20/
CATEGORIES:Activities
END:VEVENT
BEGIN:VEVENT
DTSTART;TZID=UTC:20260721T180000
DTEND;TZID=UTC:20260721T200000
DTSTAMP:20260425T030512
CREATED:20260210T161515Z
LAST-MODIFIED:20260210T161515Z
UID:10011380-1784656800-1784664000@hlcc.org
SUMMARY:Taco Tuesday at the Beach Hut
DESCRIPTION:
URL:https://hlcc.org/event/taco-tuesday-at-the-beach-hut/
CATEGORIES:Activities
END:VEVENT
BEGIN:VEVENT
DTSTART;TZID=UTC:20260722T170000
DTEND;TZID=UTC:20260722T180000
DTSTAMP:20260425T030512
CREATED:20250828T152335Z
LAST-MODIFIED:20250828T152335Z
UID:10000421-1784739600-1784743200@hlcc.org
SUMMARY:Yoga
DESCRIPTION:
URL:https://hlcc.org/event/yoga-2/2026-07-22/
LOCATION:Lake Room\, Highland Lakes\, NJ\, United States
CATEGORIES:Activities
ATTACH;FMTTYPE=image/jpeg:https://hlcc.org/wp-content/uploads/2022/12/2022-HLCC-Social-Media-v2-8.jpg
ORGANIZER;CN="Activities":MAILTO:info@hcc.org
END:VEVENT
BEGIN:VEVENT
DTSTART;TZID=UTC:20260722T190000
DTEND;TZID=UTC:20260722T210000
DTSTAMP:20260425T030512
CREATED:20260325T151643Z
LAST-MODIFIED:20260325T151644Z
UID:10011465-1784746800-1784754000@hlcc.org
SUMMARY:Darts
DESCRIPTION:
URL:https://hlcc.org/event/darts-3/2026-07-22/
CATEGORIES:Activities
ATTACH;FMTTYPE=image/jpeg:https://hlcc.org/wp-content/uploads/2026/03/2026-darts.jpg
END:VEVENT
BEGIN:VEVENT
DTSTART;TZID=UTC:20260723T080000
DTEND;TZID=UTC:20260723T093000
DTSTAMP:20260425T030512
CREATED:20250828T152339Z
LAST-MODIFIED:20250828T152339Z
UID:10003960-1784793600-1784799000@hlcc.org
SUMMARY:Yoga & Meditation
DESCRIPTION:
URL:https://hlcc.org/event/yoga-meditation/2026-07-23/
LOCATION:Clubhouse
CATEGORIES:Activities
ORGANIZER;CN="Activities":MAILTO:info@hcc.org
END:VEVENT
BEGIN:VEVENT
DTSTART;TZID=UTC:20260723T180000
DTEND;TZID=UTC:20260723T200000
DTSTAMP:20260425T030512
CREATED:20260210T161854Z
LAST-MODIFIED:20260210T161925Z
UID:10011381-1784829600-1784836800@hlcc.org
SUMMARY:Volleyball at Beach 2
DESCRIPTION:
URL:https://hlcc.org/event/volleyball-at-beach-2/
CATEGORIES:Activities
END:VEVENT
BEGIN:VEVENT
DTSTART;TZID=UTC:20260723T190000
DTEND;TZID=UTC:20260723T200000
DTSTAMP:20260425T030512
CREATED:20250828T152334Z
LAST-MODIFIED:20250828T152334Z
UID:10001019-1784833200-1784836800@hlcc.org
SUMMARY:Stitching
DESCRIPTION:
URL:https://hlcc.org/event/stitching/2026-07-23/
LOCATION:Clubhouse
CATEGORIES:Activities
ORGANIZER;CN="Activities":MAILTO:info@hcc.org
END:VEVENT
BEGIN:VEVENT
DTSTART;TZID=UTC:20260723T190000
DTEND;TZID=UTC:20260723T203000
DTSTAMP:20260425T030512
CREATED:20260205T181724Z
LAST-MODIFIED:20260205T185406Z
UID:10011057-1784833200-1784838600@hlcc.org
SUMMARY:Chess Club
DESCRIPTION:
URL:https://hlcc.org/event/chess-club-2/2026-07-23/
CATEGORIES:Activities
ATTACH;FMTTYPE=image/jpeg:https://hlcc.org/wp-content/uploads/2026/02/2026-chess-1.jpg
END:VEVENT
BEGIN:VEVENT
DTSTART;TZID=UTC:20260724T100000
DTEND;TZID=UTC:20260724T120000
DTSTAMP:20260425T030512
CREATED:20250828T152345Z
LAST-MODIFIED:20250828T152345Z
UID:10005374-1784887200-1784894400@hlcc.org
SUMMARY:Pickleball - Fridays
DESCRIPTION:
URL:https://hlcc.org/event/pickleball-3/2026-07-24/
LOCATION:Clubhouse
CATEGORIES:Activities
ORGANIZER;CN="Activities":MAILTO:info@hcc.org
END:VEVENT
BEGIN:VEVENT
DTSTART;TZID=UTC:20260724T193000
DTEND;TZID=UTC:20260724T213000
DTSTAMP:20260425T030513
CREATED:20260326T175307Z
LAST-MODIFIED:20260326T175307Z
UID:10011541-1784921400-1784928600@hlcc.org
SUMMARY:Cards at the Clubhouse
DESCRIPTION:
URL:https://hlcc.org/event/cards-at-the-clubhouse/2026-07-24/
CATEGORIES:Activities
END:VEVENT
BEGIN:VEVENT
DTSTART;TZID=UTC:20260727T170000
DTEND;TZID=UTC:20260727T180000
DTSTAMP:20260425T030513
CREATED:20250828T152335Z
LAST-MODIFIED:20250828T152335Z
UID:10000422-1785171600-1785175200@hlcc.org
SUMMARY:Yoga
DESCRIPTION:
URL:https://hlcc.org/event/yoga-2/2026-07-27/
LOCATION:Lake Room\, Highland Lakes\, NJ\, United States
CATEGORIES:Activities
ATTACH;FMTTYPE=image/jpeg:https://hlcc.org/wp-content/uploads/2022/12/2022-HLCC-Social-Media-v2-8.jpg
ORGANIZER;CN="Activities":MAILTO:info@hcc.org
END:VEVENT
BEGIN:VEVENT
DTSTART;TZID=UTC:20260727T180000
DTEND;TZID=UTC:20260727T190000
DTSTAMP:20260425T030513
CREATED:20260210T153306Z
LAST-MODIFIED:20260210T153307Z
UID:10011368-1785175200-1785178800@hlcc.org
SUMMARY:Summer Ceramics
DESCRIPTION:
URL:https://hlcc.org/event/summer-ceramics/2026-07-27/
CATEGORIES:Activities
END:VEVENT
BEGIN:VEVENT
DTSTART;TZID=UTC:20260727T180000
DTEND;TZID=UTC:20260727T190000
DTSTAMP:20260425T030513
CREATED:20260331T171733Z
LAST-MODIFIED:20260331T171733Z
UID:10011823-1785175200-1785178800@hlcc.org
SUMMARY:Ceramics
DESCRIPTION:
URL:https://hlcc.org/event/ceramics-2/2026-07-27/
CATEGORIES:Activities
END:VEVENT
BEGIN:VEVENT
DTSTART;TZID=UTC:20260728T180000
DTEND;TZID=UTC:20260728T200000
DTSTAMP:20260425T030513
CREATED:20260210T162053Z
LAST-MODIFIED:20260210T162054Z
UID:10011383-1785261600-1785268800@hlcc.org
SUMMARY:Color Wars
DESCRIPTION:
URL:https://hlcc.org/event/color-wars/
CATEGORIES:Activities
END:VEVENT
BEGIN:VEVENT
DTSTART;TZID=UTC:20260729T170000
DTEND;TZID=UTC:20260729T180000
DTSTAMP:20260425T030513
CREATED:20250828T152335Z
LAST-MODIFIED:20250828T152335Z
UID:10000423-1785344400-1785348000@hlcc.org
SUMMARY:Yoga
DESCRIPTION:
URL:https://hlcc.org/event/yoga-2/2026-07-29/
LOCATION:Lake Room\, Highland Lakes\, NJ\, United States
CATEGORIES:Activities
ATTACH;FMTTYPE=image/jpeg:https://hlcc.org/wp-content/uploads/2022/12/2022-HLCC-Social-Media-v2-8.jpg
ORGANIZER;CN="Activities":MAILTO:info@hcc.org
END:VEVENT
BEGIN:VEVENT
DTSTART;TZID=UTC:20260729T184500
DTEND;TZID=UTC:20260729T200000
DTSTAMP:20260425T030513
CREATED:20260331T161545Z
LAST-MODIFIED:20260331T161912Z
UID:10011786-1785350700-1785355200@hlcc.org
SUMMARY:Book Club
DESCRIPTION:
URL:https://hlcc.org/event/book-club-2-2/2026-07-29/
LOCATION:Clubhouse
CATEGORIES:Activities
ORGANIZER;CN="Activities":MAILTO:info@hcc.org
END:VEVENT
BEGIN:VEVENT
DTSTART;TZID=UTC:20260729T190000
DTEND;TZID=UTC:20260729T210000
DTSTAMP:20260425T030513
CREATED:20260325T151643Z
LAST-MODIFIED:20260325T151644Z
UID:10011466-1785351600-1785358800@hlcc.org
SUMMARY:Darts
DESCRIPTION:
URL:https://hlcc.org/event/darts-3/2026-07-29/
CATEGORIES:Activities
ATTACH;FMTTYPE=image/jpeg:https://hlcc.org/wp-content/uploads/2026/03/2026-darts.jpg
END:VEVENT
BEGIN:VEVENT
DTSTART;TZID=UTC:20260730T080000
DTEND;TZID=UTC:20260730T093000
DTSTAMP:20260425T030513
CREATED:20250828T152339Z
LAST-MODIFIED:20250828T152339Z
UID:10003961-1785398400-1785403800@hlcc.org
SUMMARY:Yoga & Meditation
DESCRIPTION:
URL:https://hlcc.org/event/yoga-meditation/2026-07-30/
LOCATION:Clubhouse
CATEGORIES:Activities
ORGANIZER;CN="Activities":MAILTO:info@hcc.org
END:VEVENT
BEGIN:VEVENT
DTSTART;TZID=UTC:20260730T180000
DTEND;TZID=UTC:20260730T190000
DTSTAMP:20260425T030513
CREATED:20260210T181024Z
LAST-MODIFIED:20260210T181025Z
UID:10011424-1785434400-1785438000@hlcc.org
SUMMARY:Yard Games on the Lawn
DESCRIPTION:
URL:https://hlcc.org/event/yard-games-on-the-lawn-2/
CATEGORIES:Activities
END:VEVENT
END:VCALENDAR