BEGIN:VCALENDAR
VERSION:2.0
PRODID:-//Highland Lakes Country Club and Community Association - ECPv6.15.20//NONSGML v1.0//EN
CALSCALE:GREGORIAN
METHOD:PUBLISH
X-ORIGINAL-URL:https://hlcc.org
X-WR-CALDESC:Events for Highland Lakes Country Club and Community Association
REFRESH-INTERVAL;VALUE=DURATION:PT1H
X-Robots-Tag:noindex
X-PUBLISHED-TTL:PT1H
BEGIN:VTIMEZONE
TZID:UTC
BEGIN:STANDARD
TZOFFSETFROM:+0000
TZOFFSETTO:+0000
TZNAME:UTC
DTSTART:20250101T000000
END:STANDARD
END:VTIMEZONE
BEGIN:VEVENT
DTSTART;TZID=UTC:20260320T193000
DTEND;TZID=UTC:20260320T213000
DTSTAMP:20260425T014127
CREATED:20260326T175307Z
LAST-MODIFIED:20260326T175307Z
UID:10011523-1774035000-1774042200@hlcc.org
SUMMARY:Cards at the Clubhouse
DESCRIPTION:
URL:https://hlcc.org/event/cards-at-the-clubhouse/2026-03-20/
CATEGORIES:Activities
END:VEVENT
BEGIN:VEVENT
DTSTART;TZID=UTC:20260323T140000
DTEND;TZID=UTC:20260323T160000
DTSTAMP:20260425T014127
CREATED:20260325T155753Z
LAST-MODIFIED:20260325T155753Z
UID:10011495-1774274400-1774281600@hlcc.org
SUMMARY:Pickleball
DESCRIPTION:
URL:https://hlcc.org/event/pickleball-4/2026-03-23/
CATEGORIES:Activities
END:VEVENT
BEGIN:VEVENT
DTSTART;TZID=UTC:20260323T170000
DTEND;TZID=UTC:20260323T180000
DTSTAMP:20260425T014127
CREATED:20250828T152335Z
LAST-MODIFIED:20250828T152335Z
UID:10000386-1774285200-1774288800@hlcc.org
SUMMARY:Yoga
DESCRIPTION:
URL:https://hlcc.org/event/yoga-2/2026-03-23/
LOCATION:Lake Room\, Highland Lakes\, NJ\, United States
CATEGORIES:Activities
ATTACH;FMTTYPE=image/jpeg:https://hlcc.org/wp-content/uploads/2022/12/2022-HLCC-Social-Media-v2-8.jpg
ORGANIZER;CN="Activities":MAILTO:info@hcc.org
END:VEVENT
BEGIN:VEVENT
DTSTART;TZID=UTC:20260324T093000
DTEND;TZID=UTC:20260324T113000
DTSTAMP:20260425T014127
CREATED:20260120T190858Z
LAST-MODIFIED:20260120T190859Z
UID:10010871-1774344600-1774351800@hlcc.org
SUMMARY:Playgroup Under 5
DESCRIPTION:
URL:https://hlcc.org/event/playgroup-under-5-5/2026-03-24/
CATEGORIES:Activities
ATTACH;FMTTYPE=image/jpeg:https://hlcc.org/wp-content/uploads/2026/01/2026-playgroup-1.jpg
END:VEVENT
BEGIN:VEVENT
DTSTART;TZID=UTC:20260325T140000
DTEND;TZID=UTC:20260325T160000
DTSTAMP:20260425T014127
CREATED:20260325T155753Z
LAST-MODIFIED:20260325T155753Z
UID:10011496-1774447200-1774454400@hlcc.org
SUMMARY:Pickleball
DESCRIPTION:
URL:https://hlcc.org/event/pickleball-4/2026-03-25/
CATEGORIES:Activities
END:VEVENT
BEGIN:VEVENT
DTSTART;TZID=UTC:20260325T170000
DTEND;TZID=UTC:20260325T180000
DTSTAMP:20260425T014127
CREATED:20250828T152335Z
LAST-MODIFIED:20250828T152335Z
UID:10000387-1774458000-1774461600@hlcc.org
SUMMARY:Yoga
DESCRIPTION:
URL:https://hlcc.org/event/yoga-2/2026-03-25/
LOCATION:Lake Room\, Highland Lakes\, NJ\, United States
CATEGORIES:Activities
ATTACH;FMTTYPE=image/jpeg:https://hlcc.org/wp-content/uploads/2022/12/2022-HLCC-Social-Media-v2-8.jpg
ORGANIZER;CN="Activities":MAILTO:info@hcc.org
END:VEVENT
BEGIN:VEVENT
DTSTART;TZID=UTC:20260325T190000
DTEND;TZID=UTC:20260325T210000
DTSTAMP:20260425T014127
CREATED:20260325T151643Z
LAST-MODIFIED:20260325T151644Z
UID:10011448-1774465200-1774472400@hlcc.org
SUMMARY:Darts
DESCRIPTION:
URL:https://hlcc.org/event/darts-3/2026-03-25/
CATEGORIES:Activities
ATTACH;FMTTYPE=image/jpeg:https://hlcc.org/wp-content/uploads/2026/03/2026-darts.jpg
END:VEVENT
BEGIN:VEVENT
DTSTART;TZID=UTC:20260326T080000
DTEND;TZID=UTC:20260326T093000
DTSTAMP:20260425T014127
CREATED:20250828T152339Z
LAST-MODIFIED:20250828T152339Z
UID:10003943-1774512000-1774517400@hlcc.org
SUMMARY:Yoga & Meditation
DESCRIPTION:
URL:https://hlcc.org/event/yoga-meditation/2026-03-26/
LOCATION:Clubhouse
CATEGORIES:Activities
ORGANIZER;CN="Activities":MAILTO:info@hcc.org
END:VEVENT
BEGIN:VEVENT
DTSTART;TZID=UTC:20260326T190000
DTEND;TZID=UTC:20260326T200000
DTSTAMP:20260425T014127
CREATED:20250828T152334Z
LAST-MODIFIED:20250828T152334Z
UID:10001002-1774551600-1774555200@hlcc.org
SUMMARY:Stitching
DESCRIPTION:
URL:https://hlcc.org/event/stitching/2026-03-26/
LOCATION:Clubhouse
CATEGORIES:Activities
ORGANIZER;CN="Activities":MAILTO:info@hcc.org
END:VEVENT
BEGIN:VEVENT
DTSTART;TZID=UTC:20260326T190000
DTEND;TZID=UTC:20260326T203000
DTSTAMP:20260425T014127
CREATED:20260205T181724Z
LAST-MODIFIED:20260205T185406Z
UID:10011040-1774551600-1774557000@hlcc.org
SUMMARY:Chess Club
DESCRIPTION:
URL:https://hlcc.org/event/chess-club-2/2026-03-26/
CATEGORIES:Activities
ATTACH;FMTTYPE=image/jpeg:https://hlcc.org/wp-content/uploads/2026/02/2026-chess-1.jpg
END:VEVENT
BEGIN:VEVENT
DTSTART;TZID=UTC:20260327T100000
DTEND;TZID=UTC:20260327T120000
DTSTAMP:20260425T014127
CREATED:20250828T152345Z
LAST-MODIFIED:20250828T152345Z
UID:10005357-1774605600-1774612800@hlcc.org
SUMMARY:Pickleball - Fridays
DESCRIPTION:
URL:https://hlcc.org/event/pickleball-3/2026-03-27/
LOCATION:Clubhouse
CATEGORIES:Activities
ORGANIZER;CN="Activities":MAILTO:info@hcc.org
END:VEVENT
BEGIN:VEVENT
DTSTART;TZID=UTC:20260327T193000
DTEND;TZID=UTC:20260327T213000
DTSTAMP:20260425T014127
CREATED:20260326T175307Z
LAST-MODIFIED:20260326T175307Z
UID:10011524-1774639800-1774647000@hlcc.org
SUMMARY:Cards at the Clubhouse
DESCRIPTION:
URL:https://hlcc.org/event/cards-at-the-clubhouse/2026-03-27/
CATEGORIES:Activities
END:VEVENT
BEGIN:VEVENT
DTSTART;TZID=UTC:20260330T140000
DTEND;TZID=UTC:20260330T160000
DTSTAMP:20260425T014127
CREATED:20260325T155753Z
LAST-MODIFIED:20260325T155753Z
UID:10011497-1774879200-1774886400@hlcc.org
SUMMARY:Pickleball
DESCRIPTION:
URL:https://hlcc.org/event/pickleball-4/2026-03-30/
CATEGORIES:Activities
END:VEVENT
BEGIN:VEVENT
DTSTART;TZID=UTC:20260330T170000
DTEND;TZID=UTC:20260330T180000
DTSTAMP:20260425T014127
CREATED:20250828T152335Z
LAST-MODIFIED:20250828T152335Z
UID:10000388-1774890000-1774893600@hlcc.org
SUMMARY:Yoga
DESCRIPTION:
URL:https://hlcc.org/event/yoga-2/2026-03-30/
LOCATION:Lake Room\, Highland Lakes\, NJ\, United States
CATEGORIES:Activities
ATTACH;FMTTYPE=image/jpeg:https://hlcc.org/wp-content/uploads/2022/12/2022-HLCC-Social-Media-v2-8.jpg
ORGANIZER;CN="Activities":MAILTO:info@hcc.org
END:VEVENT
BEGIN:VEVENT
DTSTART;TZID=UTC:20260331T093000
DTEND;TZID=UTC:20260331T113000
DTSTAMP:20260425T014127
CREATED:20260120T190858Z
LAST-MODIFIED:20260120T190859Z
UID:10010872-1774949400-1774956600@hlcc.org
SUMMARY:Playgroup Under 5
DESCRIPTION:
URL:https://hlcc.org/event/playgroup-under-5-5/2026-03-31/
CATEGORIES:Activities
ATTACH;FMTTYPE=image/jpeg:https://hlcc.org/wp-content/uploads/2026/01/2026-playgroup-1.jpg
END:VEVENT
BEGIN:VEVENT
DTSTART;TZID=UTC:20260401T140000
DTEND;TZID=UTC:20260401T160000
DTSTAMP:20260425T014127
CREATED:20260325T155753Z
LAST-MODIFIED:20260325T155753Z
UID:10011498-1775052000-1775059200@hlcc.org
SUMMARY:Pickleball
DESCRIPTION:
URL:https://hlcc.org/event/pickleball-4/2026-04-01/
CATEGORIES:Activities
END:VEVENT
BEGIN:VEVENT
DTSTART;TZID=UTC:20260401T170000
DTEND;TZID=UTC:20260401T180000
DTSTAMP:20260425T014127
CREATED:20250828T152335Z
LAST-MODIFIED:20250828T152335Z
UID:10000389-1775062800-1775066400@hlcc.org
SUMMARY:Yoga
DESCRIPTION:
URL:https://hlcc.org/event/yoga-2/2026-04-01/
LOCATION:Lake Room\, Highland Lakes\, NJ\, United States
CATEGORIES:Activities
ATTACH;FMTTYPE=image/jpeg:https://hlcc.org/wp-content/uploads/2022/12/2022-HLCC-Social-Media-v2-8.jpg
ORGANIZER;CN="Activities":MAILTO:info@hcc.org
END:VEVENT
BEGIN:VEVENT
DTSTART;TZID=UTC:20260401T173000
DTEND;TZID=UTC:20260401T193000
DTSTAMP:20260425T014127
CREATED:20251030T145112Z
LAST-MODIFIED:20251030T145112Z
UID:10010719-1775064600-1775071800@hlcc.org
SUMMARY:Scouts
DESCRIPTION:
URL:https://hlcc.org/event/scouts-3/2026-04-01/
CATEGORIES:Activities
END:VEVENT
BEGIN:VEVENT
DTSTART;TZID=UTC:20260401T190000
DTEND;TZID=UTC:20260401T210000
DTSTAMP:20260425T014127
CREATED:20260325T151643Z
LAST-MODIFIED:20260325T151644Z
UID:10011449-1775070000-1775077200@hlcc.org
SUMMARY:Darts
DESCRIPTION:
URL:https://hlcc.org/event/darts-3/2026-04-01/
CATEGORIES:Activities
ATTACH;FMTTYPE=image/jpeg:https://hlcc.org/wp-content/uploads/2026/03/2026-darts.jpg
END:VEVENT
BEGIN:VEVENT
DTSTART;TZID=UTC:20260402T080000
DTEND;TZID=UTC:20260402T093000
DTSTAMP:20260425T014127
CREATED:20250828T152339Z
LAST-MODIFIED:20250828T152339Z
UID:10003944-1775116800-1775122200@hlcc.org
SUMMARY:Yoga & Meditation
DESCRIPTION:
URL:https://hlcc.org/event/yoga-meditation/2026-04-02/
LOCATION:Clubhouse
CATEGORIES:Activities
ORGANIZER;CN="Activities":MAILTO:info@hcc.org
END:VEVENT
BEGIN:VEVENT
DTSTART;TZID=UTC:20260402T183000
DTEND;TZID=UTC:20260402T193000
DTSTAMP:20260425T014127
CREATED:20260331T171552Z
LAST-MODIFIED:20260331T171552Z
UID:10011806-1775154600-1775158200@hlcc.org
SUMMARY:Teen Council
DESCRIPTION:
URL:https://hlcc.org/event/teen-council-5/
CATEGORIES:Activities
END:VEVENT
BEGIN:VEVENT
DTSTART;TZID=UTC:20260402T190000
DTEND;TZID=UTC:20260402T200000
DTSTAMP:20260425T014127
CREATED:20250828T152334Z
LAST-MODIFIED:20250828T152334Z
UID:10001003-1775156400-1775160000@hlcc.org
SUMMARY:Stitching
DESCRIPTION:
URL:https://hlcc.org/event/stitching/2026-04-02/
LOCATION:Clubhouse
CATEGORIES:Activities
ORGANIZER;CN="Activities":MAILTO:info@hcc.org
END:VEVENT
BEGIN:VEVENT
DTSTART;TZID=UTC:20260402T190000
DTEND;TZID=UTC:20260402T203000
DTSTAMP:20260425T014127
CREATED:20260205T181724Z
LAST-MODIFIED:20260205T185406Z
UID:10011041-1775156400-1775161800@hlcc.org
SUMMARY:Chess Club
DESCRIPTION:
URL:https://hlcc.org/event/chess-club-2/2026-04-02/
CATEGORIES:Activities
ATTACH;FMTTYPE=image/jpeg:https://hlcc.org/wp-content/uploads/2026/02/2026-chess-1.jpg
END:VEVENT
BEGIN:VEVENT
DTSTART;TZID=UTC:20260403T100000
DTEND;TZID=UTC:20260403T120000
DTSTAMP:20260425T014127
CREATED:20250828T152345Z
LAST-MODIFIED:20250828T152345Z
UID:10005358-1775210400-1775217600@hlcc.org
SUMMARY:Pickleball - Fridays
DESCRIPTION:
URL:https://hlcc.org/event/pickleball-3/2026-04-03/
LOCATION:Clubhouse
CATEGORIES:Activities
ORGANIZER;CN="Activities":MAILTO:info@hcc.org
END:VEVENT
BEGIN:VEVENT
DTSTART;TZID=UTC:20260403T183000
DTEND;TZID=UTC:20260403T193000
DTSTAMP:20260425T014127
CREATED:20260113T180034Z
LAST-MODIFIED:20260113T180034Z
UID:10010852-1775241000-1775244600@hlcc.org
SUMMARY:Bunco
DESCRIPTION:
URL:https://hlcc.org/event/bunco-11/2026-04-03/
CATEGORIES:Activities
END:VEVENT
BEGIN:VEVENT
DTSTART;TZID=UTC:20260403T193000
DTEND;TZID=UTC:20260403T213000
DTSTAMP:20260425T014127
CREATED:20260326T175307Z
LAST-MODIFIED:20260326T175307Z
UID:10011525-1775244600-1775251800@hlcc.org
SUMMARY:Cards at the Clubhouse
DESCRIPTION:
URL:https://hlcc.org/event/cards-at-the-clubhouse/2026-04-03/
CATEGORIES:Activities
END:VEVENT
BEGIN:VEVENT
DTSTART;TZID=UTC:20260406T140000
DTEND;TZID=UTC:20260406T160000
DTSTAMP:20260425T014127
CREATED:20260325T155753Z
LAST-MODIFIED:20260325T155753Z
UID:10011499-1775484000-1775491200@hlcc.org
SUMMARY:Pickleball
DESCRIPTION:
URL:https://hlcc.org/event/pickleball-4/2026-04-06/
CATEGORIES:Activities
END:VEVENT
BEGIN:VEVENT
DTSTART;TZID=UTC:20260406T170000
DTEND;TZID=UTC:20260406T180000
DTSTAMP:20260425T014127
CREATED:20250828T152335Z
LAST-MODIFIED:20250828T152335Z
UID:10000390-1775494800-1775498400@hlcc.org
SUMMARY:Yoga
DESCRIPTION:
URL:https://hlcc.org/event/yoga-2/2026-04-06/
LOCATION:Lake Room\, Highland Lakes\, NJ\, United States
CATEGORIES:Activities
ATTACH;FMTTYPE=image/jpeg:https://hlcc.org/wp-content/uploads/2022/12/2022-HLCC-Social-Media-v2-8.jpg
ORGANIZER;CN="Activities":MAILTO:info@hcc.org
END:VEVENT
BEGIN:VEVENT
DTSTART;TZID=UTC:20260407T093000
DTEND;TZID=UTC:20260407T113000
DTSTAMP:20260425T014127
CREATED:20260120T190858Z
LAST-MODIFIED:20260120T190859Z
UID:10010873-1775554200-1775561400@hlcc.org
SUMMARY:Playgroup Under 5
DESCRIPTION:
URL:https://hlcc.org/event/playgroup-under-5-5/2026-04-07/
CATEGORIES:Activities
ATTACH;FMTTYPE=image/jpeg:https://hlcc.org/wp-content/uploads/2026/01/2026-playgroup-1.jpg
END:VEVENT
BEGIN:VEVENT
DTSTART;TZID=UTC:20260408T140000
DTEND;TZID=UTC:20260408T160000
DTSTAMP:20260425T014127
CREATED:20260325T155753Z
LAST-MODIFIED:20260325T155753Z
UID:10011500-1775656800-1775664000@hlcc.org
SUMMARY:Pickleball
DESCRIPTION:
URL:https://hlcc.org/event/pickleball-4/2026-04-08/
CATEGORIES:Activities
END:VEVENT
END:VCALENDAR