BEGIN:VCALENDAR
VERSION:2.0
PRODID:-//Highland Lakes Country Club and Community Association - ECPv6.15.20//NONSGML v1.0//EN
CALSCALE:GREGORIAN
METHOD:PUBLISH
X-WR-CALNAME:Highland Lakes Country Club and Community Association
X-ORIGINAL-URL:https://hlcc.org
X-WR-CALDESC:Events for Highland Lakes Country Club and Community Association
REFRESH-INTERVAL;VALUE=DURATION:PT1H
X-Robots-Tag:noindex
X-PUBLISHED-TTL:PT1H
BEGIN:VTIMEZONE
TZID:UTC
BEGIN:STANDARD
TZOFFSETFROM:+0000
TZOFFSETTO:+0000
TZNAME:UTC
DTSTART:20240101T000000
END:STANDARD
END:VTIMEZONE
BEGIN:VEVENT
DTSTART;TZID=UTC:20251027T170000
DTEND;TZID=UTC:20251027T180000
DTSTAMP:20260425T022941
CREATED:20250828T152335Z
LAST-MODIFIED:20250828T152335Z
UID:10000344-1761584400-1761588000@hlcc.org
SUMMARY:Yoga
DESCRIPTION:
URL:https://hlcc.org/event/yoga-2/2025-10-27/
LOCATION:Lake Room\, Highland Lakes\, NJ\, United States
CATEGORIES:Activities
ATTACH;FMTTYPE=image/jpeg:https://hlcc.org/wp-content/uploads/2022/12/2022-HLCC-Social-Media-v2-8.jpg
ORGANIZER;CN="Activities":MAILTO:info@hcc.org
END:VEVENT
BEGIN:VEVENT
DTSTART;TZID=UTC:20251027T180000
DTEND;TZID=UTC:20251027T190000
DTSTAMP:20260425T022941
CREATED:20250828T152504Z
LAST-MODIFIED:20250828T152504Z
UID:10009165-1761588000-1761591600@hlcc.org
SUMMARY:Pickle Ball - Summer
DESCRIPTION:
URL:https://hlcc.org/event/pickle-ball-winter-2/2025-10-27/
CATEGORIES:Activities
END:VEVENT
BEGIN:VEVENT
DTSTART;TZID=UTC:20251029T170000
DTEND;TZID=UTC:20251029T180000
DTSTAMP:20260425T022941
CREATED:20250828T152335Z
LAST-MODIFIED:20250828T152335Z
UID:10000345-1761757200-1761760800@hlcc.org
SUMMARY:Yoga
DESCRIPTION:
URL:https://hlcc.org/event/yoga-2/2025-10-29/
LOCATION:Lake Room\, Highland Lakes\, NJ\, United States
CATEGORIES:Activities
ATTACH;FMTTYPE=image/jpeg:https://hlcc.org/wp-content/uploads/2022/12/2022-HLCC-Social-Media-v2-8.jpg
ORGANIZER;CN="Activities":MAILTO:info@hcc.org
END:VEVENT
BEGIN:VEVENT
DTSTART;TZID=UTC:20251029T180000
DTEND;TZID=UTC:20251029T190000
DTSTAMP:20260425T022941
CREATED:20250828T152504Z
LAST-MODIFIED:20250828T152504Z
UID:10009166-1761760800-1761764400@hlcc.org
SUMMARY:Pickle Ball - Summer
DESCRIPTION:
URL:https://hlcc.org/event/pickle-ball-winter-2/2025-10-29/
CATEGORIES:Activities
END:VEVENT
BEGIN:VEVENT
DTSTART;TZID=UTC:20251029T190000
DTEND;TZID=UTC:20251029T200000
DTSTAMP:20260425T022941
CREATED:20250828T152415Z
LAST-MODIFIED:20250828T152415Z
UID:10009222-1761764400-1761768000@hlcc.org
SUMMARY:Darts
DESCRIPTION:
URL:https://hlcc.org/event/darts-2/2025-10-29/
LOCATION:Clubhouse
CATEGORIES:Activities
ORGANIZER;CN="Activities":MAILTO:info@hcc.org
END:VEVENT
BEGIN:VEVENT
DTSTART;TZID=UTC:20251030T080000
DTEND;TZID=UTC:20251030T093000
DTSTAMP:20260425T022941
CREATED:20250828T152339Z
LAST-MODIFIED:20250828T152339Z
UID:10003922-1761811200-1761816600@hlcc.org
SUMMARY:Yoga & Meditation
DESCRIPTION:
URL:https://hlcc.org/event/yoga-meditation/2025-10-30/
LOCATION:Clubhouse
CATEGORIES:Activities
ORGANIZER;CN="Activities":MAILTO:info@hcc.org
END:VEVENT
BEGIN:VEVENT
DTSTART;TZID=UTC:20251030T080000
DTEND;TZID=UTC:20251030T170000
DTSTAMP:20260425T022941
CREATED:20251030T144032Z
LAST-MODIFIED:20251030T144032Z
UID:10010711-1761811200-1761843600@hlcc.org
SUMMARY:Artists Group
DESCRIPTION:
URL:https://hlcc.org/event/artists-group-2-2/2025-10-30/
LOCATION:Seckler Room
CATEGORIES:Activities
ORGANIZER;CN="Activities":MAILTO:info@hcc.org
END:VEVENT
BEGIN:VEVENT
DTSTART;TZID=UTC:20251030T110000
DTEND;TZID=UTC:20251030T120000
DTSTAMP:20260425T022941
CREATED:20250828T152455Z
LAST-MODIFIED:20250828T152455Z
UID:10008267-1761822000-1761825600@hlcc.org
SUMMARY:Guitar Club
DESCRIPTION:
URL:https://hlcc.org/event/guitar-club/2025-10-30/
CATEGORIES:Activities
ATTACH;FMTTYPE=image/jpeg:https://hlcc.org/wp-content/uploads/2025/01/2025-GUITAR-CLUB.jpg
END:VEVENT
BEGIN:VEVENT
DTSTART;TZID=UTC:20251030T190000
DTEND;TZID=UTC:20251030T200000
DTSTAMP:20260425T022941
CREATED:20250828T152334Z
LAST-MODIFIED:20250828T152334Z
UID:10000981-1761850800-1761854400@hlcc.org
SUMMARY:Stitching
DESCRIPTION:
URL:https://hlcc.org/event/stitching/2025-10-30/
LOCATION:Clubhouse
CATEGORIES:Activities
ORGANIZER;CN="Activities":MAILTO:info@hcc.org
END:VEVENT
BEGIN:VEVENT
DTSTART;TZID=UTC:20251030T190000
DTEND;TZID=UTC:20251030T203000
DTSTAMP:20260425T022941
CREATED:20250828T152523Z
LAST-MODIFIED:20250828T152523Z
UID:10009561-1761850800-1761856200@hlcc.org
SUMMARY:Chess
DESCRIPTION:
URL:https://hlcc.org/event/chess/2025-10-30/
CATEGORIES:Activities
END:VEVENT
BEGIN:VEVENT
DTSTART;TZID=UTC:20251031T100000
DTEND;TZID=UTC:20251031T120000
DTSTAMP:20260425T022941
CREATED:20250828T152345Z
LAST-MODIFIED:20250828T152345Z
UID:10005336-1761904800-1761912000@hlcc.org
SUMMARY:Pickleball - Fridays
DESCRIPTION:
URL:https://hlcc.org/event/pickleball-3/2025-10-31/
LOCATION:Clubhouse
CATEGORIES:Activities
ORGANIZER;CN="Activities":MAILTO:info@hcc.org
END:VEVENT
END:VCALENDAR