BEGIN:VCALENDAR
VERSION:2.0
PRODID:-//Highland Lakes Country Club and Community Association - ECPv6.15.20//NONSGML v1.0//EN
CALSCALE:GREGORIAN
METHOD:PUBLISH
X-ORIGINAL-URL:https://hlcc.org
X-WR-CALDESC:Events for Highland Lakes Country Club and Community Association
REFRESH-INTERVAL;VALUE=DURATION:PT1H
X-Robots-Tag:noindex
X-PUBLISHED-TTL:PT1H
BEGIN:VTIMEZONE
TZID:UTC
BEGIN:STANDARD
TZOFFSETFROM:+0000
TZOFFSETTO:+0000
TZNAME:UTC
DTSTART:20240101T000000
END:STANDARD
END:VTIMEZONE
BEGIN:VEVENT
DTSTART;TZID=UTC:20251208T140000
DTEND;TZID=UTC:20251208T160000
DTSTAMP:20260425T023025
CREATED:20251120T145155Z
LAST-MODIFIED:20251120T145239Z
UID:10010825-1765202400-1765209600@hlcc.org
SUMMARY:Pickle Ball - Winter
DESCRIPTION:
URL:https://hlcc.org/event/pickle-ball-winter-2-2/2025-12-08/
CATEGORIES:Activities
END:VEVENT
BEGIN:VEVENT
DTSTART;TZID=UTC:20251208T170000
DTEND;TZID=UTC:20251208T180000
DTSTAMP:20260425T023025
CREATED:20250828T152335Z
LAST-MODIFIED:20250828T152335Z
UID:10000356-1765213200-1765216800@hlcc.org
SUMMARY:Yoga
DESCRIPTION:
URL:https://hlcc.org/event/yoga-2/2025-12-08/
LOCATION:Lake Room\, Highland Lakes\, NJ\, United States
CATEGORIES:Activities
ATTACH;FMTTYPE=image/jpeg:https://hlcc.org/wp-content/uploads/2022/12/2022-HLCC-Social-Media-v2-8.jpg
ORGANIZER;CN="Activities":MAILTO:info@hcc.org
END:VEVENT
BEGIN:VEVENT
DTSTART;TZID=UTC:20251210T140000
DTEND;TZID=UTC:20251210T160000
DTSTAMP:20260425T023025
CREATED:20251120T145155Z
LAST-MODIFIED:20251120T145239Z
UID:10010826-1765375200-1765382400@hlcc.org
SUMMARY:Pickle Ball - Winter
DESCRIPTION:
URL:https://hlcc.org/event/pickle-ball-winter-2-2/2025-12-10/
CATEGORIES:Activities
END:VEVENT
BEGIN:VEVENT
DTSTART;TZID=UTC:20251210T170000
DTEND;TZID=UTC:20251210T180000
DTSTAMP:20260425T023025
CREATED:20250828T152335Z
LAST-MODIFIED:20250828T152335Z
UID:10000357-1765386000-1765389600@hlcc.org
SUMMARY:Yoga
DESCRIPTION:
URL:https://hlcc.org/event/yoga-2/2025-12-10/
LOCATION:Lake Room\, Highland Lakes\, NJ\, United States
CATEGORIES:Activities
ATTACH;FMTTYPE=image/jpeg:https://hlcc.org/wp-content/uploads/2022/12/2022-HLCC-Social-Media-v2-8.jpg
ORGANIZER;CN="Activities":MAILTO:info@hcc.org
END:VEVENT
BEGIN:VEVENT
DTSTART;TZID=UTC:20251210T190000
DTEND;TZID=UTC:20251210T200000
DTSTAMP:20260425T023025
CREATED:20250828T152415Z
LAST-MODIFIED:20250828T152415Z
UID:10009228-1765393200-1765396800@hlcc.org
SUMMARY:Darts
DESCRIPTION:
URL:https://hlcc.org/event/darts-2/2025-12-10/
LOCATION:Clubhouse
CATEGORIES:Activities
ORGANIZER;CN="Activities":MAILTO:info@hcc.org
END:VEVENT
BEGIN:VEVENT
DTSTART;TZID=UTC:20251211T080000
DTEND;TZID=UTC:20251211T093000
DTSTAMP:20260425T023025
CREATED:20250828T152339Z
LAST-MODIFIED:20250828T152339Z
UID:10003928-1765440000-1765445400@hlcc.org
SUMMARY:Yoga & Meditation
DESCRIPTION:
URL:https://hlcc.org/event/yoga-meditation/2025-12-11/
LOCATION:Clubhouse
CATEGORIES:Activities
ORGANIZER;CN="Activities":MAILTO:info@hcc.org
END:VEVENT
BEGIN:VEVENT
DTSTART;TZID=UTC:20251211T110000
DTEND;TZID=UTC:20251211T120000
DTSTAMP:20260425T023025
CREATED:20250828T152455Z
LAST-MODIFIED:20250828T152455Z
UID:10008273-1765450800-1765454400@hlcc.org
SUMMARY:Guitar Club
DESCRIPTION:
URL:https://hlcc.org/event/guitar-club/2025-12-11/
CATEGORIES:Activities
ATTACH;FMTTYPE=image/jpeg:https://hlcc.org/wp-content/uploads/2025/01/2025-GUITAR-CLUB.jpg
END:VEVENT
BEGIN:VEVENT
DTSTART;TZID=UTC:20251211T190000
DTEND;TZID=UTC:20251211T200000
DTSTAMP:20260425T023025
CREATED:20250828T152334Z
LAST-MODIFIED:20250828T152334Z
UID:10000987-1765479600-1765483200@hlcc.org
SUMMARY:Stitching
DESCRIPTION:
URL:https://hlcc.org/event/stitching/2025-12-11/
LOCATION:Clubhouse
CATEGORIES:Activities
ORGANIZER;CN="Activities":MAILTO:info@hcc.org
END:VEVENT
BEGIN:VEVENT
DTSTART;TZID=UTC:20251211T190000
DTEND;TZID=UTC:20251211T203000
DTSTAMP:20260425T023025
CREATED:20250828T152523Z
LAST-MODIFIED:20250828T152523Z
UID:10009567-1765479600-1765485000@hlcc.org
SUMMARY:Chess
DESCRIPTION:
URL:https://hlcc.org/event/chess/2025-12-11/
CATEGORIES:Activities
END:VEVENT
BEGIN:VEVENT
DTSTART;TZID=UTC:20251212T100000
DTEND;TZID=UTC:20251212T120000
DTSTAMP:20260425T023025
CREATED:20250828T152345Z
LAST-MODIFIED:20250828T152345Z
UID:10005342-1765533600-1765540800@hlcc.org
SUMMARY:Pickleball - Fridays
DESCRIPTION:
URL:https://hlcc.org/event/pickleball-3/2025-12-12/
LOCATION:Clubhouse
CATEGORIES:Activities
ORGANIZER;CN="Activities":MAILTO:info@hcc.org
END:VEVENT
END:VCALENDAR