BEGIN:VCALENDAR
VERSION:2.0
PRODID:-//Highland Lakes Country Club and Community Association - ECPv6.15.20//NONSGML v1.0//EN
CALSCALE:GREGORIAN
METHOD:PUBLISH
X-WR-CALNAME:Highland Lakes Country Club and Community Association
X-ORIGINAL-URL:https://hlcc.org
X-WR-CALDESC:Events for Highland Lakes Country Club and Community Association
REFRESH-INTERVAL;VALUE=DURATION:PT1H
X-Robots-Tag:noindex
X-PUBLISHED-TTL:PT1H
BEGIN:VTIMEZONE
TZID:UTC
BEGIN:STANDARD
TZOFFSETFROM:+0000
TZOFFSETTO:+0000
TZNAME:UTC
DTSTART:20240101T000000
END:STANDARD
END:VTIMEZONE
BEGIN:VEVENT
DTSTART;TZID=UTC:20251229T140000
DTEND;TZID=UTC:20251229T160000
DTSTAMP:20260424T234528
CREATED:20251120T145155Z
LAST-MODIFIED:20251120T145239Z
UID:10010831-1767016800-1767024000@hlcc.org
SUMMARY:Pickle Ball - Winter
DESCRIPTION:
URL:https://hlcc.org/event/pickle-ball-winter-2-2/2025-12-29/
CATEGORIES:Activities
END:VEVENT
BEGIN:VEVENT
DTSTART;TZID=UTC:20251229T170000
DTEND;TZID=UTC:20251229T180000
DTSTAMP:20260424T234528
CREATED:20250828T152335Z
LAST-MODIFIED:20250828T152335Z
UID:10000362-1767027600-1767031200@hlcc.org
SUMMARY:Yoga
DESCRIPTION:
URL:https://hlcc.org/event/yoga-2/2025-12-29/
LOCATION:Lake Room\, Highland Lakes\, NJ\, United States
CATEGORIES:Activities
ATTACH;FMTTYPE=image/jpeg:https://hlcc.org/wp-content/uploads/2022/12/2022-HLCC-Social-Media-v2-8.jpg
ORGANIZER;CN="Activities":MAILTO:info@hcc.org
END:VEVENT
BEGIN:VEVENT
DTSTART;TZID=UTC:20251231T140000
DTEND;TZID=UTC:20251231T160000
DTSTAMP:20260424T234528
CREATED:20251120T145155Z
LAST-MODIFIED:20251120T145239Z
UID:10010832-1767189600-1767196800@hlcc.org
SUMMARY:Pickle Ball - Winter
DESCRIPTION:
URL:https://hlcc.org/event/pickle-ball-winter-2-2/2025-12-31/
CATEGORIES:Activities
END:VEVENT
BEGIN:VEVENT
DTSTART;TZID=UTC:20251231T170000
DTEND;TZID=UTC:20251231T180000
DTSTAMP:20260424T234528
CREATED:20250828T152335Z
LAST-MODIFIED:20250828T152335Z
UID:10000363-1767200400-1767204000@hlcc.org
SUMMARY:Yoga
DESCRIPTION:
URL:https://hlcc.org/event/yoga-2/2025-12-31/
LOCATION:Lake Room\, Highland Lakes\, NJ\, United States
CATEGORIES:Activities
ATTACH;FMTTYPE=image/jpeg:https://hlcc.org/wp-content/uploads/2022/12/2022-HLCC-Social-Media-v2-8.jpg
ORGANIZER;CN="Activities":MAILTO:info@hcc.org
END:VEVENT
BEGIN:VEVENT
DTSTART;TZID=UTC:20251231T190000
DTEND;TZID=UTC:20251231T200000
DTSTAMP:20260424T234528
CREATED:20250828T152415Z
LAST-MODIFIED:20250828T152415Z
UID:10009231-1767207600-1767211200@hlcc.org
SUMMARY:Darts
DESCRIPTION:
URL:https://hlcc.org/event/darts-2/2025-12-31/
LOCATION:Clubhouse
CATEGORIES:Activities
ORGANIZER;CN="Activities":MAILTO:info@hcc.org
END:VEVENT
BEGIN:VEVENT
DTSTART;TZID=UTC:20260101T080000
DTEND;TZID=UTC:20260101T093000
DTSTAMP:20260424T234528
CREATED:20250828T152339Z
LAST-MODIFIED:20250828T152339Z
UID:10003931-1767254400-1767259800@hlcc.org
SUMMARY:Yoga & Meditation
DESCRIPTION:
URL:https://hlcc.org/event/yoga-meditation/2026-01-01/
LOCATION:Clubhouse
CATEGORIES:Activities
ORGANIZER;CN="Activities":MAILTO:info@hcc.org
END:VEVENT
BEGIN:VEVENT
DTSTART;TZID=UTC:20260101T110000
DTEND;TZID=UTC:20260101T120000
DTSTAMP:20260424T234528
CREATED:20250828T152455Z
LAST-MODIFIED:20250828T152455Z
UID:10008276-1767265200-1767268800@hlcc.org
SUMMARY:Guitar Club
DESCRIPTION:
URL:https://hlcc.org/event/guitar-club/2026-01-01/
CATEGORIES:Activities
ATTACH;FMTTYPE=image/jpeg:https://hlcc.org/wp-content/uploads/2025/01/2025-GUITAR-CLUB.jpg
END:VEVENT
BEGIN:VEVENT
DTSTART;TZID=UTC:20260101T190000
DTEND;TZID=UTC:20260101T200000
DTSTAMP:20260424T234528
CREATED:20250828T152334Z
LAST-MODIFIED:20250828T152334Z
UID:10000990-1767294000-1767297600@hlcc.org
SUMMARY:Stitching
DESCRIPTION:
URL:https://hlcc.org/event/stitching/2026-01-01/
LOCATION:Clubhouse
CATEGORIES:Activities
ORGANIZER;CN="Activities":MAILTO:info@hcc.org
END:VEVENT
BEGIN:VEVENT
DTSTART;TZID=UTC:20260101T190000
DTEND;TZID=UTC:20260101T203000
DTSTAMP:20260424T234528
CREATED:20250828T152523Z
LAST-MODIFIED:20250828T152523Z
UID:10009570-1767294000-1767299400@hlcc.org
SUMMARY:Chess
DESCRIPTION:
URL:https://hlcc.org/event/chess/2026-01-01/
CATEGORIES:Activities
END:VEVENT
BEGIN:VEVENT
DTSTART;TZID=UTC:20260102T100000
DTEND;TZID=UTC:20260102T120000
DTSTAMP:20260424T234528
CREATED:20250828T152345Z
LAST-MODIFIED:20250828T152345Z
UID:10005345-1767348000-1767355200@hlcc.org
SUMMARY:Pickleball - Fridays
DESCRIPTION:
URL:https://hlcc.org/event/pickleball-3/2026-01-02/
LOCATION:Clubhouse
CATEGORIES:Activities
ORGANIZER;CN="Activities":MAILTO:info@hcc.org
END:VEVENT
END:VCALENDAR