BEGIN:VCALENDAR
VERSION:2.0
PRODID:-//Highland Lakes Country Club and Community Association - ECPv6.15.20//NONSGML v1.0//EN
CALSCALE:GREGORIAN
METHOD:PUBLISH
X-ORIGINAL-URL:https://hlcc.org
X-WR-CALDESC:Events for Highland Lakes Country Club and Community Association
REFRESH-INTERVAL;VALUE=DURATION:PT1H
X-Robots-Tag:noindex
X-PUBLISHED-TTL:PT1H
BEGIN:VTIMEZONE
TZID:UTC
BEGIN:STANDARD
TZOFFSETFROM:+0000
TZOFFSETTO:+0000
TZNAME:UTC
DTSTART:20250101T000000
END:STANDARD
END:VTIMEZONE
BEGIN:VEVENT
DTSTART;TZID=UTC:20260105T140000
DTEND;TZID=UTC:20260105T160000
DTSTAMP:20260425T012207
CREATED:20251120T145155Z
LAST-MODIFIED:20251120T145239Z
UID:10010833-1767621600-1767628800@hlcc.org
SUMMARY:Pickle Ball - Winter
DESCRIPTION:
URL:https://hlcc.org/event/pickle-ball-winter-2-2/2026-01-05/
CATEGORIES:Activities
END:VEVENT
BEGIN:VEVENT
DTSTART;TZID=UTC:20260105T170000
DTEND;TZID=UTC:20260105T180000
DTSTAMP:20260425T012207
CREATED:20250828T152335Z
LAST-MODIFIED:20250828T152335Z
UID:10000364-1767632400-1767636000@hlcc.org
SUMMARY:Yoga
DESCRIPTION:
URL:https://hlcc.org/event/yoga-2/2026-01-05/
LOCATION:Lake Room\, Highland Lakes\, NJ\, United States
CATEGORIES:Activities
ATTACH;FMTTYPE=image/jpeg:https://hlcc.org/wp-content/uploads/2022/12/2022-HLCC-Social-Media-v2-8.jpg
ORGANIZER;CN="Activities":MAILTO:info@hcc.org
END:VEVENT
BEGIN:VEVENT
DTSTART;TZID=UTC:20260107T140000
DTEND;TZID=UTC:20260107T160000
DTSTAMP:20260425T012207
CREATED:20251120T145155Z
LAST-MODIFIED:20251120T145239Z
UID:10010834-1767794400-1767801600@hlcc.org
SUMMARY:Pickle Ball - Winter
DESCRIPTION:
URL:https://hlcc.org/event/pickle-ball-winter-2-2/2026-01-07/
CATEGORIES:Activities
END:VEVENT
BEGIN:VEVENT
DTSTART;TZID=UTC:20260107T170000
DTEND;TZID=UTC:20260107T180000
DTSTAMP:20260425T012207
CREATED:20250828T152335Z
LAST-MODIFIED:20250828T152335Z
UID:10000365-1767805200-1767808800@hlcc.org
SUMMARY:Yoga
DESCRIPTION:
URL:https://hlcc.org/event/yoga-2/2026-01-07/
LOCATION:Lake Room\, Highland Lakes\, NJ\, United States
CATEGORIES:Activities
ATTACH;FMTTYPE=image/jpeg:https://hlcc.org/wp-content/uploads/2022/12/2022-HLCC-Social-Media-v2-8.jpg
ORGANIZER;CN="Activities":MAILTO:info@hcc.org
END:VEVENT
BEGIN:VEVENT
DTSTART;TZID=UTC:20260107T173000
DTEND;TZID=UTC:20260107T193000
DTSTAMP:20260425T012207
CREATED:20251030T145112Z
LAST-MODIFIED:20251030T145112Z
UID:10010716-1767807000-1767814200@hlcc.org
SUMMARY:Scouts
DESCRIPTION:
URL:https://hlcc.org/event/scouts-3/2026-01-07/
CATEGORIES:Activities
END:VEVENT
BEGIN:VEVENT
DTSTART;TZID=UTC:20260107T190000
DTEND;TZID=UTC:20260107T210000
DTSTAMP:20260425T012207
CREATED:20260325T151643Z
LAST-MODIFIED:20260325T151644Z
UID:10011437-1767812400-1767819600@hlcc.org
SUMMARY:Darts
DESCRIPTION:
URL:https://hlcc.org/event/darts-3/2026-01-07/
CATEGORIES:Activities
ATTACH;FMTTYPE=image/jpeg:https://hlcc.org/wp-content/uploads/2026/03/2026-darts.jpg
END:VEVENT
BEGIN:VEVENT
DTSTART;TZID=UTC:20260108T080000
DTEND;TZID=UTC:20260108T093000
DTSTAMP:20260425T012207
CREATED:20250828T152339Z
LAST-MODIFIED:20250828T152339Z
UID:10003932-1767859200-1767864600@hlcc.org
SUMMARY:Yoga & Meditation
DESCRIPTION:
URL:https://hlcc.org/event/yoga-meditation/2026-01-08/
LOCATION:Clubhouse
CATEGORIES:Activities
ORGANIZER;CN="Activities":MAILTO:info@hcc.org
END:VEVENT
BEGIN:VEVENT
DTSTART;TZID=UTC:20260108T110000
DTEND;TZID=UTC:20260108T120000
DTSTAMP:20260425T012207
CREATED:20250828T152455Z
LAST-MODIFIED:20250828T152455Z
UID:10008277-1767870000-1767873600@hlcc.org
SUMMARY:Guitar Club
DESCRIPTION:
URL:https://hlcc.org/event/guitar-club/2026-01-08/
CATEGORIES:Activities
ATTACH;FMTTYPE=image/jpeg:https://hlcc.org/wp-content/uploads/2025/01/2025-GUITAR-CLUB.jpg
END:VEVENT
BEGIN:VEVENT
DTSTART;TZID=UTC:20260108T190000
DTEND;TZID=UTC:20260108T200000
DTSTAMP:20260425T012207
CREATED:20250828T152334Z
LAST-MODIFIED:20250828T152334Z
UID:10000991-1767898800-1767902400@hlcc.org
SUMMARY:Stitching
DESCRIPTION:
URL:https://hlcc.org/event/stitching/2026-01-08/
LOCATION:Clubhouse
CATEGORIES:Activities
ORGANIZER;CN="Activities":MAILTO:info@hcc.org
END:VEVENT
BEGIN:VEVENT
DTSTART;TZID=UTC:20260108T190000
DTEND;TZID=UTC:20260108T203000
DTSTAMP:20260425T012207
CREATED:20250828T152523Z
LAST-MODIFIED:20250828T152523Z
UID:10009571-1767898800-1767904200@hlcc.org
SUMMARY:Chess
DESCRIPTION:
URL:https://hlcc.org/event/chess/2026-01-08/
CATEGORIES:Activities
END:VEVENT
BEGIN:VEVENT
DTSTART;TZID=UTC:20260109T100000
DTEND;TZID=UTC:20260109T120000
DTSTAMP:20260425T012207
CREATED:20250828T152345Z
LAST-MODIFIED:20250828T152345Z
UID:10005346-1767952800-1767960000@hlcc.org
SUMMARY:Pickleball - Fridays
DESCRIPTION:
URL:https://hlcc.org/event/pickleball-3/2026-01-09/
LOCATION:Clubhouse
CATEGORIES:Activities
ORGANIZER;CN="Activities":MAILTO:info@hcc.org
END:VEVENT
END:VCALENDAR