BEGIN:VCALENDAR
VERSION:2.0
PRODID:-//Highland Lakes Country Club and Community Association - ECPv6.15.20//NONSGML v1.0//EN
CALSCALE:GREGORIAN
METHOD:PUBLISH
X-WR-CALNAME:Highland Lakes Country Club and Community Association
X-ORIGINAL-URL:https://hlcc.org
X-WR-CALDESC:Events for Highland Lakes Country Club and Community Association
REFRESH-INTERVAL;VALUE=DURATION:PT1H
X-Robots-Tag:noindex
X-PUBLISHED-TTL:PT1H
BEGIN:VTIMEZONE
TZID:UTC
BEGIN:STANDARD
TZOFFSETFROM:+0000
TZOFFSETTO:+0000
TZNAME:UTC
DTSTART:20250101T000000
END:STANDARD
END:VTIMEZONE
BEGIN:VEVENT
DTSTART;TZID=UTC:20260112T140000
DTEND;TZID=UTC:20260112T160000
DTSTAMP:20260425T022927
CREATED:20251120T145155Z
LAST-MODIFIED:20251120T145239Z
UID:10010835-1768226400-1768233600@hlcc.org
SUMMARY:Pickle Ball - Winter
DESCRIPTION:
URL:https://hlcc.org/event/pickle-ball-winter-2-2/2026-01-12/
CATEGORIES:Activities
END:VEVENT
BEGIN:VEVENT
DTSTART;TZID=UTC:20260112T170000
DTEND;TZID=UTC:20260112T180000
DTSTAMP:20260425T022927
CREATED:20250828T152335Z
LAST-MODIFIED:20250828T152335Z
UID:10000366-1768237200-1768240800@hlcc.org
SUMMARY:Yoga
DESCRIPTION:
URL:https://hlcc.org/event/yoga-2/2026-01-12/
LOCATION:Lake Room\, Highland Lakes\, NJ\, United States
CATEGORIES:Activities
ATTACH;FMTTYPE=image/jpeg:https://hlcc.org/wp-content/uploads/2022/12/2022-HLCC-Social-Media-v2-8.jpg
ORGANIZER;CN="Activities":MAILTO:info@hcc.org
END:VEVENT
BEGIN:VEVENT
DTSTART;TZID=UTC:20260114T140000
DTEND;TZID=UTC:20260114T160000
DTSTAMP:20260425T022927
CREATED:20251120T145155Z
LAST-MODIFIED:20251120T145239Z
UID:10010836-1768399200-1768406400@hlcc.org
SUMMARY:Pickle Ball - Winter
DESCRIPTION:
URL:https://hlcc.org/event/pickle-ball-winter-2-2/2026-01-14/
CATEGORIES:Activities
END:VEVENT
BEGIN:VEVENT
DTSTART;TZID=UTC:20260114T170000
DTEND;TZID=UTC:20260114T180000
DTSTAMP:20260425T022927
CREATED:20250828T152335Z
LAST-MODIFIED:20250828T152335Z
UID:10000367-1768410000-1768413600@hlcc.org
SUMMARY:Yoga
DESCRIPTION:
URL:https://hlcc.org/event/yoga-2/2026-01-14/
LOCATION:Lake Room\, Highland Lakes\, NJ\, United States
CATEGORIES:Activities
ATTACH;FMTTYPE=image/jpeg:https://hlcc.org/wp-content/uploads/2022/12/2022-HLCC-Social-Media-v2-8.jpg
ORGANIZER;CN="Activities":MAILTO:info@hcc.org
END:VEVENT
BEGIN:VEVENT
DTSTART;TZID=UTC:20260114T190000
DTEND;TZID=UTC:20260114T210000
DTSTAMP:20260425T022927
CREATED:20260325T151643Z
LAST-MODIFIED:20260325T151644Z
UID:10011438-1768417200-1768424400@hlcc.org
SUMMARY:Darts
DESCRIPTION:
URL:https://hlcc.org/event/darts-3/2026-01-14/
CATEGORIES:Activities
ATTACH;FMTTYPE=image/jpeg:https://hlcc.org/wp-content/uploads/2026/03/2026-darts.jpg
END:VEVENT
BEGIN:VEVENT
DTSTART;TZID=UTC:20260115T080000
DTEND;TZID=UTC:20260115T093000
DTSTAMP:20260425T022927
CREATED:20250828T152339Z
LAST-MODIFIED:20250828T152339Z
UID:10003933-1768464000-1768469400@hlcc.org
SUMMARY:Yoga & Meditation
DESCRIPTION:
URL:https://hlcc.org/event/yoga-meditation/2026-01-15/
LOCATION:Clubhouse
CATEGORIES:Activities
ORGANIZER;CN="Activities":MAILTO:info@hcc.org
END:VEVENT
BEGIN:VEVENT
DTSTART;TZID=UTC:20260115T110000
DTEND;TZID=UTC:20260115T120000
DTSTAMP:20260425T022927
CREATED:20250828T152455Z
LAST-MODIFIED:20250828T152455Z
UID:10008278-1768474800-1768478400@hlcc.org
SUMMARY:Guitar Club
DESCRIPTION:
URL:https://hlcc.org/event/guitar-club/2026-01-15/
CATEGORIES:Activities
ATTACH;FMTTYPE=image/jpeg:https://hlcc.org/wp-content/uploads/2025/01/2025-GUITAR-CLUB.jpg
END:VEVENT
BEGIN:VEVENT
DTSTART;TZID=UTC:20260115T190000
DTEND;TZID=UTC:20260115T200000
DTSTAMP:20260425T022927
CREATED:20250828T152334Z
LAST-MODIFIED:20250828T152334Z
UID:10000992-1768503600-1768507200@hlcc.org
SUMMARY:Stitching
DESCRIPTION:
URL:https://hlcc.org/event/stitching/2026-01-15/
LOCATION:Clubhouse
CATEGORIES:Activities
ORGANIZER;CN="Activities":MAILTO:info@hcc.org
END:VEVENT
BEGIN:VEVENT
DTSTART;TZID=UTC:20260115T190000
DTEND;TZID=UTC:20260115T203000
DTSTAMP:20260425T022927
CREATED:20250828T152523Z
LAST-MODIFIED:20250828T152523Z
UID:10009572-1768503600-1768509000@hlcc.org
SUMMARY:Chess
DESCRIPTION:
URL:https://hlcc.org/event/chess/2026-01-15/
CATEGORIES:Activities
END:VEVENT
BEGIN:VEVENT
DTSTART;TZID=UTC:20260116T100000
DTEND;TZID=UTC:20260116T120000
DTSTAMP:20260425T022927
CREATED:20250828T152345Z
LAST-MODIFIED:20250828T152345Z
UID:10005347-1768557600-1768564800@hlcc.org
SUMMARY:Pickleball - Fridays
DESCRIPTION:
URL:https://hlcc.org/event/pickleball-3/2026-01-16/
LOCATION:Clubhouse
CATEGORIES:Activities
ORGANIZER;CN="Activities":MAILTO:info@hcc.org
END:VEVENT
BEGIN:VEVENT
DTSTART;TZID=UTC:20260117T190000
DTEND;TZID=UTC:20260117T220000
DTSTAMP:20260425T022927
CREATED:20260109T185723Z
LAST-MODIFIED:20260109T185723Z
UID:10010849-1768676400-1768687200@hlcc.org
SUMMARY:Open Mic Night
DESCRIPTION:
URL:https://hlcc.org/event/open-mic-night-8/
CATEGORIES:Activities
END:VEVENT
END:VCALENDAR