BEGIN:VCALENDAR
VERSION:2.0
PRODID:-//Highland Lakes Country Club and Community Association - ECPv6.15.20//NONSGML v1.0//EN
CALSCALE:GREGORIAN
METHOD:PUBLISH
X-ORIGINAL-URL:https://hlcc.org
X-WR-CALDESC:Events for Highland Lakes Country Club and Community Association
REFRESH-INTERVAL;VALUE=DURATION:PT1H
X-Robots-Tag:noindex
X-PUBLISHED-TTL:PT1H
BEGIN:VTIMEZONE
TZID:UTC
BEGIN:STANDARD
TZOFFSETFROM:+0000
TZOFFSETTO:+0000
TZNAME:UTC
DTSTART:20250101T000000
END:STANDARD
END:VTIMEZONE
BEGIN:VEVENT
DTSTART;TZID=UTC:20260622T170000
DTEND;TZID=UTC:20260622T180000
DTSTAMP:20260425T010207
CREATED:20250828T152335Z
LAST-MODIFIED:20250828T152335Z
UID:10000412-1782147600-1782151200@hlcc.org
SUMMARY:Yoga
DESCRIPTION:
URL:https://hlcc.org/event/yoga-2/2026-06-22/
LOCATION:Lake Room\, Highland Lakes\, NJ\, United States
CATEGORIES:Activities
ATTACH;FMTTYPE=image/jpeg:https://hlcc.org/wp-content/uploads/2022/12/2022-HLCC-Social-Media-v2-8.jpg
ORGANIZER;CN="Activities":MAILTO:info@hcc.org
END:VEVENT
BEGIN:VEVENT
DTSTART;TZID=UTC:20260622T180000
DTEND;TZID=UTC:20260622T190000
DTSTAMP:20260425T010207
CREATED:20260331T171733Z
LAST-MODIFIED:20260331T171733Z
UID:10011818-1782151200-1782154800@hlcc.org
SUMMARY:Ceramics
DESCRIPTION:
URL:https://hlcc.org/event/ceramics-2/2026-06-22/
CATEGORIES:Activities
END:VEVENT
BEGIN:VEVENT
DTSTART;TZID=UTC:20260624T170000
DTEND;TZID=UTC:20260624T180000
DTSTAMP:20260425T010207
CREATED:20250828T152335Z
LAST-MODIFIED:20250828T152335Z
UID:10000413-1782320400-1782324000@hlcc.org
SUMMARY:Yoga
DESCRIPTION:
URL:https://hlcc.org/event/yoga-2/2026-06-24/
LOCATION:Lake Room\, Highland Lakes\, NJ\, United States
CATEGORIES:Activities
ATTACH;FMTTYPE=image/jpeg:https://hlcc.org/wp-content/uploads/2022/12/2022-HLCC-Social-Media-v2-8.jpg
ORGANIZER;CN="Activities":MAILTO:info@hcc.org
END:VEVENT
BEGIN:VEVENT
DTSTART;TZID=UTC:20260624T190000
DTEND;TZID=UTC:20260624T210000
DTSTAMP:20260425T010207
CREATED:20260325T151643Z
LAST-MODIFIED:20260325T151644Z
UID:10011461-1782327600-1782334800@hlcc.org
SUMMARY:Darts
DESCRIPTION:
URL:https://hlcc.org/event/darts-3/2026-06-24/
CATEGORIES:Activities
ATTACH;FMTTYPE=image/jpeg:https://hlcc.org/wp-content/uploads/2026/03/2026-darts.jpg
END:VEVENT
BEGIN:VEVENT
DTSTART;TZID=UTC:20260625T080000
DTEND;TZID=UTC:20260625T093000
DTSTAMP:20260425T010207
CREATED:20250828T152339Z
LAST-MODIFIED:20250828T152339Z
UID:10003956-1782374400-1782379800@hlcc.org
SUMMARY:Yoga & Meditation
DESCRIPTION:
URL:https://hlcc.org/event/yoga-meditation/2026-06-25/
LOCATION:Clubhouse
CATEGORIES:Activities
ORGANIZER;CN="Activities":MAILTO:info@hcc.org
END:VEVENT
BEGIN:VEVENT
DTSTART;TZID=UTC:20260625T190000
DTEND;TZID=UTC:20260625T200000
DTSTAMP:20260425T010207
CREATED:20250828T152334Z
LAST-MODIFIED:20250828T152334Z
UID:10001015-1782414000-1782417600@hlcc.org
SUMMARY:Stitching
DESCRIPTION:
URL:https://hlcc.org/event/stitching/2026-06-25/
LOCATION:Clubhouse
CATEGORIES:Activities
ORGANIZER;CN="Activities":MAILTO:info@hcc.org
END:VEVENT
BEGIN:VEVENT
DTSTART;TZID=UTC:20260625T190000
DTEND;TZID=UTC:20260625T203000
DTSTAMP:20260425T010207
CREATED:20260205T181724Z
LAST-MODIFIED:20260205T185406Z
UID:10011053-1782414000-1782419400@hlcc.org
SUMMARY:Chess Club
DESCRIPTION:
URL:https://hlcc.org/event/chess-club-2/2026-06-25/
CATEGORIES:Activities
ATTACH;FMTTYPE=image/jpeg:https://hlcc.org/wp-content/uploads/2026/02/2026-chess-1.jpg
END:VEVENT
BEGIN:VEVENT
DTSTART;TZID=UTC:20260626T100000
DTEND;TZID=UTC:20260626T120000
DTSTAMP:20260425T010207
CREATED:20250828T152345Z
LAST-MODIFIED:20250828T152345Z
UID:10005370-1782468000-1782475200@hlcc.org
SUMMARY:Pickleball - Fridays
DESCRIPTION:
URL:https://hlcc.org/event/pickleball-3/2026-06-26/
LOCATION:Clubhouse
CATEGORIES:Activities
ORGANIZER;CN="Activities":MAILTO:info@hcc.org
END:VEVENT
BEGIN:VEVENT
DTSTART;TZID=UTC:20260626T193000
DTEND;TZID=UTC:20260626T213000
DTSTAMP:20260425T010207
CREATED:20260326T175307Z
LAST-MODIFIED:20260326T175307Z
UID:10011537-1782502200-1782509400@hlcc.org
SUMMARY:Cards at the Clubhouse
DESCRIPTION:
URL:https://hlcc.org/event/cards-at-the-clubhouse/2026-06-26/
CATEGORIES:Activities
END:VEVENT
END:VCALENDAR