BEGIN:VCALENDAR
VERSION:2.0
PRODID:-//Highland Lakes Country Club and Community Association - ECPv6.15.20//NONSGML v1.0//EN
CALSCALE:GREGORIAN
METHOD:PUBLISH
X-WR-CALNAME:Highland Lakes Country Club and Community Association
X-ORIGINAL-URL:https://hlcc.org
X-WR-CALDESC:Events for Highland Lakes Country Club and Community Association
REFRESH-INTERVAL;VALUE=DURATION:PT1H
X-Robots-Tag:noindex
X-PUBLISHED-TTL:PT1H
BEGIN:VTIMEZONE
TZID:UTC
BEGIN:STANDARD
TZOFFSETFROM:+0000
TZOFFSETTO:+0000
TZNAME:UTC
DTSTART:20250101T000000
END:STANDARD
END:VTIMEZONE
BEGIN:VEVENT
DTSTART;TZID=UTC:20260706T170000
DTEND;TZID=UTC:20260706T180000
DTSTAMP:20260425T010159
CREATED:20250828T152335Z
LAST-MODIFIED:20250828T152335Z
UID:10000416-1783357200-1783360800@hlcc.org
SUMMARY:Yoga
DESCRIPTION:
URL:https://hlcc.org/event/yoga-2/2026-07-06/
LOCATION:Lake Room\, Highland Lakes\, NJ\, United States
CATEGORIES:Activities
ATTACH;FMTTYPE=image/jpeg:https://hlcc.org/wp-content/uploads/2022/12/2022-HLCC-Social-Media-v2-8.jpg
ORGANIZER;CN="Activities":MAILTO:info@hcc.org
END:VEVENT
BEGIN:VEVENT
DTSTART;TZID=UTC:20260706T180000
DTEND;TZID=UTC:20260706T190000
DTSTAMP:20260425T010159
CREATED:20260210T153306Z
LAST-MODIFIED:20260210T153307Z
UID:10011365-1783360800-1783364400@hlcc.org
SUMMARY:Summer Ceramics
DESCRIPTION:
URL:https://hlcc.org/event/summer-ceramics/2026-07-06/
CATEGORIES:Activities
END:VEVENT
BEGIN:VEVENT
DTSTART;TZID=UTC:20260706T180000
DTEND;TZID=UTC:20260706T190000
DTSTAMP:20260425T010159
CREATED:20260331T171733Z
LAST-MODIFIED:20260331T171733Z
UID:10011820-1783360800-1783364400@hlcc.org
SUMMARY:Ceramics
DESCRIPTION:
URL:https://hlcc.org/event/ceramics-2/2026-07-06/
CATEGORIES:Activities
END:VEVENT
BEGIN:VEVENT
DTSTART;TZID=UTC:20260707T180000
DTEND;TZID=UTC:20260707T190000
DTSTAMP:20260425T010159
CREATED:20260210T155359Z
LAST-MODIFIED:20260210T155457Z
UID:10011376-1783447200-1783450800@hlcc.org
SUMMARY:Tie Dye
DESCRIPTION:
URL:https://hlcc.org/event/tie-dye/
CATEGORIES:Activities
END:VEVENT
BEGIN:VEVENT
DTSTART;TZID=UTC:20260708T170000
DTEND;TZID=UTC:20260708T180000
DTSTAMP:20260425T010159
CREATED:20250828T152335Z
LAST-MODIFIED:20250828T152335Z
UID:10000417-1783530000-1783533600@hlcc.org
SUMMARY:Yoga
DESCRIPTION:
URL:https://hlcc.org/event/yoga-2/2026-07-08/
LOCATION:Lake Room\, Highland Lakes\, NJ\, United States
CATEGORIES:Activities
ATTACH;FMTTYPE=image/jpeg:https://hlcc.org/wp-content/uploads/2022/12/2022-HLCC-Social-Media-v2-8.jpg
ORGANIZER;CN="Activities":MAILTO:info@hcc.org
END:VEVENT
BEGIN:VEVENT
DTSTART;TZID=UTC:20260708T190000
DTEND;TZID=UTC:20260708T210000
DTSTAMP:20260425T010159
CREATED:20260325T151643Z
LAST-MODIFIED:20260325T151644Z
UID:10011463-1783537200-1783544400@hlcc.org
SUMMARY:Darts
DESCRIPTION:
URL:https://hlcc.org/event/darts-3/2026-07-08/
CATEGORIES:Activities
ATTACH;FMTTYPE=image/jpeg:https://hlcc.org/wp-content/uploads/2026/03/2026-darts.jpg
END:VEVENT
BEGIN:VEVENT
DTSTART;TZID=UTC:20260709T080000
DTEND;TZID=UTC:20260709T093000
DTSTAMP:20260425T010159
CREATED:20250828T152339Z
LAST-MODIFIED:20250828T152339Z
UID:10003958-1783584000-1783589400@hlcc.org
SUMMARY:Yoga & Meditation
DESCRIPTION:
URL:https://hlcc.org/event/yoga-meditation/2026-07-09/
LOCATION:Clubhouse
CATEGORIES:Activities
ORGANIZER;CN="Activities":MAILTO:info@hcc.org
END:VEVENT
BEGIN:VEVENT
DTSTART;TZID=UTC:20260709T190000
DTEND;TZID=UTC:20260709T200000
DTSTAMP:20260425T010159
CREATED:20250828T152334Z
LAST-MODIFIED:20250828T152334Z
UID:10001017-1783623600-1783627200@hlcc.org
SUMMARY:Stitching
DESCRIPTION:
URL:https://hlcc.org/event/stitching/2026-07-09/
LOCATION:Clubhouse
CATEGORIES:Activities
ORGANIZER;CN="Activities":MAILTO:info@hcc.org
END:VEVENT
BEGIN:VEVENT
DTSTART;TZID=UTC:20260709T190000
DTEND;TZID=UTC:20260709T203000
DTSTAMP:20260425T010159
CREATED:20260205T181724Z
LAST-MODIFIED:20260205T185406Z
UID:10011055-1783623600-1783629000@hlcc.org
SUMMARY:Chess Club
DESCRIPTION:
URL:https://hlcc.org/event/chess-club-2/2026-07-09/
CATEGORIES:Activities
ATTACH;FMTTYPE=image/jpeg:https://hlcc.org/wp-content/uploads/2026/02/2026-chess-1.jpg
END:VEVENT
BEGIN:VEVENT
DTSTART;TZID=UTC:20260710T100000
DTEND;TZID=UTC:20260710T120000
DTSTAMP:20260425T010159
CREATED:20250828T152345Z
LAST-MODIFIED:20250828T152345Z
UID:10005372-1783677600-1783684800@hlcc.org
SUMMARY:Pickleball - Fridays
DESCRIPTION:
URL:https://hlcc.org/event/pickleball-3/2026-07-10/
LOCATION:Clubhouse
CATEGORIES:Activities
ORGANIZER;CN="Activities":MAILTO:info@hcc.org
END:VEVENT
BEGIN:VEVENT
DTSTART;TZID=UTC:20260710T193000
DTEND;TZID=UTC:20260710T213000
DTSTAMP:20260425T010159
CREATED:20260326T175307Z
LAST-MODIFIED:20260326T175307Z
UID:10011539-1783711800-1783719000@hlcc.org
SUMMARY:Cards at the Clubhouse
DESCRIPTION:
URL:https://hlcc.org/event/cards-at-the-clubhouse/2026-07-10/
CATEGORIES:Activities
END:VEVENT
END:VCALENDAR