BEGIN:VCALENDAR
VERSION:2.0
PRODID:-//Highland Lakes Country Club and Community Association - ECPv6.15.20//NONSGML v1.0//EN
CALSCALE:GREGORIAN
METHOD:PUBLISH
X-WR-CALNAME:Highland Lakes Country Club and Community Association
X-ORIGINAL-URL:https://hlcc.org
X-WR-CALDESC:Events for Highland Lakes Country Club and Community Association
REFRESH-INTERVAL;VALUE=DURATION:PT1H
X-Robots-Tag:noindex
X-PUBLISHED-TTL:PT1H
BEGIN:VTIMEZONE
TZID:UTC
BEGIN:STANDARD
TZOFFSETFROM:+0000
TZOFFSETTO:+0000
TZNAME:UTC
DTSTART:20250101T000000
END:STANDARD
END:VTIMEZONE
BEGIN:VEVENT
DTSTART;TZID=UTC:20260928T170000
DTEND;TZID=UTC:20260928T180000
DTSTAMP:20260425T040457
CREATED:20250828T152335Z
LAST-MODIFIED:20250828T152335Z
UID:10000440-1790614800-1790618400@hlcc.org
SUMMARY:Yoga
DESCRIPTION:
URL:https://hlcc.org/event/yoga-2/2026-09-28/
LOCATION:Lake Room\, Highland Lakes\, NJ\, United States
CATEGORIES:Activities
ATTACH;FMTTYPE=image/jpeg:https://hlcc.org/wp-content/uploads/2022/12/2022-HLCC-Social-Media-v2-8.jpg
ORGANIZER;CN="Activities":MAILTO:info@hcc.org
END:VEVENT
BEGIN:VEVENT
DTSTART;TZID=UTC:20260928T180000
DTEND;TZID=UTC:20260928T190000
DTSTAMP:20260425T040458
CREATED:20260331T171733Z
LAST-MODIFIED:20260331T171733Z
UID:10011832-1790618400-1790622000@hlcc.org
SUMMARY:Ceramics
DESCRIPTION:
URL:https://hlcc.org/event/ceramics-2/2026-09-28/
CATEGORIES:Activities
END:VEVENT
BEGIN:VEVENT
DTSTART;TZID=UTC:20260930T170000
DTEND;TZID=UTC:20260930T180000
DTSTAMP:20260425T040458
CREATED:20250828T152335Z
LAST-MODIFIED:20250828T152335Z
UID:10000441-1790787600-1790791200@hlcc.org
SUMMARY:Yoga
DESCRIPTION:
URL:https://hlcc.org/event/yoga-2/2026-09-30/
LOCATION:Lake Room\, Highland Lakes\, NJ\, United States
CATEGORIES:Activities
ATTACH;FMTTYPE=image/jpeg:https://hlcc.org/wp-content/uploads/2022/12/2022-HLCC-Social-Media-v2-8.jpg
ORGANIZER;CN="Activities":MAILTO:info@hcc.org
END:VEVENT
BEGIN:VEVENT
DTSTART;TZID=UTC:20260930T184500
DTEND;TZID=UTC:20260930T200000
DTSTAMP:20260425T040458
CREATED:20260331T161545Z
LAST-MODIFIED:20260331T161912Z
UID:10011787-1790793900-1790798400@hlcc.org
SUMMARY:Book Club
DESCRIPTION:
URL:https://hlcc.org/event/book-club-2-2/2026-09-30/
LOCATION:Clubhouse
CATEGORIES:Activities
ORGANIZER;CN="Activities":MAILTO:info@hcc.org
END:VEVENT
BEGIN:VEVENT
DTSTART;TZID=UTC:20260930T190000
DTEND;TZID=UTC:20260930T210000
DTSTAMP:20260425T040458
CREATED:20260325T151643Z
LAST-MODIFIED:20260325T151644Z
UID:10011475-1790794800-1790802000@hlcc.org
SUMMARY:Darts
DESCRIPTION:
URL:https://hlcc.org/event/darts-3/2026-09-30/
CATEGORIES:Activities
ATTACH;FMTTYPE=image/jpeg:https://hlcc.org/wp-content/uploads/2026/03/2026-darts.jpg
END:VEVENT
BEGIN:VEVENT
DTSTART;TZID=UTC:20261001T080000
DTEND;TZID=UTC:20261001T093000
DTSTAMP:20260425T040458
CREATED:20250828T152339Z
LAST-MODIFIED:20250828T152339Z
UID:10003970-1790841600-1790847000@hlcc.org
SUMMARY:Yoga & Meditation
DESCRIPTION:
URL:https://hlcc.org/event/yoga-meditation/2026-10-01/
LOCATION:Clubhouse
CATEGORIES:Activities
ORGANIZER;CN="Activities":MAILTO:info@hcc.org
END:VEVENT
BEGIN:VEVENT
DTSTART;TZID=UTC:20261001T190000
DTEND;TZID=UTC:20261001T200000
DTSTAMP:20260425T040458
CREATED:20250828T152334Z
LAST-MODIFIED:20250828T152334Z
UID:10001029-1790881200-1790884800@hlcc.org
SUMMARY:Stitching
DESCRIPTION:
URL:https://hlcc.org/event/stitching/2026-10-01/
LOCATION:Clubhouse
CATEGORIES:Activities
ORGANIZER;CN="Activities":MAILTO:info@hcc.org
END:VEVENT
BEGIN:VEVENT
DTSTART;TZID=UTC:20261001T190000
DTEND;TZID=UTC:20261001T203000
DTSTAMP:20260425T040458
CREATED:20260205T181724Z
LAST-MODIFIED:20260205T185406Z
UID:10011067-1790881200-1790886600@hlcc.org
SUMMARY:Chess Club
DESCRIPTION:
URL:https://hlcc.org/event/chess-club-2/2026-10-01/
CATEGORIES:Activities
ATTACH;FMTTYPE=image/jpeg:https://hlcc.org/wp-content/uploads/2026/02/2026-chess-1.jpg
END:VEVENT
BEGIN:VEVENT
DTSTART;TZID=UTC:20261002T100000
DTEND;TZID=UTC:20261002T120000
DTSTAMP:20260425T040458
CREATED:20250828T152345Z
LAST-MODIFIED:20250828T152345Z
UID:10005384-1790935200-1790942400@hlcc.org
SUMMARY:Pickleball - Fridays
DESCRIPTION:
URL:https://hlcc.org/event/pickleball-3/2026-10-02/
LOCATION:Clubhouse
CATEGORIES:Activities
ORGANIZER;CN="Activities":MAILTO:info@hcc.org
END:VEVENT
BEGIN:VEVENT
DTSTART;TZID=UTC:20261002T183000
DTEND;TZID=UTC:20261002T193000
DTSTAMP:20260425T040458
CREATED:20260113T180034Z
LAST-MODIFIED:20260113T180034Z
UID:10010858-1790965800-1790969400@hlcc.org
SUMMARY:Bunco
DESCRIPTION:
URL:https://hlcc.org/event/bunco-11/2026-10-02/
CATEGORIES:Activities
END:VEVENT
BEGIN:VEVENT
DTSTART;TZID=UTC:20261002T193000
DTEND;TZID=UTC:20261002T213000
DTSTAMP:20260425T040458
CREATED:20260326T175307Z
LAST-MODIFIED:20260326T175307Z
UID:10011551-1790969400-1790976600@hlcc.org
SUMMARY:Cards at the Clubhouse
DESCRIPTION:
URL:https://hlcc.org/event/cards-at-the-clubhouse/2026-10-02/
CATEGORIES:Activities
END:VEVENT
END:VCALENDAR