BEGIN:VCALENDAR
VERSION:2.0
PRODID:-//Highland Lakes Country Club and Community Association - ECPv6.15.20//NONSGML v1.0//EN
CALSCALE:GREGORIAN
METHOD:PUBLISH
X-WR-CALNAME:Highland Lakes Country Club and Community Association
X-ORIGINAL-URL:https://hlcc.org
X-WR-CALDESC:Events for Highland Lakes Country Club and Community Association
REFRESH-INTERVAL;VALUE=DURATION:PT1H
X-Robots-Tag:noindex
X-PUBLISHED-TTL:PT1H
BEGIN:VTIMEZONE
TZID:UTC
BEGIN:STANDARD
TZOFFSETFROM:+0000
TZOFFSETTO:+0000
TZNAME:UTC
DTSTART:20220101T000000
END:STANDARD
END:VTIMEZONE
BEGIN:VEVENT
DTSTART;TZID=UTC:20250831T170000
DTEND;TZID=UTC:20250831T190000
DTSTAMP:20260424T234943
CREATED:20250828T152531Z
LAST-MODIFIED:20250828T152531Z
UID:10009106-1756659600-1756666800@hlcc.org
SUMMARY:Sailing Awards
DESCRIPTION:
URL:https://hlcc.org/event/sailing-awards/
CATEGORIES:Sailing
END:VEVENT
BEGIN:VEVENT
DTSTART;TZID=UTC:20250830T093000
DTEND;TZID=UTC:20250830T170000
DTSTAMP:20260424T234943
CREATED:20250828T152529Z
LAST-MODIFIED:20250828T152529Z
UID:10009102-1756546200-1756573200@hlcc.org
SUMMARY:All Boat Regatta
DESCRIPTION:
URL:https://hlcc.org/event/all-boat-regatta-2/
CATEGORIES:Sailing
END:VEVENT
BEGIN:VEVENT
DTSTART;TZID=UTC:20250808T130000
DTEND;TZID=UTC:20250808T140000
DTSTAMP:20260424T234943
CREATED:20250828T152527Z
LAST-MODIFIED:20250828T152527Z
UID:10009104-1754658000-1754661600@hlcc.org
SUMMARY:Sailing - Junior Fleet Awards
DESCRIPTION:
URL:https://hlcc.org/event/sailing-junior-fleet-awards/
CATEGORIES:Sailing
END:VEVENT
BEGIN:VEVENT
DTSTART;TZID=UTC:20250727T170000
DTEND;TZID=UTC:20250727T190000
DTSTAMP:20260424T234943
CREATED:20250828T152526Z
LAST-MODIFIED:20250828T152526Z
UID:10009093-1753635600-1753642800@hlcc.org
SUMMARY:Sailor's Social
DESCRIPTION:
URL:https://hlcc.org/event/sailors-social-3/
CATEGORIES:Sailing
END:VEVENT
BEGIN:VEVENT
DTSTART;TZID=UTC:20250717T180000
DTEND;TZID=UTC:20250717T190000
DTSTAMP:20260424T234943
CREATED:20250828T152523Z
LAST-MODIFIED:20250828T152523Z
UID:10009090-1752775200-1752778800@hlcc.org
SUMMARY:Sailing Rules Clinic
DESCRIPTION:
URL:https://hlcc.org/event/sailing-rules-clinic-3/
CATEGORIES:Sailing
ATTACH;FMTTYPE=image/jpeg:https://hlcc.org/wp-content/uploads/2025/04/7-17-2025-sailing-rules-clinic-1.jpg
END:VEVENT
BEGIN:VEVENT
DTSTART;TZID=UTC:20250701T100000
DTEND;TZID=UTC:20250701T110000
DTSTAMP:20260424T234943
CREATED:20250828T152510Z
LAST-MODIFIED:20250828T152510Z
UID:10009083-1751364000-1751367600@hlcc.org
SUMMARY:Basic SF Sailing Clinic/Club Lawn
DESCRIPTION:
URL:https://hlcc.org/event/basic-sf-sailing-clinic-club-lawn/
CATEGORIES:Sailing
ATTACH;FMTTYPE=image/jpeg:https://hlcc.org/wp-content/uploads/2025/06/7-1-2025-basic-sailing-clinic.jpg
END:VEVENT
BEGIN:VEVENT
DTSTART;TZID=UTC:20250629T080000
DTEND;TZID=UTC:20250629T170000
DTSTAMP:20260424T234943
CREATED:20250828T152509Z
LAST-MODIFIED:20250828T152509Z
UID:10009082-1751184000-1751216400@hlcc.org
SUMMARY:Windsurfer Regatta
DESCRIPTION:
URL:https://hlcc.org/event/windsurfer-regatta/2025-06-29/
LOCATION:Main Lake\, 2240 Lakeside Drive West
CATEGORIES:Sailing
ATTACH;FMTTYPE=image/png:https://hlcc.org/wp-content/uploads/2025/06/HL-Windsurfer-LT-Regatta_2025_png.png
END:VEVENT
BEGIN:VEVENT
DTSTART;TZID=UTC:20250628T080000
DTEND;TZID=UTC:20250628T170000
DTSTAMP:20260424T234943
CREATED:20250828T152509Z
LAST-MODIFIED:20250828T152509Z
UID:10009081-1751097600-1751130000@hlcc.org
SUMMARY:Windsurfer Regatta
DESCRIPTION:
URL:https://hlcc.org/event/windsurfer-regatta/2025-06-28/
LOCATION:Main Lake\, 2240 Lakeside Drive West
CATEGORIES:Sailing
ATTACH;FMTTYPE=image/png:https://hlcc.org/wp-content/uploads/2025/06/HL-Windsurfer-LT-Regatta_2025_png.png
END:VEVENT
BEGIN:VEVENT
DTSTART;TZID=UTC:20240928T080000
DTEND;TZID=UTC:20240928T170000
DTSTAMP:20260424T234943
CREATED:20250828T152448Z
LAST-MODIFIED:20250828T152448Z
UID:10006565-1727510400-1727542800@hlcc.org
SUMMARY:SANJL
DESCRIPTION:
URL:https://hlcc.org/event/sanjl/
LOCATION:Main Lake\, 2240 Lakeside Drive West
CATEGORIES:Sailing
END:VEVENT
BEGIN:VEVENT
DTSTART;TZID=UTC:20240901T170000
DTEND;TZID=UTC:20240901T190000
DTSTAMP:20260424T234943
CREATED:20250828T152433Z
LAST-MODIFIED:20250828T152433Z
UID:10007395-1725210000-1725217200@hlcc.org
SUMMARY:Sailors' Awards Picnic
DESCRIPTION:
URL:https://hlcc.org/event/sailors-awards-picnic/
CATEGORIES:Sailing
ATTACH;FMTTYPE=image/jpeg:https://hlcc.org/wp-content/uploads/2024/08/9-1-2024-sailors-awards-picnic.jpg
END:VEVENT
BEGIN:VEVENT
DTSTART;TZID=UTC:20240831T100000
DTEND;TZID=UTC:20240831T150000
DTSTAMP:20260424T234943
CREATED:20250828T152447Z
LAST-MODIFIED:20250828T152447Z
UID:10007394-1725098400-1725116400@hlcc.org
SUMMARY:All Boat Regata
DESCRIPTION:
URL:https://hlcc.org/event/all-boat-regata/
CATEGORIES:Sailing
ATTACH;FMTTYPE=image/png:https://hlcc.org/wp-content/uploads/2024/07/8-31-2024-all-boat-regatta.png
END:VEVENT
BEGIN:VEVENT
DTSTART;TZID=UTC:20240728T180000
DTEND;TZID=UTC:20240728T200000
DTSTAMP:20260424T234943
CREATED:20250828T152428Z
LAST-MODIFIED:20250828T152428Z
UID:10007396-1722189600-1722196800@hlcc.org
SUMMARY:Sailors' Social
DESCRIPTION:
URL:https://hlcc.org/event/sailors-social-2/
CATEGORIES:Sailing
END:VEVENT
BEGIN:VEVENT
DTSTART;TZID=UTC:20240718T180000
DTEND;TZID=UTC:20240718T200000
DTSTAMP:20260424T234943
CREATED:20250828T152427Z
LAST-MODIFIED:20250828T152427Z
UID:10007393-1721325600-1721332800@hlcc.org
SUMMARY:Sailing Rules Clinic
DESCRIPTION:
URL:https://hlcc.org/event/sailing-rules-clinic-2/
LOCATION:Clubhouse
CATEGORIES:Sailing
END:VEVENT
BEGIN:VEVENT
DTSTART;TZID=UTC:20240702T110000
DTEND;TZID=UTC:20240702T130000
DTSTAMP:20260424T234943
CREATED:20250828T152424Z
LAST-MODIFIED:20250828T152424Z
UID:10007392-1719918000-1719925200@hlcc.org
SUMMARY:Basic Sailing Clinic
DESCRIPTION:
URL:https://hlcc.org/event/basic-sailing-clinic/
CATEGORIES:Sailing
ATTACH;FMTTYPE=image/png:https://hlcc.org/wp-content/uploads/2024/07/7-2-2024-sailing-clinic-2.png
END:VEVENT
BEGIN:VEVENT
DTSTART;TZID=UTC:20240630T090000
DTEND;TZID=UTC:20240630T150000
DTSTAMP:20260424T234943
CREATED:20250828T152422Z
LAST-MODIFIED:20250828T152422Z
UID:10006794-1719738000-1719759600@hlcc.org
SUMMARY:2024 Windsurfer Regatta
DESCRIPTION:Welcome to the Spring Into Summer Windsurfer LT Regatta! Get ready to hit the water and show off your windsurfing skills on Sat\, Jun 29 & Sun\, Jun 30\, 2024 at 9:00 AM at Highland Lakes Country Club in Northern NJ. Join us for a day of fun\, sun\, and friendly competition as we kick off the summer season in style. Whether you’re a seasoned pro or a beginner\, this event is perfect for windsurfing enthusiasts of all levels. Don’t miss out on the chance to enjoy the thrill of windsurfing and make new friends along the way – sign up now! \n➡️ ➡️ ➡️ https://bit.ly/2024WSR-HLCC \nRegistration Fee of $25 includes 2 days of racing\, morning snacks\, pizza lunch on Saturday\, guest badge & parking pass. \nLate registration fee of $40 after June 26. Payment by cash or check if registering on site.
URL:https://hlcc.org/event/2024-windsurfer-regatta/2024-06-30/
LOCATION:Main Lake\, 2240 Lakeside Drive West
CATEGORIES:Sailing
ATTACH;FMTTYPE=image/png:https://hlcc.org/wp-content/uploads/2024/04/2024-Summer-Regata-Sailing-HLCC3.png
END:VEVENT
BEGIN:VEVENT
DTSTART;TZID=UTC:20240629T090000
DTEND;TZID=UTC:20240629T150000
DTSTAMP:20260424T234943
CREATED:20250828T152422Z
LAST-MODIFIED:20250828T152422Z
UID:10006793-1719651600-1719673200@hlcc.org
SUMMARY:2024 Windsurfer Regatta
DESCRIPTION:Welcome to the Spring Into Summer Windsurfer LT Regatta! Get ready to hit the water and show off your windsurfing skills on Sat\, Jun 29 & Sun\, Jun 30\, 2024 at 9:00 AM at Highland Lakes Country Club in Northern NJ. Join us for a day of fun\, sun\, and friendly competition as we kick off the summer season in style. Whether you’re a seasoned pro or a beginner\, this event is perfect for windsurfing enthusiasts of all levels. Don’t miss out on the chance to enjoy the thrill of windsurfing and make new friends along the way – sign up now! \n➡️ ➡️ ➡️ https://bit.ly/2024WSR-HLCC \nRegistration Fee of $25 includes 2 days of racing\, morning snacks\, pizza lunch on Saturday\, guest badge & parking pass. \nLate registration fee of $40 after June 26. Payment by cash or check if registering on site.
URL:https://hlcc.org/event/2024-windsurfer-regatta/2024-06-29/
LOCATION:Main Lake\, 2240 Lakeside Drive West
CATEGORIES:Sailing
ATTACH;FMTTYPE=image/png:https://hlcc.org/wp-content/uploads/2024/04/2024-Summer-Regata-Sailing-HLCC3.png
END:VEVENT
BEGIN:VEVENT
DTSTART;TZID=UTC:20230930T093000
DTEND;TZID=UTC:20230930T170000
DTSTAMP:20260424T234943
CREATED:20250828T152412Z
LAST-MODIFIED:20250828T152412Z
UID:10005502-1696066200-1696093200@hlcc.org
SUMMARY:SANJL Regatta
DESCRIPTION:
URL:https://hlcc.org/event/sanjl-regatta/
LOCATION:Clubhouse
CATEGORIES:Sailing
END:VEVENT
BEGIN:VEVENT
DTSTART;TZID=UTC:20230903T160000
DTEND;TZID=UTC:20230903T190000
DTSTAMP:20260424T234943
CREATED:20250828T152411Z
LAST-MODIFIED:20250828T152411Z
UID:10006071-1693756800-1693767600@hlcc.org
SUMMARY:Sailors' Awards Picnic
DESCRIPTION:
URL:https://hlcc.org/event/sailing-awards-picnic/
LOCATION:Clubhouse
CATEGORIES:Sailing
ATTACH;FMTTYPE=image/png:https://hlcc.org/wp-content/uploads/2023/08/9-3-2023-sailors-awards-picnic.png
END:VEVENT
BEGIN:VEVENT
DTSTART;TZID=UTC:20230903T130000
DTEND;TZID=UTC:20230903T150000
DTSTAMP:20260424T234943
CREATED:20250828T152411Z
LAST-MODIFIED:20250828T152411Z
UID:10005928-1693746000-1693753200@hlcc.org
SUMMARY:Sailor's Picnic
DESCRIPTION:
URL:https://hlcc.org/event/sailors-picnic/
LOCATION:Clubhouse
CATEGORIES:Sailing
END:VEVENT
BEGIN:VEVENT
DTSTART;TZID=UTC:20230902T100000
DTEND;TZID=UTC:20230902T140000
DTSTAMP:20260424T234943
CREATED:20250828T152411Z
LAST-MODIFIED:20250828T152411Z
UID:10005500-1693648800-1693663200@hlcc.org
SUMMARY:All Boat Regatta
DESCRIPTION:
URL:https://hlcc.org/event/all-boat-regatta/
LOCATION:Clubhouse
CATEGORIES:Sailing
ATTACH;FMTTYPE=image/png:https://hlcc.org/wp-content/uploads/2023/08/9-2-2023-all-boat-regatta.png
END:VEVENT
BEGIN:VEVENT
DTSTART;TZID=UTC:20230730T170000
DTEND;TZID=UTC:20230730T200000
DTSTAMP:20260424T234943
CREATED:20250828T152353Z
LAST-MODIFIED:20250828T152353Z
UID:10005499-1690736400-1690747200@hlcc.org
SUMMARY:Sailor's Social
DESCRIPTION:
URL:https://hlcc.org/event/sailors-social/
LOCATION:Clubhouse
CATEGORIES:Sailing
END:VEVENT
BEGIN:VEVENT
DTSTART;TZID=UTC:20230710T180000
DTEND;TZID=UTC:20230710T200000
DTSTAMP:20260424T234943
CREATED:20250828T152349Z
LAST-MODIFIED:20250828T152349Z
UID:10005498-1689012000-1689019200@hlcc.org
SUMMARY:Sailing Rules Clinic
DESCRIPTION:
URL:https://hlcc.org/event/sailing-rules-clinic/
LOCATION:Clubhouse
CATEGORIES:Sailing
END:VEVENT
BEGIN:VEVENT
DTSTART;TZID=UTC:20230703T110000
DTEND;TZID=UTC:20230703T130000
DTSTAMP:20260424T234943
CREATED:20250828T152348Z
LAST-MODIFIED:20250828T152348Z
UID:10005497-1688382000-1688389200@hlcc.org
SUMMARY:Basic Sailing Clinic
DESCRIPTION:Ahoy\, Sunfish sailors! ⛵ Curious about the sailing basics? Join us for a 2-hour clinic on July 3\, 11 AM at the Club lawn. 🌞 We’ll cover equipment\, boat handling\, and more – perfect for all ages! Bring your life jacket\, towel\, water bottle\, snack\, and sunscreen. Prepare to get wet as we’ll learn how to right a boat after a capsize. 🌊 Junior sailors recommended. Got questions? Email sailing@hlcc.org. Let’s set sail together! 🎉 #SunfishSailing #LearnToSail
URL:https://hlcc.org/event/sailing-clinic/
LOCATION:Clubhouse
CATEGORIES:Sailing
ATTACH;FMTTYPE=image/png:https://hlcc.org/wp-content/uploads/2023/06/basic-sail-clinic-1-1.png
END:VEVENT
END:VCALENDAR