BEGIN:VCALENDAR
VERSION:2.0
PRODID:-//Highland Lakes Country Club and Community Association - ECPv6.15.20//NONSGML v1.0//EN
CALSCALE:GREGORIAN
METHOD:PUBLISH
X-ORIGINAL-URL:https://hlcc.org
X-WR-CALDESC:Events for Highland Lakes Country Club and Community Association
REFRESH-INTERVAL;VALUE=DURATION:PT1H
X-Robots-Tag:noindex
X-PUBLISHED-TTL:PT1H
BEGIN:VTIMEZONE
TZID:UTC
BEGIN:STANDARD
TZOFFSETFROM:+0000
TZOFFSETTO:+0000
TZNAME:UTC
DTSTART:20240101T000000
END:STANDARD
END:VTIMEZONE
BEGIN:VEVENT
DTSTART;TZID=UTC:20250523T180000
DTEND;TZID=UTC:20250523T233000
DTSTAMP:20260424T044627
CREATED:20250828T152505Z
LAST-MODIFIED:20250828T152505Z
UID:10007848-1748023200-1748043000@hlcc.org
SUMMARY:Camp Out on the Club Lawn
DESCRIPTION:
URL:https://hlcc.org/event/camp-out-on-the-club-lawn/
CATEGORIES:Events
ATTACH;FMTTYPE=image/jpeg:https://hlcc.org/wp-content/uploads/2024/11/5-23-2025-camp-out.jpg
ORGANIZER;CN="Recreation":MAILTO:recreation@hlcc.org
END:VEVENT
BEGIN:VEVENT
DTSTART;TZID=UTC:20250524T090000
DTEND;TZID=UTC:20250524T100000
DTSTAMP:20260424T044627
CREATED:20250828T152503Z
LAST-MODIFIED:20250828T152503Z
UID:10008825-1748077200-1748080800@hlcc.org
SUMMARY:Running Club
DESCRIPTION:
URL:https://hlcc.org/event/running-club-2/2025-05-24/
CATEGORIES:Athletics
ATTACH;FMTTYPE=image/jpeg:https://hlcc.org/wp-content/uploads/2025/04/2025-running-CLUB-1.jpg
END:VEVENT
BEGIN:VEVENT
DTSTART;TZID=UTC:20250524T200000
DTEND;TZID=UTC:20250524T233000
DTSTAMP:20260424T044627
CREATED:20250828T152505Z
LAST-MODIFIED:20250828T152505Z
UID:10007849-1748116800-1748129400@hlcc.org
SUMMARY:Comedy Night
DESCRIPTION:
URL:https://hlcc.org/event/comedy-night-3/
CATEGORIES:Events
ATTACH;FMTTYPE=image/png:https://hlcc.org/wp-content/uploads/2024/11/5-24-2025-comedy-show-1.png
ORGANIZER;CN="Recreation":MAILTO:recreation@hlcc.org
END:VEVENT
BEGIN:VEVENT
DTSTART;TZID=UTC:20250525T090000
DTEND;TZID=UTC:20250525T110000
DTSTAMP:20260424T044628
CREATED:20250828T152505Z
LAST-MODIFIED:20250828T152505Z
UID:10007850-1748163600-1748170800@hlcc.org
SUMMARY:Memorial Day Breakfast
DESCRIPTION:
URL:https://hlcc.org/event/memorial-day-breakfast/
CATEGORIES:Events
ATTACH;FMTTYPE=image/jpeg:https://hlcc.org/wp-content/uploads/2024/11/5-25-2025-memorial-day-breakfast.jpg
ORGANIZER;CN="Recreation":MAILTO:recreation@hlcc.org
END:VEVENT
BEGIN:VEVENT
DTSTART;TZID=UTC:20250526T110000
DTEND;TZID=UTC:20250526T130000
DTSTAMP:20260424T044628
CREATED:20250828T152506Z
LAST-MODIFIED:20250828T152506Z
UID:10007851-1748257200-1748264400@hlcc.org
SUMMARY:Memorial Day Ceremony
DESCRIPTION:
URL:https://hlcc.org/event/memorial-day-ceremony/
CATEGORIES:Events
ATTACH;FMTTYPE=image/jpeg:https://hlcc.org/wp-content/uploads/2024/11/5-26-2025-memorial-day-ceremony.jpg
ORGANIZER;CN="Recreation":MAILTO:recreation@hlcc.org
END:VEVENT
BEGIN:VEVENT
DTSTART;TZID=UTC:20250526T170000
DTEND;TZID=UTC:20250526T180000
DTSTAMP:20260424T044628
CREATED:20250828T152335Z
LAST-MODIFIED:20250828T152335Z
UID:10000300-1748278800-1748282400@hlcc.org
SUMMARY:Yoga
DESCRIPTION:
URL:https://hlcc.org/event/yoga-2/2025-05-26/
LOCATION:Lake Room\, Highland Lakes\, NJ\, United States
CATEGORIES:Activities
ATTACH;FMTTYPE=image/jpeg:https://hlcc.org/wp-content/uploads/2022/12/2022-HLCC-Social-Media-v2-8.jpg
ORGANIZER;CN="Activities":MAILTO:info@hcc.org
END:VEVENT
BEGIN:VEVENT
DTSTART;TZID=UTC:20250526T180000
DTEND;TZID=UTC:20250526T190000
DTSTAMP:20260424T044628
CREATED:20250828T152504Z
LAST-MODIFIED:20250828T152504Z
UID:10009121-1748282400-1748286000@hlcc.org
SUMMARY:Pickle Ball - Summer
DESCRIPTION:
URL:https://hlcc.org/event/pickle-ball-winter-2/2025-05-26/
CATEGORIES:Activities
END:VEVENT
BEGIN:VEVENT
DTSTART;TZID=UTC:20250526T190000
DTEND;TZID=UTC:20250526T210000
DTSTAMP:20260424T044628
CREATED:20250828T152335Z
LAST-MODIFIED:20250828T152335Z
UID:10001486-1748286000-1748293200@hlcc.org
SUMMARY:Ceramics
DESCRIPTION:
URL:https://hlcc.org/event/ceramics/2025-05-26/
LOCATION:Clubhouse
CATEGORIES:Activities
ORGANIZER;CN="Activities":MAILTO:info@hcc.org
END:VEVENT
BEGIN:VEVENT
DTSTART;TZID=UTC:20250527T093000
DTEND;TZID=UTC:20250527T113000
DTSTAMP:20260424T044628
CREATED:20250828T152448Z
LAST-MODIFIED:20250828T152448Z
UID:10007519-1748338200-1748345400@hlcc.org
SUMMARY:Playgroup Under 5
DESCRIPTION:
URL:https://hlcc.org/event/playgroup-under-5-3/2025-05-27/
LOCATION:Clubhouse
CATEGORIES:Activities
ATTACH;FMTTYPE=image/jpeg:https://hlcc.org/wp-content/uploads/2024/09/9-10-2024-playgroup.jpg
ORGANIZER;CN="Recreation":MAILTO:recreation@hlcc.org
END:VEVENT
BEGIN:VEVENT
DTSTART;TZID=UTC:20250527T190000
DTEND;TZID=UTC:20250527T210000
DTSTAMP:20260424T044628
CREATED:20250828T152506Z
LAST-MODIFIED:20250828T152506Z
UID:10008488-1748372400-1748379600@hlcc.org
SUMMARY:Seniors Club Meeting
DESCRIPTION:
URL:https://hlcc.org/event/seniors-club-meeting-7/
CATEGORIES:Seniors Club
END:VEVENT
BEGIN:VEVENT
DTSTART;TZID=UTC:20250528T170000
DTEND;TZID=UTC:20250528T180000
DTSTAMP:20260424T044628
CREATED:20250828T152335Z
LAST-MODIFIED:20250828T152335Z
UID:10000301-1748451600-1748455200@hlcc.org
SUMMARY:Yoga
DESCRIPTION:
URL:https://hlcc.org/event/yoga-2/2025-05-28/
LOCATION:Lake Room\, Highland Lakes\, NJ\, United States
CATEGORIES:Activities
ATTACH;FMTTYPE=image/jpeg:https://hlcc.org/wp-content/uploads/2022/12/2022-HLCC-Social-Media-v2-8.jpg
ORGANIZER;CN="Activities":MAILTO:info@hcc.org
END:VEVENT
BEGIN:VEVENT
DTSTART;TZID=UTC:20250528T180000
DTEND;TZID=UTC:20250528T190000
DTSTAMP:20260424T044628
CREATED:20250828T152504Z
LAST-MODIFIED:20250828T152504Z
UID:10009122-1748455200-1748458800@hlcc.org
SUMMARY:Pickle Ball - Summer
DESCRIPTION:
URL:https://hlcc.org/event/pickle-ball-winter-2/2025-05-28/
CATEGORIES:Activities
END:VEVENT
BEGIN:VEVENT
DTSTART;TZID=UTC:20250528T190000
DTEND;TZID=UTC:20250528T200000
DTSTAMP:20260424T044628
CREATED:20250828T152415Z
LAST-MODIFIED:20250828T152415Z
UID:10006197-1748458800-1748462400@hlcc.org
SUMMARY:Darts
DESCRIPTION:
URL:https://hlcc.org/event/darts-2/2025-05-28/
LOCATION:Clubhouse
CATEGORIES:Activities
ORGANIZER;CN="Activities":MAILTO:info@hcc.org
END:VEVENT
BEGIN:VEVENT
DTSTART;TZID=UTC:20250528T200000
DTEND;TZID=UTC:20250528T210000
DTSTAMP:20260424T044628
CREATED:20250828T152337Z
LAST-MODIFIED:20250828T152337Z
UID:10002096-1748462400-1748466000@hlcc.org
SUMMARY:Ecology Committee
DESCRIPTION:Ecology Committee Meetings are held on the 4th Wednesday of every month [unless otherwise noted]. \nContact: ecology@hlcc.org
URL:https://hlcc.org/event/ecology-committee/2025-05-28/
LOCATION:Clubhouse
CATEGORIES:Committee Meetings
ORGANIZER;CN="Committees":MAILTO:info@hlcc.org
END:VEVENT
BEGIN:VEVENT
DTSTART;TZID=UTC:20250529T080000
DTEND;TZID=UTC:20250529T093000
DTSTAMP:20260424T044628
CREATED:20250828T152339Z
LAST-MODIFIED:20250828T152339Z
UID:10003900-1748505600-1748511000@hlcc.org
SUMMARY:Yoga & Meditation
DESCRIPTION:
URL:https://hlcc.org/event/yoga-meditation/2025-05-29/
LOCATION:Clubhouse
CATEGORIES:Activities
ORGANIZER;CN="Activities":MAILTO:info@hcc.org
END:VEVENT
BEGIN:VEVENT
DTSTART;TZID=UTC:20250529T110000
DTEND;TZID=UTC:20250529T120000
DTSTAMP:20260424T044628
CREATED:20250828T152455Z
LAST-MODIFIED:20250828T152455Z
UID:10008245-1748516400-1748520000@hlcc.org
SUMMARY:Guitar Club
DESCRIPTION:
URL:https://hlcc.org/event/guitar-club/2025-05-29/
CATEGORIES:Activities
ATTACH;FMTTYPE=image/jpeg:https://hlcc.org/wp-content/uploads/2025/01/2025-GUITAR-CLUB.jpg
END:VEVENT
BEGIN:VEVENT
DTSTART;TZID=UTC:20250529T190000
DTEND;TZID=UTC:20250529T200000
DTSTAMP:20260424T044628
CREATED:20250828T152334Z
LAST-MODIFIED:20250828T152334Z
UID:10000959-1748545200-1748548800@hlcc.org
SUMMARY:Stitching
DESCRIPTION:
URL:https://hlcc.org/event/stitching/2025-05-29/
LOCATION:Clubhouse
CATEGORIES:Activities
ORGANIZER;CN="Activities":MAILTO:info@hcc.org
END:VEVENT
BEGIN:VEVENT
DTSTART;TZID=UTC:20250529T190000
DTEND;TZID=UTC:20250529T200000
DTSTAMP:20260424T044628
CREATED:20250828T152458Z
LAST-MODIFIED:20250828T152458Z
UID:10008460-1748545200-1748548800@hlcc.org
SUMMARY:Chess Club
DESCRIPTION:
URL:https://hlcc.org/event/chess-club-5/2025-05-29/
CATEGORIES:Activities
END:VEVENT
BEGIN:VEVENT
DTSTART;TZID=UTC:20250530T100000
DTEND;TZID=UTC:20250530T120000
DTSTAMP:20260424T044628
CREATED:20250828T152345Z
LAST-MODIFIED:20250828T152345Z
UID:10005314-1748599200-1748606400@hlcc.org
SUMMARY:Pickleball - Fridays
DESCRIPTION:
URL:https://hlcc.org/event/pickleball-3/2025-05-30/
LOCATION:Clubhouse
CATEGORIES:Activities
ORGANIZER;CN="Activities":MAILTO:info@hcc.org
END:VEVENT
BEGIN:VEVENT
DTSTART;TZID=UTC:20250531T090000
DTEND;TZID=UTC:20250531T100000
DTSTAMP:20260424T044628
CREATED:20250828T152503Z
LAST-MODIFIED:20250828T152503Z
UID:10008826-1748682000-1748685600@hlcc.org
SUMMARY:Running Club
DESCRIPTION:
URL:https://hlcc.org/event/running-club-2/2025-05-31/
CATEGORIES:Athletics
ATTACH;FMTTYPE=image/jpeg:https://hlcc.org/wp-content/uploads/2025/04/2025-running-CLUB-1.jpg
END:VEVENT
BEGIN:VEVENT
DTSTART;TZID=UTC:20250531T190000
DTEND;TZID=UTC:20250531T210000
DTSTAMP:20260424T044628
CREATED:20250828T152506Z
LAST-MODIFIED:20250828T152506Z
UID:10009257-1748718000-1748725200@hlcc.org
SUMMARY:Whiskey & Cigar Night
DESCRIPTION:
URL:https://hlcc.org/event/whiskey-cigar-night/
CATEGORIES:Events
ATTACH;FMTTYPE=image/jpeg:https://hlcc.org/wp-content/uploads/2025/05/5-31-2025-whiskey-cigars-scaled.jpg
END:VEVENT
BEGIN:VEVENT
DTSTART;TZID=UTC:20250601T160000
DTEND;TZID=UTC:20250601T180000
DTSTAMP:20260424T044628
CREATED:20250828T152506Z
LAST-MODIFIED:20250828T152506Z
UID:10008490-1748793600-1748800800@hlcc.org
SUMMARY:Game Night
DESCRIPTION:
URL:https://hlcc.org/event/game-night-4/
CATEGORIES:Activities
END:VEVENT
BEGIN:VEVENT
DTSTART;TZID=UTC:20250602T170000
DTEND;TZID=UTC:20250602T180000
DTSTAMP:20260424T044628
CREATED:20250828T152335Z
LAST-MODIFIED:20250828T152335Z
UID:10000302-1748883600-1748887200@hlcc.org
SUMMARY:Yoga
DESCRIPTION:
URL:https://hlcc.org/event/yoga-2/2025-06-02/
LOCATION:Lake Room\, Highland Lakes\, NJ\, United States
CATEGORIES:Activities
ATTACH;FMTTYPE=image/jpeg:https://hlcc.org/wp-content/uploads/2022/12/2022-HLCC-Social-Media-v2-8.jpg
ORGANIZER;CN="Activities":MAILTO:info@hcc.org
END:VEVENT
BEGIN:VEVENT
DTSTART;TZID=UTC:20250602T180000
DTEND;TZID=UTC:20250602T190000
DTSTAMP:20260424T044628
CREATED:20250828T152457Z
LAST-MODIFIED:20250828T152457Z
UID:10008372-1748887200-1748890800@hlcc.org
SUMMARY:Scouts
DESCRIPTION:
URL:https://hlcc.org/event/scouts-10/2025-06-02/
CATEGORIES:Activities
END:VEVENT
BEGIN:VEVENT
DTSTART;TZID=UTC:20250602T180000
DTEND;TZID=UTC:20250602T190000
DTSTAMP:20260424T044628
CREATED:20250828T152504Z
LAST-MODIFIED:20250828T152504Z
UID:10009123-1748887200-1748890800@hlcc.org
SUMMARY:Pickle Ball - Summer
DESCRIPTION:
URL:https://hlcc.org/event/pickle-ball-winter-2/2025-06-02/
CATEGORIES:Activities
END:VEVENT
BEGIN:VEVENT
DTSTART;TZID=UTC:20250602T190000
DTEND;TZID=UTC:20250602T210000
DTSTAMP:20260424T044628
CREATED:20250828T152335Z
LAST-MODIFIED:20250828T152335Z
UID:10001487-1748890800-1748898000@hlcc.org
SUMMARY:Ceramics
DESCRIPTION:
URL:https://hlcc.org/event/ceramics/2025-06-02/
LOCATION:Clubhouse
CATEGORIES:Activities
ORGANIZER;CN="Activities":MAILTO:info@hcc.org
END:VEVENT
BEGIN:VEVENT
DTSTART;TZID=UTC:20250603T093000
DTEND;TZID=UTC:20250603T113000
DTSTAMP:20260424T044628
CREATED:20250828T152448Z
LAST-MODIFIED:20250828T152448Z
UID:10007520-1748943000-1748950200@hlcc.org
SUMMARY:Playgroup Under 5
DESCRIPTION:
URL:https://hlcc.org/event/playgroup-under-5-3/2025-06-03/
LOCATION:Clubhouse
CATEGORIES:Activities
ATTACH;FMTTYPE=image/jpeg:https://hlcc.org/wp-content/uploads/2024/09/9-10-2024-playgroup.jpg
ORGANIZER;CN="Recreation":MAILTO:recreation@hlcc.org
END:VEVENT
BEGIN:VEVENT
DTSTART;TZID=UTC:20250603T190000
DTEND;TZID=UTC:20250603T200000
DTSTAMP:20260424T044628
CREATED:20250828T152336Z
LAST-MODIFIED:20250828T152336Z
UID:10002336-1748977200-1748980800@hlcc.org
SUMMARY:Artists Group
DESCRIPTION:
URL:https://hlcc.org/event/artists-group-2/2025-06-03/
LOCATION:Seckler Room
CATEGORIES:Activities
ORGANIZER;CN="Activities":MAILTO:info@hcc.org
END:VEVENT
BEGIN:VEVENT
DTSTART;TZID=UTC:20250603T190000
DTEND;TZID=UTC:20250603T200000
DTSTAMP:20260424T044628
CREATED:20250828T152336Z
LAST-MODIFIED:20250828T152336Z
UID:10002396-1748977200-1748980800@hlcc.org
SUMMARY:Buildings & Grounds Committee
DESCRIPTION:
URL:https://hlcc.org/event/buildings-grounds-committee-4/2025-06-03/
LOCATION:Lake Room\, Highland Lakes\, NJ\, United States
CATEGORIES:Committee Meetings
ORGANIZER;CN="Committees":MAILTO:info@hlcc.org
END:VEVENT
BEGIN:VEVENT
DTSTART;TZID=UTC:20250604T170000
DTEND;TZID=UTC:20250604T180000
DTSTAMP:20260424T044628
CREATED:20250828T152335Z
LAST-MODIFIED:20250828T152335Z
UID:10000303-1749056400-1749060000@hlcc.org
SUMMARY:Yoga
DESCRIPTION:
URL:https://hlcc.org/event/yoga-2/2025-06-04/
LOCATION:Lake Room\, Highland Lakes\, NJ\, United States
CATEGORIES:Activities
ATTACH;FMTTYPE=image/jpeg:https://hlcc.org/wp-content/uploads/2022/12/2022-HLCC-Social-Media-v2-8.jpg
ORGANIZER;CN="Activities":MAILTO:info@hcc.org
END:VEVENT
END:VCALENDAR