BEGIN:VCALENDAR
VERSION:2.0
PRODID:-//Highland Lakes Country Club and Community Association - ECPv6.15.20//NONSGML v1.0//EN
CALSCALE:GREGORIAN
METHOD:PUBLISH
X-WR-CALNAME:Highland Lakes Country Club and Community Association
X-ORIGINAL-URL:https://hlcc.org
X-WR-CALDESC:Events for Highland Lakes Country Club and Community Association
REFRESH-INTERVAL;VALUE=DURATION:PT1H
X-Robots-Tag:noindex
X-PUBLISHED-TTL:PT1H
BEGIN:VTIMEZONE
TZID:UTC
BEGIN:STANDARD
TZOFFSETFROM:+0000
TZOFFSETTO:+0000
TZNAME:UTC
DTSTART:20240101T000000
END:STANDARD
END:VTIMEZONE
BEGIN:VEVENT
DTSTART;TZID=UTC:20250710T190000
DTEND;TZID=UTC:20250710T203000
DTSTAMP:20260425T031231
CREATED:20250828T152523Z
LAST-MODIFIED:20250828T152523Z
UID:10009545-1752174000-1752179400@hlcc.org
SUMMARY:Chess
DESCRIPTION:
URL:https://hlcc.org/event/chess/2025-07-10/
CATEGORIES:Activities
END:VEVENT
BEGIN:VEVENT
DTSTART;TZID=UTC:20250711T080000
DTEND;TZID=UTC:20250711T170000
DTSTAMP:20260425T031231
CREATED:20250828T152524Z
LAST-MODIFIED:20250828T152524Z
UID:10009089-1752220800-1752253200@hlcc.org
SUMMARY:Community Yard Sale - SET UP
DESCRIPTION:
URL:https://hlcc.org/event/community-yard-sale-set-up/2025-07-11/
CATEGORIES:Events
END:VEVENT
BEGIN:VEVENT
DTSTART;TZID=UTC:20250711T090000
DTEND;TZID=UTC:20250711T100000
DTSTAMP:20260425T031231
CREATED:20250828T152523Z
LAST-MODIFIED:20250828T152523Z
UID:10009366-1752224400-1752228000@hlcc.org
SUMMARY:Water Aerobics (MWF)
DESCRIPTION:
URL:https://hlcc.org/event/aqua-aerobics-begins-mwf-2/2025-07-11/
CATEGORIES:Activities
ORGANIZER;CN="Activities":MAILTO:info@hcc.org
END:VEVENT
BEGIN:VEVENT
DTSTART;TZID=UTC:20250711T090000
DTEND;TZID=UTC:20250711T100000
DTSTAMP:20260425T031231
CREATED:20250828T152523Z
LAST-MODIFIED:20250828T152523Z
UID:10010158-1752224400-1752228000@hlcc.org
SUMMARY:Water Aerobics (MWF)
DESCRIPTION:
URL:https://hlcc.org/event/water-aerobics-mwf/2025-07-11/
CATEGORIES:Activities
ORGANIZER;CN="Activities":MAILTO:info@hcc.org
END:VEVENT
BEGIN:VEVENT
DTSTART;TZID=UTC:20250711T090000
DTEND;TZID=UTC:20250711T120000
DTSTAMP:20260425T031231
CREATED:20250828T152508Z
LAST-MODIFIED:20250828T152508Z
UID:10008513-1752224400-1752235200@hlcc.org
SUMMARY:Swim Team PRACTICE
DESCRIPTION:
URL:https://hlcc.org/event/swim-team-practice/2025-07-11/
CATEGORIES:Swim Team
ORGANIZER;CN="Swim Team":MAILTO:swimteam@hlcc.org
END:VEVENT
BEGIN:VEVENT
DTSTART;TZID=UTC:20250711T100000
DTEND;TZID=UTC:20250711T120000
DTSTAMP:20260425T031231
CREATED:20250828T152345Z
LAST-MODIFIED:20250828T152345Z
UID:10005320-1752228000-1752235200@hlcc.org
SUMMARY:Pickleball - Fridays
DESCRIPTION:
URL:https://hlcc.org/event/pickleball-3/2025-07-11/
LOCATION:Clubhouse
CATEGORIES:Activities
ORGANIZER;CN="Activities":MAILTO:info@hcc.org
END:VEVENT
BEGIN:VEVENT
DTSTART;TZID=UTC:20250712T080000
DTEND;TZID=UTC:20250712T150000
DTSTAMP:20260425T031231
CREATED:20250828T152524Z
LAST-MODIFIED:20250828T152524Z
UID:10009087-1752307200-1752332400@hlcc.org
SUMMARY:Annual Community Yard Sale
DESCRIPTION:
URL:https://hlcc.org/event/annual-community-yard-sale/
CATEGORIES:Events
END:VEVENT
BEGIN:VEVENT
DTSTART;TZID=UTC:20250712T083000
DTEND;TZID=UTC:20250712T103000
DTSTAMP:20260425T031231
CREATED:20250828T152524Z
LAST-MODIFIED:20250828T152524Z
UID:10009690-1752309000-1752316200@hlcc.org
SUMMARY:Advanced Pickleball
DESCRIPTION:
URL:https://hlcc.org/event/advanced-pickleball/2025-07-12/
CATEGORIES:Activities
END:VEVENT
BEGIN:VEVENT
DTSTART;TZID=UTC:20250712T090000
DTEND;TZID=UTC:20250712T100000
DTSTAMP:20260425T031231
CREATED:20250828T152503Z
LAST-MODIFIED:20250828T152503Z
UID:10008832-1752310800-1752314400@hlcc.org
SUMMARY:Running Club
DESCRIPTION:
URL:https://hlcc.org/event/running-club-2/2025-07-12/
CATEGORIES:Athletics
ATTACH;FMTTYPE=image/jpeg:https://hlcc.org/wp-content/uploads/2025/04/2025-running-CLUB-1.jpg
END:VEVENT
BEGIN:VEVENT
DTSTART;TZID=UTC:20250712T090000
DTEND;TZID=UTC:20250712T170000
DTSTAMP:20260425T031231
CREATED:20250828T152524Z
LAST-MODIFIED:20250828T152524Z
UID:10008799-1752310800-1752339600@hlcc.org
SUMMARY:Swim Team - Odd Age Invitational – Packanack Lake
DESCRIPTION:
URL:https://hlcc.org/event/swim-team-odd-age-invitational-packanack-lake/
CATEGORIES:Swim Team
ORGANIZER;CN="Swim Team":MAILTO:swimteam@hlcc.org
END:VEVENT
BEGIN:VEVENT
DTSTART;TZID=UTC:20250714T090000
DTEND;TZID=UTC:20250714T100000
DTSTAMP:20260425T031231
CREATED:20250828T152523Z
LAST-MODIFIED:20250828T152523Z
UID:10009367-1752483600-1752487200@hlcc.org
SUMMARY:Water Aerobics (MWF)
DESCRIPTION:
URL:https://hlcc.org/event/aqua-aerobics-begins-mwf-2/2025-07-14/
CATEGORIES:Activities
ORGANIZER;CN="Activities":MAILTO:info@hcc.org
END:VEVENT
BEGIN:VEVENT
DTSTART;TZID=UTC:20250714T090000
DTEND;TZID=UTC:20250714T100000
DTSTAMP:20260425T031231
CREATED:20250828T152523Z
LAST-MODIFIED:20250828T152523Z
UID:10010159-1752483600-1752487200@hlcc.org
SUMMARY:Water Aerobics (MWF)
DESCRIPTION:
URL:https://hlcc.org/event/water-aerobics-mwf/2025-07-14/
CATEGORIES:Activities
ORGANIZER;CN="Activities":MAILTO:info@hcc.org
END:VEVENT
BEGIN:VEVENT
DTSTART;TZID=UTC:20250714T090000
DTEND;TZID=UTC:20250714T120000
DTSTAMP:20260425T031231
CREATED:20250828T152508Z
LAST-MODIFIED:20250828T152508Z
UID:10008514-1752483600-1752494400@hlcc.org
SUMMARY:Swim Team PRACTICE
DESCRIPTION:
URL:https://hlcc.org/event/swim-team-practice/2025-07-14/
CATEGORIES:Swim Team
ORGANIZER;CN="Swim Team":MAILTO:swimteam@hlcc.org
END:VEVENT
BEGIN:VEVENT
DTSTART;TZID=UTC:20250714T170000
DTEND;TZID=UTC:20250714T180000
DTSTAMP:20260425T031231
CREATED:20250828T152335Z
LAST-MODIFIED:20250828T152335Z
UID:10000314-1752512400-1752516000@hlcc.org
SUMMARY:Yoga
DESCRIPTION:
URL:https://hlcc.org/event/yoga-2/2025-07-14/
LOCATION:Lake Room\, Highland Lakes\, NJ\, United States
CATEGORIES:Activities
ATTACH;FMTTYPE=image/jpeg:https://hlcc.org/wp-content/uploads/2022/12/2022-HLCC-Social-Media-v2-8.jpg
ORGANIZER;CN="Activities":MAILTO:info@hcc.org
END:VEVENT
BEGIN:VEVENT
DTSTART;TZID=UTC:20250714T180000
DTEND;TZID=UTC:20250714T190000
DTSTAMP:20260425T031231
CREATED:20250828T152504Z
LAST-MODIFIED:20250828T152504Z
UID:10009135-1752516000-1752519600@hlcc.org
SUMMARY:Pickle Ball - Summer
DESCRIPTION:
URL:https://hlcc.org/event/pickle-ball-winter-2/2025-07-14/
CATEGORIES:Activities
END:VEVENT
BEGIN:VEVENT
DTSTART;TZID=UTC:20250714T180000
DTEND;TZID=UTC:20250714T190000
DTSTAMP:20260425T031231
CREATED:20250828T152521Z
LAST-MODIFIED:20250828T152521Z
UID:10009659-1752516000-1752519600@hlcc.org
SUMMARY:Community Fun Night - Ceramics ALL AGES
DESCRIPTION:
URL:https://hlcc.org/event/community-fun-night-ceramics-all-ages/2025-07-14/
LOCATION:Clubhouse
CATEGORIES:Activities
END:VEVENT
BEGIN:VEVENT
DTSTART;TZID=UTC:20250714T190000
DTEND;TZID=UTC:20250714T200000
DTSTAMP:20260425T031231
CREATED:20250828T152524Z
LAST-MODIFIED:20250828T152524Z
UID:10009624-1752519600-1752523200@hlcc.org
SUMMARY:Coffee & Q&A with the President
DESCRIPTION:
URL:https://hlcc.org/event/coffee-qa-with-the-president-5/
CATEGORIES:Voting Board Meetings
END:VEVENT
BEGIN:VEVENT
DTSTART;TZID=UTC:20250714T190000
DTEND;TZID=UTC:20250714T210000
DTSTAMP:20260425T031231
CREATED:20250828T152335Z
LAST-MODIFIED:20250828T152335Z
UID:10001493-1752519600-1752526800@hlcc.org
SUMMARY:Ceramics
DESCRIPTION:
URL:https://hlcc.org/event/ceramics/2025-07-14/
LOCATION:Clubhouse
CATEGORIES:Activities
ORGANIZER;CN="Activities":MAILTO:info@hcc.org
END:VEVENT
BEGIN:VEVENT
DTSTART;TZID=UTC:20250715T090000
DTEND;TZID=UTC:20250715T120000
DTSTAMP:20260425T031231
CREATED:20250828T152508Z
LAST-MODIFIED:20250828T152508Z
UID:10008515-1752570000-1752580800@hlcc.org
SUMMARY:Swim Team PRACTICE
DESCRIPTION:
URL:https://hlcc.org/event/swim-team-practice/2025-07-15/
CATEGORIES:Swim Team
ORGANIZER;CN="Swim Team":MAILTO:swimteam@hlcc.org
END:VEVENT
BEGIN:VEVENT
DTSTART;TZID=UTC:20250715T180000
DTEND;TZID=UTC:20250715T190000
DTSTAMP:20260425T031231
CREATED:20250828T152523Z
LAST-MODIFIED:20250828T152523Z
UID:10009679-1752602400-1752606000@hlcc.org
SUMMARY:Community Fun Night - Community Float
DESCRIPTION:
URL:https://hlcc.org/event/community-fun-night-5/
LOCATION:Clubhouse
CATEGORIES:Activities
END:VEVENT
BEGIN:VEVENT
DTSTART;TZID=UTC:20250716T090000
DTEND;TZID=UTC:20250716T100000
DTSTAMP:20260425T031231
CREATED:20250828T152523Z
LAST-MODIFIED:20250828T152523Z
UID:10009368-1752656400-1752660000@hlcc.org
SUMMARY:Water Aerobics (MWF)
DESCRIPTION:
URL:https://hlcc.org/event/aqua-aerobics-begins-mwf-2/2025-07-16/
CATEGORIES:Activities
ORGANIZER;CN="Activities":MAILTO:info@hcc.org
END:VEVENT
BEGIN:VEVENT
DTSTART;TZID=UTC:20250716T090000
DTEND;TZID=UTC:20250716T100000
DTSTAMP:20260425T031231
CREATED:20250828T152523Z
LAST-MODIFIED:20250828T152523Z
UID:10010160-1752656400-1752660000@hlcc.org
SUMMARY:Water Aerobics (MWF)
DESCRIPTION:
URL:https://hlcc.org/event/water-aerobics-mwf/2025-07-16/
CATEGORIES:Activities
ORGANIZER;CN="Activities":MAILTO:info@hcc.org
END:VEVENT
BEGIN:VEVENT
DTSTART;TZID=UTC:20250716T090000
DTEND;TZID=UTC:20250716T120000
DTSTAMP:20260425T031231
CREATED:20250828T152508Z
LAST-MODIFIED:20250828T152508Z
UID:10008516-1752656400-1752667200@hlcc.org
SUMMARY:Swim Team PRACTICE
DESCRIPTION:
URL:https://hlcc.org/event/swim-team-practice/2025-07-16/
CATEGORIES:Swim Team
ORGANIZER;CN="Swim Team":MAILTO:swimteam@hlcc.org
END:VEVENT
BEGIN:VEVENT
DTSTART;TZID=UTC:20250716T170000
DTEND;TZID=UTC:20250716T180000
DTSTAMP:20260425T031231
CREATED:20250828T152335Z
LAST-MODIFIED:20250828T152335Z
UID:10000315-1752685200-1752688800@hlcc.org
SUMMARY:Yoga
DESCRIPTION:
URL:https://hlcc.org/event/yoga-2/2025-07-16/
LOCATION:Lake Room\, Highland Lakes\, NJ\, United States
CATEGORIES:Activities
ATTACH;FMTTYPE=image/jpeg:https://hlcc.org/wp-content/uploads/2022/12/2022-HLCC-Social-Media-v2-8.jpg
ORGANIZER;CN="Activities":MAILTO:info@hcc.org
END:VEVENT
BEGIN:VEVENT
DTSTART;TZID=UTC:20250716T180000
DTEND;TZID=UTC:20250716T190000
DTSTAMP:20260425T031231
CREATED:20250828T152504Z
LAST-MODIFIED:20250828T152504Z
UID:10009136-1752688800-1752692400@hlcc.org
SUMMARY:Pickle Ball - Summer
DESCRIPTION:
URL:https://hlcc.org/event/pickle-ball-winter-2/2025-07-16/
CATEGORIES:Activities
END:VEVENT
BEGIN:VEVENT
DTSTART;TZID=UTC:20250716T184500
DTEND;TZID=UTC:20250716T200000
DTSTAMP:20260425T031231
CREATED:20250828T152449Z
LAST-MODIFIED:20250828T152449Z
UID:10007606-1752691500-1752696000@hlcc.org
SUMMARY:Book Club
DESCRIPTION:
URL:https://hlcc.org/event/book-club-2/2025-07-16/
LOCATION:Clubhouse
CATEGORIES:Activities
ORGANIZER;CN="Activities":MAILTO:info@hcc.org
END:VEVENT
BEGIN:VEVENT
DTSTART;TZID=UTC:20250716T190000
DTEND;TZID=UTC:20250716T200000
DTSTAMP:20260425T031231
CREATED:20250828T152415Z
LAST-MODIFIED:20250828T152415Z
UID:10009207-1752692400-1752696000@hlcc.org
SUMMARY:Darts
DESCRIPTION:
URL:https://hlcc.org/event/darts-2/2025-07-16/
LOCATION:Clubhouse
CATEGORIES:Activities
ORGANIZER;CN="Activities":MAILTO:info@hcc.org
END:VEVENT
BEGIN:VEVENT
DTSTART;TZID=UTC:20250717T080000
DTEND;TZID=UTC:20250717T093000
DTSTAMP:20260425T031231
CREATED:20250828T152339Z
LAST-MODIFIED:20250828T152339Z
UID:10003907-1752739200-1752744600@hlcc.org
SUMMARY:Yoga & Meditation
DESCRIPTION:
URL:https://hlcc.org/event/yoga-meditation/2025-07-17/
LOCATION:Clubhouse
CATEGORIES:Activities
ORGANIZER;CN="Activities":MAILTO:info@hcc.org
END:VEVENT
BEGIN:VEVENT
DTSTART;TZID=UTC:20250717T090000
DTEND;TZID=UTC:20250717T120000
DTSTAMP:20260425T031231
CREATED:20250828T152508Z
LAST-MODIFIED:20250828T152508Z
UID:10008517-1752742800-1752753600@hlcc.org
SUMMARY:Swim Team PRACTICE
DESCRIPTION:
URL:https://hlcc.org/event/swim-team-practice/2025-07-17/
CATEGORIES:Swim Team
ORGANIZER;CN="Swim Team":MAILTO:swimteam@hlcc.org
END:VEVENT
BEGIN:VEVENT
DTSTART;TZID=UTC:20250717T110000
DTEND;TZID=UTC:20250717T120000
DTSTAMP:20260425T031231
CREATED:20250828T152455Z
LAST-MODIFIED:20250828T152455Z
UID:10008252-1752750000-1752753600@hlcc.org
SUMMARY:Guitar Club
DESCRIPTION:
URL:https://hlcc.org/event/guitar-club/2025-07-17/
CATEGORIES:Activities
ATTACH;FMTTYPE=image/jpeg:https://hlcc.org/wp-content/uploads/2025/01/2025-GUITAR-CLUB.jpg
END:VEVENT
END:VCALENDAR