BEGIN:VCALENDAR
VERSION:2.0
PRODID:-//Highland Lakes Country Club and Community Association - ECPv6.15.20//NONSGML v1.0//EN
CALSCALE:GREGORIAN
METHOD:PUBLISH
X-ORIGINAL-URL:https://hlcc.org
X-WR-CALDESC:Events for Highland Lakes Country Club and Community Association
REFRESH-INTERVAL;VALUE=DURATION:PT1H
X-Robots-Tag:noindex
X-PUBLISHED-TTL:PT1H
BEGIN:VTIMEZONE
TZID:UTC
BEGIN:STANDARD
TZOFFSETFROM:+0000
TZOFFSETTO:+0000
TZNAME:UTC
DTSTART:20240101T000000
END:STANDARD
END:VTIMEZONE
BEGIN:VEVENT
DTSTART;TZID=UTC:20250515T080000
DTEND;TZID=UTC:20250515T093000
DTSTAMP:20260424T030709
CREATED:20250828T152339Z
LAST-MODIFIED:20250828T152339Z
UID:10003898-1747296000-1747301400@hlcc.org
SUMMARY:Yoga & Meditation
DESCRIPTION:
URL:https://hlcc.org/event/yoga-meditation/2025-05-15/
LOCATION:Clubhouse
CATEGORIES:Activities
ORGANIZER;CN="Activities":MAILTO:info@hcc.org
END:VEVENT
BEGIN:VEVENT
DTSTART;TZID=UTC:20250515T110000
DTEND;TZID=UTC:20250515T120000
DTSTAMP:20260424T030709
CREATED:20250828T152455Z
LAST-MODIFIED:20250828T152455Z
UID:10008243-1747306800-1747310400@hlcc.org
SUMMARY:Guitar Club
DESCRIPTION:
URL:https://hlcc.org/event/guitar-club/2025-05-15/
CATEGORIES:Activities
ATTACH;FMTTYPE=image/jpeg:https://hlcc.org/wp-content/uploads/2025/01/2025-GUITAR-CLUB.jpg
END:VEVENT
BEGIN:VEVENT
DTSTART;TZID=UTC:20250515T190000
DTEND;TZID=UTC:20250515T200000
DTSTAMP:20260424T030709
CREATED:20250828T152334Z
LAST-MODIFIED:20250828T152334Z
UID:10000957-1747335600-1747339200@hlcc.org
SUMMARY:Stitching
DESCRIPTION:
URL:https://hlcc.org/event/stitching/2025-05-15/
LOCATION:Clubhouse
CATEGORIES:Activities
ORGANIZER;CN="Activities":MAILTO:info@hcc.org
END:VEVENT
BEGIN:VEVENT
DTSTART;TZID=UTC:20250515T190000
DTEND;TZID=UTC:20250515T200000
DTSTAMP:20260424T030709
CREATED:20250828T152341Z
LAST-MODIFIED:20250828T152341Z
UID:10003745-1747335600-1747339200@hlcc.org
SUMMARY:Fish Committee
DESCRIPTION:
URL:https://hlcc.org/event/fish-committee-2/2025-05-15/
LOCATION:Clubhouse
CATEGORIES:Committee Meetings
ORGANIZER;CN="Committees":MAILTO:info@hlcc.org
END:VEVENT
BEGIN:VEVENT
DTSTART;TZID=UTC:20250515T190000
DTEND;TZID=UTC:20250515T200000
DTSTAMP:20260424T030709
CREATED:20250828T152458Z
LAST-MODIFIED:20250828T152458Z
UID:10008458-1747335600-1747339200@hlcc.org
SUMMARY:Chess Club
DESCRIPTION:
URL:https://hlcc.org/event/chess-club-5/2025-05-15/
CATEGORIES:Activities
END:VEVENT
BEGIN:VEVENT
DTSTART;TZID=UTC:20250516T100000
DTEND;TZID=UTC:20250516T120000
DTSTAMP:20260424T030709
CREATED:20250828T152345Z
LAST-MODIFIED:20250828T152345Z
UID:10005312-1747389600-1747396800@hlcc.org
SUMMARY:Pickleball - Fridays
DESCRIPTION:
URL:https://hlcc.org/event/pickleball-3/2025-05-16/
LOCATION:Clubhouse
CATEGORIES:Activities
ORGANIZER;CN="Activities":MAILTO:info@hcc.org
END:VEVENT
BEGIN:VEVENT
DTSTART;TZID=UTC:20250516T200000
DTEND;TZID=UTC:20250516T213000
DTSTAMP:20260424T030709
CREATED:20250828T152505Z
LAST-MODIFIED:20250828T152505Z
UID:10007794-1747425600-1747431000@hlcc.org
SUMMARY:Voting Board Regular Meeting
DESCRIPTION:
URL:https://hlcc.org/event/voting-board-regular-meeting-15/
CATEGORIES:Voting Board Meetings
END:VEVENT
BEGIN:VEVENT
DTSTART;TZID=UTC:20250517T090000
DTEND;TZID=UTC:20250517T100000
DTSTAMP:20260424T030709
CREATED:20250828T152503Z
LAST-MODIFIED:20250828T152503Z
UID:10008824-1747472400-1747476000@hlcc.org
SUMMARY:Running Club
DESCRIPTION:
URL:https://hlcc.org/event/running-club-2/2025-05-17/
CATEGORIES:Athletics
ATTACH;FMTTYPE=image/jpeg:https://hlcc.org/wp-content/uploads/2025/04/2025-running-CLUB-1.jpg
END:VEVENT
BEGIN:VEVENT
DTSTART;TZID=UTC:20250517T190000
DTEND;TZID=UTC:20250517T220000
DTSTAMP:20260424T030709
CREATED:20250828T152500Z
LAST-MODIFIED:20250828T152500Z
UID:10008324-1747508400-1747519200@hlcc.org
SUMMARY:Open Mic Night
DESCRIPTION:Open Mic Night \n3rd Saturday of every month \n7:00 PM. \nPerformers arrive 30 minutes early.
URL:https://hlcc.org/event/open-mic-night-7/2025-05-17/
CATEGORIES:Events
ATTACH;FMTTYPE=image/jpeg:https://hlcc.org/wp-content/uploads/2025/01/2-15-2025-open-mic-night.jpg
ORGANIZER;CN="Recreation":MAILTO:recreation@hlcc.org
END:VEVENT
BEGIN:VEVENT
DTSTART;TZID=UTC:20250519T170000
DTEND;TZID=UTC:20250519T180000
DTSTAMP:20260424T030709
CREATED:20250828T152335Z
LAST-MODIFIED:20250828T152335Z
UID:10000298-1747674000-1747677600@hlcc.org
SUMMARY:Yoga
DESCRIPTION:
URL:https://hlcc.org/event/yoga-2/2025-05-19/
LOCATION:Lake Room\, Highland Lakes\, NJ\, United States
CATEGORIES:Activities
ATTACH;FMTTYPE=image/jpeg:https://hlcc.org/wp-content/uploads/2022/12/2022-HLCC-Social-Media-v2-8.jpg
ORGANIZER;CN="Activities":MAILTO:info@hcc.org
END:VEVENT
BEGIN:VEVENT
DTSTART;TZID=UTC:20250519T180000
DTEND;TZID=UTC:20250519T190000
DTSTAMP:20260424T030709
CREATED:20250828T152447Z
LAST-MODIFIED:20250828T152447Z
UID:10007430-1747677600-1747681200@hlcc.org
SUMMARY:Camera & Cinematography Meetup
DESCRIPTION:
URL:https://hlcc.org/event/camera-cinematography-meetup/2025-05-19/
LOCATION:Clubhouse
CATEGORIES:Activities
ORGANIZER;CN="Recreation":MAILTO:recreation@hlcc.org
END:VEVENT
BEGIN:VEVENT
DTSTART;TZID=UTC:20250519T180000
DTEND;TZID=UTC:20250519T190000
DTSTAMP:20260424T030709
CREATED:20250828T152504Z
LAST-MODIFIED:20250828T152504Z
UID:10009119-1747677600-1747681200@hlcc.org
SUMMARY:Pickle Ball - Summer
DESCRIPTION:
URL:https://hlcc.org/event/pickle-ball-winter-2/2025-05-19/
CATEGORIES:Activities
END:VEVENT
BEGIN:VEVENT
DTSTART;TZID=UTC:20250519T190000
DTEND;TZID=UTC:20250519T210000
DTSTAMP:20260424T030709
CREATED:20250828T152335Z
LAST-MODIFIED:20250828T152335Z
UID:10001485-1747681200-1747688400@hlcc.org
SUMMARY:Ceramics
DESCRIPTION:
URL:https://hlcc.org/event/ceramics/2025-05-19/
LOCATION:Clubhouse
CATEGORIES:Activities
ORGANIZER;CN="Activities":MAILTO:info@hcc.org
END:VEVENT
BEGIN:VEVENT
DTSTART;TZID=UTC:20250520T093000
DTEND;TZID=UTC:20250520T113000
DTSTAMP:20260424T030709
CREATED:20250828T152448Z
LAST-MODIFIED:20250828T152448Z
UID:10007518-1747733400-1747740600@hlcc.org
SUMMARY:Playgroup Under 5
DESCRIPTION:
URL:https://hlcc.org/event/playgroup-under-5-3/2025-05-20/
LOCATION:Clubhouse
CATEGORIES:Activities
ATTACH;FMTTYPE=image/jpeg:https://hlcc.org/wp-content/uploads/2024/09/9-10-2024-playgroup.jpg
ORGANIZER;CN="Recreation":MAILTO:recreation@hlcc.org
END:VEVENT
BEGIN:VEVENT
DTSTART;TZID=UTC:20250521T170000
DTEND;TZID=UTC:20250521T180000
DTSTAMP:20260424T030709
CREATED:20250828T152335Z
LAST-MODIFIED:20250828T152335Z
UID:10000299-1747846800-1747850400@hlcc.org
SUMMARY:Yoga
DESCRIPTION:
URL:https://hlcc.org/event/yoga-2/2025-05-21/
LOCATION:Lake Room\, Highland Lakes\, NJ\, United States
CATEGORIES:Activities
ATTACH;FMTTYPE=image/jpeg:https://hlcc.org/wp-content/uploads/2022/12/2022-HLCC-Social-Media-v2-8.jpg
ORGANIZER;CN="Activities":MAILTO:info@hcc.org
END:VEVENT
BEGIN:VEVENT
DTSTART;TZID=UTC:20250521T170000
DTEND;TZID=UTC:20250521T180000
DTSTAMP:20260424T030709
CREATED:20250828T152500Z
LAST-MODIFIED:20250828T152500Z
UID:10008441-1747846800-1747850400@hlcc.org
SUMMARY:Scouts
DESCRIPTION:
URL:https://hlcc.org/event/scouts-13/2025-05-21/
CATEGORIES:Activities
END:VEVENT
BEGIN:VEVENT
DTSTART;TZID=UTC:20250521T180000
DTEND;TZID=UTC:20250521T190000
DTSTAMP:20260424T030709
CREATED:20250828T152504Z
LAST-MODIFIED:20250828T152504Z
UID:10009120-1747850400-1747854000@hlcc.org
SUMMARY:Pickle Ball - Summer
DESCRIPTION:
URL:https://hlcc.org/event/pickle-ball-winter-2/2025-05-21/
CATEGORIES:Activities
END:VEVENT
BEGIN:VEVENT
DTSTART;TZID=UTC:20250521T184500
DTEND;TZID=UTC:20250521T200000
DTSTAMP:20260424T030709
CREATED:20250828T152449Z
LAST-MODIFIED:20250828T152449Z
UID:10007604-1747853100-1747857600@hlcc.org
SUMMARY:Book Club
DESCRIPTION:
URL:https://hlcc.org/event/book-club-2/2025-05-21/
LOCATION:Clubhouse
CATEGORIES:Activities
ORGANIZER;CN="Activities":MAILTO:info@hcc.org
END:VEVENT
BEGIN:VEVENT
DTSTART;TZID=UTC:20250521T190000
DTEND;TZID=UTC:20250521T200000
DTSTAMP:20260424T030709
CREATED:20250828T152415Z
LAST-MODIFIED:20250828T152415Z
UID:10006196-1747854000-1747857600@hlcc.org
SUMMARY:Darts
DESCRIPTION:
URL:https://hlcc.org/event/darts-2/2025-05-21/
LOCATION:Clubhouse
CATEGORIES:Activities
ORGANIZER;CN="Activities":MAILTO:info@hcc.org
END:VEVENT
BEGIN:VEVENT
DTSTART;TZID=UTC:20250522T080000
DTEND;TZID=UTC:20250522T093000
DTSTAMP:20260424T030709
CREATED:20250828T152339Z
LAST-MODIFIED:20250828T152339Z
UID:10003899-1747900800-1747906200@hlcc.org
SUMMARY:Yoga & Meditation
DESCRIPTION:
URL:https://hlcc.org/event/yoga-meditation/2025-05-22/
LOCATION:Clubhouse
CATEGORIES:Activities
ORGANIZER;CN="Activities":MAILTO:info@hcc.org
END:VEVENT
BEGIN:VEVENT
DTSTART;TZID=UTC:20250522T110000
DTEND;TZID=UTC:20250522T120000
DTSTAMP:20260424T030709
CREATED:20250828T152455Z
LAST-MODIFIED:20250828T152455Z
UID:10008244-1747911600-1747915200@hlcc.org
SUMMARY:Guitar Club
DESCRIPTION:
URL:https://hlcc.org/event/guitar-club/2025-05-22/
CATEGORIES:Activities
ATTACH;FMTTYPE=image/jpeg:https://hlcc.org/wp-content/uploads/2025/01/2025-GUITAR-CLUB.jpg
END:VEVENT
BEGIN:VEVENT
DTSTART;TZID=UTC:20250522T190000
DTEND;TZID=UTC:20250522T200000
DTSTAMP:20260424T030709
CREATED:20250828T152334Z
LAST-MODIFIED:20250828T152334Z
UID:10000958-1747940400-1747944000@hlcc.org
SUMMARY:Stitching
DESCRIPTION:
URL:https://hlcc.org/event/stitching/2025-05-22/
LOCATION:Clubhouse
CATEGORIES:Activities
ORGANIZER;CN="Activities":MAILTO:info@hcc.org
END:VEVENT
BEGIN:VEVENT
DTSTART;TZID=UTC:20250522T190000
DTEND;TZID=UTC:20250522T200000
DTSTAMP:20260424T030709
CREATED:20250828T152458Z
LAST-MODIFIED:20250828T152458Z
UID:10008459-1747940400-1747944000@hlcc.org
SUMMARY:Chess Club
DESCRIPTION:
URL:https://hlcc.org/event/chess-club-5/2025-05-22/
CATEGORIES:Activities
END:VEVENT
BEGIN:VEVENT
DTSTART;TZID=UTC:20250523T100000
DTEND;TZID=UTC:20250523T120000
DTSTAMP:20260424T030709
CREATED:20250828T152345Z
LAST-MODIFIED:20250828T152345Z
UID:10005313-1747994400-1748001600@hlcc.org
SUMMARY:Pickleball - Fridays
DESCRIPTION:
URL:https://hlcc.org/event/pickleball-3/2025-05-23/
LOCATION:Clubhouse
CATEGORIES:Activities
ORGANIZER;CN="Activities":MAILTO:info@hcc.org
END:VEVENT
BEGIN:VEVENT
DTSTART;TZID=UTC:20250523T180000
DTEND;TZID=UTC:20250523T233000
DTSTAMP:20260424T030709
CREATED:20250828T152505Z
LAST-MODIFIED:20250828T152505Z
UID:10007848-1748023200-1748043000@hlcc.org
SUMMARY:Camp Out on the Club Lawn
DESCRIPTION:
URL:https://hlcc.org/event/camp-out-on-the-club-lawn/
CATEGORIES:Events
ATTACH;FMTTYPE=image/jpeg:https://hlcc.org/wp-content/uploads/2024/11/5-23-2025-camp-out.jpg
ORGANIZER;CN="Recreation":MAILTO:recreation@hlcc.org
END:VEVENT
BEGIN:VEVENT
DTSTART;TZID=UTC:20250524T090000
DTEND;TZID=UTC:20250524T100000
DTSTAMP:20260424T030709
CREATED:20250828T152503Z
LAST-MODIFIED:20250828T152503Z
UID:10008825-1748077200-1748080800@hlcc.org
SUMMARY:Running Club
DESCRIPTION:
URL:https://hlcc.org/event/running-club-2/2025-05-24/
CATEGORIES:Athletics
ATTACH;FMTTYPE=image/jpeg:https://hlcc.org/wp-content/uploads/2025/04/2025-running-CLUB-1.jpg
END:VEVENT
BEGIN:VEVENT
DTSTART;TZID=UTC:20250524T200000
DTEND;TZID=UTC:20250524T233000
DTSTAMP:20260424T030709
CREATED:20250828T152505Z
LAST-MODIFIED:20250828T152505Z
UID:10007849-1748116800-1748129400@hlcc.org
SUMMARY:Comedy Night
DESCRIPTION:
URL:https://hlcc.org/event/comedy-night-3/
CATEGORIES:Events
ATTACH;FMTTYPE=image/png:https://hlcc.org/wp-content/uploads/2024/11/5-24-2025-comedy-show-1.png
ORGANIZER;CN="Recreation":MAILTO:recreation@hlcc.org
END:VEVENT
BEGIN:VEVENT
DTSTART;TZID=UTC:20250525T090000
DTEND;TZID=UTC:20250525T110000
DTSTAMP:20260424T030709
CREATED:20250828T152505Z
LAST-MODIFIED:20250828T152505Z
UID:10007850-1748163600-1748170800@hlcc.org
SUMMARY:Memorial Day Breakfast
DESCRIPTION:
URL:https://hlcc.org/event/memorial-day-breakfast/
CATEGORIES:Events
ATTACH;FMTTYPE=image/jpeg:https://hlcc.org/wp-content/uploads/2024/11/5-25-2025-memorial-day-breakfast.jpg
ORGANIZER;CN="Recreation":MAILTO:recreation@hlcc.org
END:VEVENT
BEGIN:VEVENT
DTSTART;TZID=UTC:20250526T110000
DTEND;TZID=UTC:20250526T130000
DTSTAMP:20260424T030709
CREATED:20250828T152506Z
LAST-MODIFIED:20250828T152506Z
UID:10007851-1748257200-1748264400@hlcc.org
SUMMARY:Memorial Day Ceremony
DESCRIPTION:
URL:https://hlcc.org/event/memorial-day-ceremony/
CATEGORIES:Events
ATTACH;FMTTYPE=image/jpeg:https://hlcc.org/wp-content/uploads/2024/11/5-26-2025-memorial-day-ceremony.jpg
ORGANIZER;CN="Recreation":MAILTO:recreation@hlcc.org
END:VEVENT
BEGIN:VEVENT
DTSTART;TZID=UTC:20250526T170000
DTEND;TZID=UTC:20250526T180000
DTSTAMP:20260424T030709
CREATED:20250828T152335Z
LAST-MODIFIED:20250828T152335Z
UID:10000300-1748278800-1748282400@hlcc.org
SUMMARY:Yoga
DESCRIPTION:
URL:https://hlcc.org/event/yoga-2/2025-05-26/
LOCATION:Lake Room\, Highland Lakes\, NJ\, United States
CATEGORIES:Activities
ATTACH;FMTTYPE=image/jpeg:https://hlcc.org/wp-content/uploads/2022/12/2022-HLCC-Social-Media-v2-8.jpg
ORGANIZER;CN="Activities":MAILTO:info@hcc.org
END:VEVENT
END:VCALENDAR