BEGIN:VCALENDAR
VERSION:2.0
PRODID:-//Highland Lakes Country Club and Community Association - ECPv6.15.20//NONSGML v1.0//EN
CALSCALE:GREGORIAN
METHOD:PUBLISH
X-ORIGINAL-URL:https://hlcc.org
X-WR-CALDESC:Events for Highland Lakes Country Club and Community Association
REFRESH-INTERVAL;VALUE=DURATION:PT1H
X-Robots-Tag:noindex
X-PUBLISHED-TTL:PT1H
BEGIN:VTIMEZONE
TZID:UTC
BEGIN:STANDARD
TZOFFSETFROM:+0000
TZOFFSETTO:+0000
TZNAME:UTC
DTSTART:20240101T000000
END:STANDARD
END:VTIMEZONE
BEGIN:VEVENT
DTSTART;TZID=UTC:20250605T190000
DTEND;TZID=UTC:20250605T200000
DTSTAMP:20260424T105246
CREATED:20250828T152334Z
LAST-MODIFIED:20250828T152334Z
UID:10000960-1749150000-1749153600@hlcc.org
SUMMARY:Stitching
DESCRIPTION:
URL:https://hlcc.org/event/stitching/2025-06-05/
LOCATION:Clubhouse
CATEGORIES:Activities
ORGANIZER;CN="Activities":MAILTO:info@hcc.org
END:VEVENT
BEGIN:VEVENT
DTSTART;TZID=UTC:20250605T190000
DTEND;TZID=UTC:20250605T200000
DTSTAMP:20260424T105246
CREATED:20250828T152334Z
LAST-MODIFIED:20250828T152334Z
UID:10003663-1749150000-1749153600@hlcc.org
SUMMARY:Roads Committee
DESCRIPTION:
URL:https://hlcc.org/event/roads-committee-3/2025-06-05/
LOCATION:Seckler Room
CATEGORIES:Committee Meetings
ORGANIZER;CN="Committees":MAILTO:info@hlcc.org
END:VEVENT
BEGIN:VEVENT
DTSTART;TZID=UTC:20250606T100000
DTEND;TZID=UTC:20250606T120000
DTSTAMP:20260424T105246
CREATED:20250828T152345Z
LAST-MODIFIED:20250828T152345Z
UID:10005315-1749204000-1749211200@hlcc.org
SUMMARY:Pickleball - Fridays
DESCRIPTION:
URL:https://hlcc.org/event/pickleball-3/2025-06-06/
LOCATION:Clubhouse
CATEGORIES:Activities
ORGANIZER;CN="Activities":MAILTO:info@hcc.org
END:VEVENT
BEGIN:VEVENT
DTSTART;TZID=UTC:20250606T180000
DTEND;TZID=UTC:20250606T200000
DTSTAMP:20260424T105246
CREATED:20250828T152506Z
LAST-MODIFIED:20250828T152506Z
UID:10009112-1749232800-1749240000@hlcc.org
SUMMARY:Teen Band Night - Negative Eight
DESCRIPTION:
URL:https://hlcc.org/event/teen-band-night-negative-eight/
CATEGORIES:Events
ATTACH;FMTTYPE=image/jpeg:https://hlcc.org/wp-content/uploads/2025/05/6-6-2025-negative-eight-1.jpg
END:VEVENT
BEGIN:VEVENT
DTSTART;TZID=UTC:20250606T183000
DTEND;TZID=UTC:20250606T193000
DTSTAMP:20260424T105246
CREATED:20250828T152506Z
LAST-MODIFIED:20250828T152506Z
UID:10008491-1749234600-1749238200@hlcc.org
SUMMARY:Bunco
DESCRIPTION:
URL:https://hlcc.org/event/bunco-8/
CATEGORIES:Activities
END:VEVENT
BEGIN:VEVENT
DTSTART;TZID=UTC:20250607T090000
DTEND;TZID=UTC:20250607T100000
DTSTAMP:20260424T105246
CREATED:20250828T152503Z
LAST-MODIFIED:20250828T152503Z
UID:10008827-1749286800-1749290400@hlcc.org
SUMMARY:Running Club
DESCRIPTION:
URL:https://hlcc.org/event/running-club-2/2025-06-07/
CATEGORIES:Athletics
ATTACH;FMTTYPE=image/jpeg:https://hlcc.org/wp-content/uploads/2025/04/2025-running-CLUB-1.jpg
END:VEVENT
BEGIN:VEVENT
DTSTART;TZID=UTC:20250607T090000
DTEND;TZID=UTC:20250607T110000
DTSTAMP:20260424T105246
CREATED:20250828T152507Z
LAST-MODIFIED:20250828T152507Z
UID:10009113-1749286800-1749294000@hlcc.org
SUMMARY:Swim Team Parent Meeting
DESCRIPTION:
URL:https://hlcc.org/event/swim-team-parent-meeting-3/
CATEGORIES:Swim Team
ATTACH;FMTTYPE=image/png:https://hlcc.org/wp-content/uploads/2025/05/6-7-2024-swim-team-parent-mtg-1-scaled.png
END:VEVENT
BEGIN:VEVENT
DTSTART;TZID=UTC:20250609T170000
DTEND;TZID=UTC:20250609T180000
DTSTAMP:20260424T105246
CREATED:20250828T152335Z
LAST-MODIFIED:20250828T152335Z
UID:10000304-1749488400-1749492000@hlcc.org
SUMMARY:Yoga
DESCRIPTION:
URL:https://hlcc.org/event/yoga-2/2025-06-09/
LOCATION:Lake Room\, Highland Lakes\, NJ\, United States
CATEGORIES:Activities
ATTACH;FMTTYPE=image/jpeg:https://hlcc.org/wp-content/uploads/2022/12/2022-HLCC-Social-Media-v2-8.jpg
ORGANIZER;CN="Activities":MAILTO:info@hcc.org
END:VEVENT
BEGIN:VEVENT
DTSTART;TZID=UTC:20250609T180000
DTEND;TZID=UTC:20250609T190000
DTSTAMP:20260424T105246
CREATED:20250828T152504Z
LAST-MODIFIED:20250828T152504Z
UID:10009125-1749492000-1749495600@hlcc.org
SUMMARY:Pickle Ball - Summer
DESCRIPTION:
URL:https://hlcc.org/event/pickle-ball-winter-2/2025-06-09/
CATEGORIES:Activities
END:VEVENT
BEGIN:VEVENT
DTSTART;TZID=UTC:20250609T190000
DTEND;TZID=UTC:20250609T210000
DTSTAMP:20260424T105246
CREATED:20250828T152335Z
LAST-MODIFIED:20250828T152335Z
UID:10001488-1749495600-1749502800@hlcc.org
SUMMARY:Ceramics
DESCRIPTION:
URL:https://hlcc.org/event/ceramics/2025-06-09/
LOCATION:Clubhouse
CATEGORIES:Activities
ORGANIZER;CN="Activities":MAILTO:info@hcc.org
END:VEVENT
BEGIN:VEVENT
DTSTART;TZID=UTC:20250610T093000
DTEND;TZID=UTC:20250610T113000
DTSTAMP:20260424T105246
CREATED:20250828T152448Z
LAST-MODIFIED:20250828T152448Z
UID:10007521-1749547800-1749555000@hlcc.org
SUMMARY:Playgroup Under 5
DESCRIPTION:
URL:https://hlcc.org/event/playgroup-under-5-3/2025-06-10/
LOCATION:Clubhouse
CATEGORIES:Activities
ATTACH;FMTTYPE=image/jpeg:https://hlcc.org/wp-content/uploads/2024/09/9-10-2024-playgroup.jpg
ORGANIZER;CN="Recreation":MAILTO:recreation@hlcc.org
END:VEVENT
BEGIN:VEVENT
DTSTART;TZID=UTC:20250610T190000
DTEND;TZID=UTC:20250610T200000
DTSTAMP:20260424T105246
CREATED:20250828T152507Z
LAST-MODIFIED:20250828T152507Z
UID:10008492-1749582000-1749585600@hlcc.org
SUMMARY:Seniors Club Meeting
DESCRIPTION:
URL:https://hlcc.org/event/seniors-club-meeting-8/
CATEGORIES:Seniors Club
END:VEVENT
BEGIN:VEVENT
DTSTART;TZID=UTC:20250611T170000
DTEND;TZID=UTC:20250611T180000
DTSTAMP:20260424T105246
CREATED:20250828T152335Z
LAST-MODIFIED:20250828T152335Z
UID:10000305-1749661200-1749664800@hlcc.org
SUMMARY:Yoga
DESCRIPTION:
URL:https://hlcc.org/event/yoga-2/2025-06-11/
LOCATION:Lake Room\, Highland Lakes\, NJ\, United States
CATEGORIES:Activities
ATTACH;FMTTYPE=image/jpeg:https://hlcc.org/wp-content/uploads/2022/12/2022-HLCC-Social-Media-v2-8.jpg
ORGANIZER;CN="Activities":MAILTO:info@hcc.org
END:VEVENT
BEGIN:VEVENT
DTSTART;TZID=UTC:20250611T180000
DTEND;TZID=UTC:20250611T190000
DTSTAMP:20260424T105246
CREATED:20250828T152504Z
LAST-MODIFIED:20250828T152504Z
UID:10009126-1749664800-1749668400@hlcc.org
SUMMARY:Pickle Ball - Summer
DESCRIPTION:
URL:https://hlcc.org/event/pickle-ball-winter-2/2025-06-11/
CATEGORIES:Activities
END:VEVENT
BEGIN:VEVENT
DTSTART;TZID=UTC:20250611T190000
DTEND;TZID=UTC:20250611T200000
DTSTAMP:20260424T105246
CREATED:20250828T152415Z
LAST-MODIFIED:20250828T152415Z
UID:10009202-1749668400-1749672000@hlcc.org
SUMMARY:Darts
DESCRIPTION:
URL:https://hlcc.org/event/darts-2/2025-06-11/
LOCATION:Clubhouse
CATEGORIES:Activities
ORGANIZER;CN="Activities":MAILTO:info@hcc.org
END:VEVENT
BEGIN:VEVENT
DTSTART;TZID=UTC:20250611T193000
DTEND;TZID=UTC:20250611T210000
DTSTAMP:20260424T105246
CREATED:20250828T152507Z
LAST-MODIFIED:20250828T152507Z
UID:10007787-1749670200-1749675600@hlcc.org
SUMMARY:Voting Board Workshop
DESCRIPTION:
URL:https://hlcc.org/event/voting-board-workshop-21/
CATEGORIES:Voting Board Meetings
END:VEVENT
BEGIN:VEVENT
DTSTART;TZID=UTC:20250612T080000
DTEND;TZID=UTC:20250612T093000
DTSTAMP:20260424T105246
CREATED:20250828T152339Z
LAST-MODIFIED:20250828T152339Z
UID:10003902-1749715200-1749720600@hlcc.org
SUMMARY:Yoga & Meditation
DESCRIPTION:
URL:https://hlcc.org/event/yoga-meditation/2025-06-12/
LOCATION:Clubhouse
CATEGORIES:Activities
ORGANIZER;CN="Activities":MAILTO:info@hcc.org
END:VEVENT
BEGIN:VEVENT
DTSTART;TZID=UTC:20250612T110000
DTEND;TZID=UTC:20250612T120000
DTSTAMP:20260424T105246
CREATED:20250828T152455Z
LAST-MODIFIED:20250828T152455Z
UID:10008247-1749726000-1749729600@hlcc.org
SUMMARY:Guitar Club
DESCRIPTION:
URL:https://hlcc.org/event/guitar-club/2025-06-12/
CATEGORIES:Activities
ATTACH;FMTTYPE=image/jpeg:https://hlcc.org/wp-content/uploads/2025/01/2025-GUITAR-CLUB.jpg
END:VEVENT
BEGIN:VEVENT
DTSTART;TZID=UTC:20250612T190000
DTEND;TZID=UTC:20250612T200000
DTSTAMP:20260424T105246
CREATED:20250828T152334Z
LAST-MODIFIED:20250828T152334Z
UID:10000961-1749754800-1749758400@hlcc.org
SUMMARY:Stitching
DESCRIPTION:
URL:https://hlcc.org/event/stitching/2025-06-12/
LOCATION:Clubhouse
CATEGORIES:Activities
ORGANIZER;CN="Activities":MAILTO:info@hcc.org
END:VEVENT
BEGIN:VEVENT
DTSTART;TZID=UTC:20250613T100000
DTEND;TZID=UTC:20250613T120000
DTSTAMP:20260424T105246
CREATED:20250828T152345Z
LAST-MODIFIED:20250828T152345Z
UID:10005316-1749808800-1749816000@hlcc.org
SUMMARY:Pickleball - Fridays
DESCRIPTION:
URL:https://hlcc.org/event/pickleball-3/2025-06-13/
LOCATION:Clubhouse
CATEGORIES:Activities
ORGANIZER;CN="Activities":MAILTO:info@hcc.org
END:VEVENT
BEGIN:VEVENT
DTSTART;TZID=UTC:20250613T190000
DTEND;TZID=UTC:20250613T200000
DTSTAMP:20260424T105246
CREATED:20250828T152507Z
LAST-MODIFIED:20250828T152507Z
UID:10008493-1749841200-1749844800@hlcc.org
SUMMARY:Father's Day Celebration
DESCRIPTION:
URL:https://hlcc.org/event/fathers-day-celebration/
CATEGORIES:Events
ATTACH;FMTTYPE=image/jpeg:https://hlcc.org/wp-content/uploads/2025/05/6-13-2025-fathers-day-scaled.jpg
END:VEVENT
BEGIN:VEVENT
DTSTART;TZID=UTC:20250614T090000
DTEND;TZID=UTC:20250614T100000
DTSTAMP:20260424T105246
CREATED:20250828T152503Z
LAST-MODIFIED:20250828T152503Z
UID:10008828-1749891600-1749895200@hlcc.org
SUMMARY:Running Club
DESCRIPTION:
URL:https://hlcc.org/event/running-club-2/2025-06-14/
CATEGORIES:Athletics
ATTACH;FMTTYPE=image/jpeg:https://hlcc.org/wp-content/uploads/2025/04/2025-running-CLUB-1.jpg
END:VEVENT
BEGIN:VEVENT
DTSTART;TZID=UTC:20250614T100000
DTEND;TZID=UTC:20250614T110000
DTSTAMP:20260424T105246
CREATED:20250828T152507Z
LAST-MODIFIED:20250828T152507Z
UID:10008494-1749895200-1749898800@hlcc.org
SUMMARY:Communications Committee Meeting
DESCRIPTION:
URL:https://hlcc.org/event/communications-committee-meeting-4/
CATEGORIES:Committee Meetings
END:VEVENT
BEGIN:VEVENT
DTSTART;TZID=UTC:20250615T000000
DTEND;TZID=UTC:20250615T120000
DTSTAMP:20260424T105246
CREATED:20250828T152507Z
LAST-MODIFIED:20250828T152507Z
UID:10007854-1749945600-1749988800@hlcc.org
SUMMARY:Athletics & Swim Lesson Registration Deadline
DESCRIPTION:
URL:https://hlcc.org/event/swim-lesson-registration-deadline/
CATEGORIES:Water Safety
ATTACH;FMTTYPE=image/jpeg:https://hlcc.org/wp-content/uploads/2025/05/6-1-2024-activities-reg-scaled.jpg
END:VEVENT
BEGIN:VEVENT
DTSTART;TZID=UTC:20250616T170000
DTEND;TZID=UTC:20250616T180000
DTSTAMP:20260424T105246
CREATED:20250828T152335Z
LAST-MODIFIED:20250828T152335Z
UID:10000306-1750093200-1750096800@hlcc.org
SUMMARY:Yoga
DESCRIPTION:
URL:https://hlcc.org/event/yoga-2/2025-06-16/
LOCATION:Lake Room\, Highland Lakes\, NJ\, United States
CATEGORIES:Activities
ATTACH;FMTTYPE=image/jpeg:https://hlcc.org/wp-content/uploads/2022/12/2022-HLCC-Social-Media-v2-8.jpg
ORGANIZER;CN="Activities":MAILTO:info@hcc.org
END:VEVENT
BEGIN:VEVENT
DTSTART;TZID=UTC:20250616T180000
DTEND;TZID=UTC:20250616T190000
DTSTAMP:20260424T105246
CREATED:20250828T152447Z
LAST-MODIFIED:20250828T152447Z
UID:10007431-1750096800-1750100400@hlcc.org
SUMMARY:Camera & Cinematography Meetup
DESCRIPTION:
URL:https://hlcc.org/event/camera-cinematography-meetup/2025-06-16/
LOCATION:Clubhouse
CATEGORIES:Activities
ORGANIZER;CN="Recreation":MAILTO:recreation@hlcc.org
END:VEVENT
BEGIN:VEVENT
DTSTART;TZID=UTC:20250616T180000
DTEND;TZID=UTC:20250616T190000
DTSTAMP:20260424T105246
CREATED:20250828T152504Z
LAST-MODIFIED:20250828T152504Z
UID:10009127-1750096800-1750100400@hlcc.org
SUMMARY:Pickle Ball - Summer
DESCRIPTION:
URL:https://hlcc.org/event/pickle-ball-winter-2/2025-06-16/
CATEGORIES:Activities
END:VEVENT
BEGIN:VEVENT
DTSTART;TZID=UTC:20250616T190000
DTEND;TZID=UTC:20250616T210000
DTSTAMP:20260424T105246
CREATED:20250828T152335Z
LAST-MODIFIED:20250828T152335Z
UID:10001489-1750100400-1750107600@hlcc.org
SUMMARY:Ceramics
DESCRIPTION:
URL:https://hlcc.org/event/ceramics/2025-06-16/
LOCATION:Clubhouse
CATEGORIES:Activities
ORGANIZER;CN="Activities":MAILTO:info@hcc.org
END:VEVENT
BEGIN:VEVENT
DTSTART;TZID=UTC:20250617T093000
DTEND;TZID=UTC:20250617T113000
DTSTAMP:20260424T105246
CREATED:20250828T152448Z
LAST-MODIFIED:20250828T152448Z
UID:10007522-1750152600-1750159800@hlcc.org
SUMMARY:Playgroup Under 5
DESCRIPTION:
URL:https://hlcc.org/event/playgroup-under-5-3/2025-06-17/
LOCATION:Clubhouse
CATEGORIES:Activities
ATTACH;FMTTYPE=image/jpeg:https://hlcc.org/wp-content/uploads/2024/09/9-10-2024-playgroup.jpg
ORGANIZER;CN="Recreation":MAILTO:recreation@hlcc.org
END:VEVENT
BEGIN:VEVENT
DTSTART;TZID=UTC:20250618T170000
DTEND;TZID=UTC:20250618T180000
DTSTAMP:20260424T105246
CREATED:20250828T152335Z
LAST-MODIFIED:20250828T152335Z
UID:10000307-1750266000-1750269600@hlcc.org
SUMMARY:Yoga
DESCRIPTION:
URL:https://hlcc.org/event/yoga-2/2025-06-18/
LOCATION:Lake Room\, Highland Lakes\, NJ\, United States
CATEGORIES:Activities
ATTACH;FMTTYPE=image/jpeg:https://hlcc.org/wp-content/uploads/2022/12/2022-HLCC-Social-Media-v2-8.jpg
ORGANIZER;CN="Activities":MAILTO:info@hcc.org
END:VEVENT
END:VCALENDAR