BEGIN:VCALENDAR
VERSION:2.0
PRODID:-//Highland Lakes Country Club and Community Association - ECPv6.15.20//NONSGML v1.0//EN
CALSCALE:GREGORIAN
METHOD:PUBLISH
X-ORIGINAL-URL:https://hlcc.org
X-WR-CALDESC:Events for Highland Lakes Country Club and Community Association
REFRESH-INTERVAL;VALUE=DURATION:PT1H
X-Robots-Tag:noindex
X-PUBLISHED-TTL:PT1H
BEGIN:VTIMEZONE
TZID:UTC
BEGIN:STANDARD
TZOFFSETFROM:+0000
TZOFFSETTO:+0000
TZNAME:UTC
DTSTART:20240101T000000
END:STANDARD
END:VTIMEZONE
BEGIN:VEVENT
DTSTART;TZID=UTC:20250626T090000
DTEND;TZID=UTC:20250626T120000
DTSTAMP:20260424T185843
CREATED:20250828T152508Z
LAST-MODIFIED:20250828T152508Z
UID:10008502-1750928400-1750939200@hlcc.org
SUMMARY:Swim Team PRACTICE
DESCRIPTION:
URL:https://hlcc.org/event/swim-team-practice/2025-06-26/
CATEGORIES:Swim Team
ORGANIZER;CN="Swim Team":MAILTO:swimteam@hlcc.org
END:VEVENT
BEGIN:VEVENT
DTSTART;TZID=UTC:20250626T110000
DTEND;TZID=UTC:20250626T120000
DTSTAMP:20260424T185843
CREATED:20250828T152455Z
LAST-MODIFIED:20250828T152455Z
UID:10008249-1750935600-1750939200@hlcc.org
SUMMARY:Guitar Club
DESCRIPTION:
URL:https://hlcc.org/event/guitar-club/2025-06-26/
CATEGORIES:Activities
ATTACH;FMTTYPE=image/jpeg:https://hlcc.org/wp-content/uploads/2025/01/2025-GUITAR-CLUB.jpg
END:VEVENT
BEGIN:VEVENT
DTSTART;TZID=UTC:20250626T190000
DTEND;TZID=UTC:20250626T200000
DTSTAMP:20260424T185843
CREATED:20250828T152334Z
LAST-MODIFIED:20250828T152334Z
UID:10000963-1750964400-1750968000@hlcc.org
SUMMARY:Stitching
DESCRIPTION:
URL:https://hlcc.org/event/stitching/2025-06-26/
LOCATION:Clubhouse
CATEGORIES:Activities
ORGANIZER;CN="Activities":MAILTO:info@hcc.org
END:VEVENT
BEGIN:VEVENT
DTSTART;TZID=UTC:20250627T090000
DTEND;TZID=UTC:20250627T120000
DTSTAMP:20260424T185843
CREATED:20250828T152508Z
LAST-MODIFIED:20250828T152508Z
UID:10008503-1751014800-1751025600@hlcc.org
SUMMARY:Swim Team PRACTICE
DESCRIPTION:
URL:https://hlcc.org/event/swim-team-practice/2025-06-27/
CATEGORIES:Swim Team
ORGANIZER;CN="Swim Team":MAILTO:swimteam@hlcc.org
END:VEVENT
BEGIN:VEVENT
DTSTART;TZID=UTC:20250627T100000
DTEND;TZID=UTC:20250627T120000
DTSTAMP:20260424T185843
CREATED:20250828T152345Z
LAST-MODIFIED:20250828T152345Z
UID:10005318-1751018400-1751025600@hlcc.org
SUMMARY:Pickleball - Fridays
DESCRIPTION:
URL:https://hlcc.org/event/pickleball-3/2025-06-27/
LOCATION:Clubhouse
CATEGORIES:Activities
ORGANIZER;CN="Activities":MAILTO:info@hcc.org
END:VEVENT
BEGIN:VEVENT
DTSTART;TZID=UTC:20250627T120000
DTEND;TZID=UTC:20250627T150000
DTSTAMP:20260424T185843
CREATED:20250828T152509Z
LAST-MODIFIED:20250828T152509Z
UID:10007856-1751025600-1751036400@hlcc.org
SUMMARY:Blood Drive
DESCRIPTION:
URL:https://hlcc.org/event/blood-drive/
CATEGORIES:Events
ATTACH;FMTTYPE=image/jpeg:https://hlcc.org/wp-content/uploads/2025/05/6-27-2025-blood-drive-scaled.jpg
ORGANIZER;CN="Recreation":MAILTO:recreation@hlcc.org
END:VEVENT
BEGIN:VEVENT
DTSTART;TZID=UTC:20250628T080000
DTEND;TZID=UTC:20250628T170000
DTSTAMP:20260424T185843
CREATED:20250828T152509Z
LAST-MODIFIED:20250828T152509Z
UID:10009081-1751097600-1751130000@hlcc.org
SUMMARY:Windsurfer Regatta
DESCRIPTION:
URL:https://hlcc.org/event/windsurfer-regatta/2025-06-28/
LOCATION:Main Lake\, 2240 Lakeside Drive West
CATEGORIES:Sailing
ATTACH;FMTTYPE=image/png:https://hlcc.org/wp-content/uploads/2025/06/HL-Windsurfer-LT-Regatta_2025_png.png
END:VEVENT
BEGIN:VEVENT
DTSTART;TZID=UTC:20250628T090000
DTEND;TZID=UTC:20250628T100000
DTSTAMP:20260424T185843
CREATED:20250828T152503Z
LAST-MODIFIED:20250828T152503Z
UID:10008830-1751101200-1751104800@hlcc.org
SUMMARY:Running Club
DESCRIPTION:
URL:https://hlcc.org/event/running-club-2/2025-06-28/
CATEGORIES:Athletics
ATTACH;FMTTYPE=image/jpeg:https://hlcc.org/wp-content/uploads/2025/04/2025-running-CLUB-1.jpg
END:VEVENT
BEGIN:VEVENT
DTSTART;TZID=UTC:20250628T180000
DTEND;TZID=UTC:20250628T203000
DTSTAMP:20260424T185843
CREATED:20250828T152509Z
LAST-MODIFIED:20250828T152509Z
UID:10008497-1751133600-1751142600@hlcc.org
SUMMARY:Summer Luau
DESCRIPTION:
URL:https://hlcc.org/event/summer-luau/
CATEGORIES:Events
ATTACH;FMTTYPE=image/jpeg:https://hlcc.org/wp-content/uploads/2025/06/6-28-2025-luau-2-scaled.jpg
END:VEVENT
BEGIN:VEVENT
DTSTART;TZID=UTC:20250628T190000
DTEND;TZID=UTC:20250628T220000
DTSTAMP:20260424T185843
CREATED:20250828T152509Z
LAST-MODIFIED:20250828T152509Z
UID:10008325-1751137200-1751148000@hlcc.org
SUMMARY:Open Mic Night
DESCRIPTION:Open Mic Night \n3rd Saturday of every month \n7:00 PM. \nPerformers arrive 30 minutes early.
URL:https://hlcc.org/event/open-mic-night-6/
CATEGORIES:Events
ATTACH;FMTTYPE=image/jpeg:https://hlcc.org/wp-content/uploads/2025/01/2-15-2025-open-mic-night.jpg
ORGANIZER;CN="Recreation":MAILTO:recreation@hlcc.org
END:VEVENT
BEGIN:VEVENT
DTSTART;TZID=UTC:20250629T080000
DTEND;TZID=UTC:20250629T170000
DTSTAMP:20260424T185843
CREATED:20250828T152509Z
LAST-MODIFIED:20250828T152509Z
UID:10009082-1751184000-1751216400@hlcc.org
SUMMARY:Windsurfer Regatta
DESCRIPTION:
URL:https://hlcc.org/event/windsurfer-regatta/2025-06-29/
LOCATION:Main Lake\, 2240 Lakeside Drive West
CATEGORIES:Sailing
ATTACH;FMTTYPE=image/png:https://hlcc.org/wp-content/uploads/2025/06/HL-Windsurfer-LT-Regatta_2025_png.png
END:VEVENT
BEGIN:VEVENT
DTSTART;TZID=UTC:20250630T073000
DTEND;TZID=UTC:20250630T083000
DTSTAMP:20260424T185843
CREATED:20250828T152509Z
LAST-MODIFIED:20250828T152509Z
UID:10009254-1751268600-1751272200@hlcc.org
SUMMARY:Water Safety Meeting
DESCRIPTION:
URL:https://hlcc.org/event/water-safety-meeting-3/
CATEGORIES:Water Safety
END:VEVENT
BEGIN:VEVENT
DTSTART;TZID=UTC:20250630T080000
DTEND;TZID=UTC:20250630T170000
DTSTAMP:20260424T185843
CREATED:20250828T152509Z
LAST-MODIFIED:20250828T152509Z
UID:10009255-1751270400-1751302800@hlcc.org
SUMMARY:Summer Garbage Pick up BEGINS
DESCRIPTION:
URL:https://hlcc.org/event/summer-garbage-pick-up-begins/
END:VEVENT
BEGIN:VEVENT
DTSTART;TZID=UTC:20250630T090000
DTEND;TZID=UTC:20250630T100000
DTSTAMP:20260424T185843
CREATED:20250828T152522Z
LAST-MODIFIED:20250828T152522Z
UID:10007857-1751274000-1751277600@hlcc.org
SUMMARY:Water Aerobics Begins (MWF)
DESCRIPTION:
URL:https://hlcc.org/event/aqua-aerobics-begins-mwf/2025-06-30/
CATEGORIES:Activities
ORGANIZER;CN="Activities":MAILTO:info@hcc.org
END:VEVENT
BEGIN:VEVENT
DTSTART;TZID=UTC:20250630T090000
DTEND;TZID=UTC:20250630T100000
DTSTAMP:20260424T185843
CREATED:20250828T152522Z
LAST-MODIFIED:20250828T152522Z
UID:10008044-1751274000-1751277600@hlcc.org
SUMMARY:Swim Team All Swimmers Practice Begins
DESCRIPTION:
URL:https://hlcc.org/event/swim-team-all-swimmers-practice-begins/
CATEGORIES:Swim Team
ORGANIZER;CN="Swim Team":MAILTO:swimteam@hlcc.org
END:VEVENT
BEGIN:VEVENT
DTSTART;TZID=UTC:20250630T090000
DTEND;TZID=UTC:20250630T120000
DTSTAMP:20260424T185843
CREATED:20250828T152508Z
LAST-MODIFIED:20250828T152508Z
UID:10008504-1751274000-1751284800@hlcc.org
SUMMARY:Swim Team PRACTICE
DESCRIPTION:
URL:https://hlcc.org/event/swim-team-practice/2025-06-30/
CATEGORIES:Swim Team
ORGANIZER;CN="Swim Team":MAILTO:swimteam@hlcc.org
END:VEVENT
BEGIN:VEVENT
DTSTART;TZID=UTC:20250630T090000
DTEND;TZID=UTC:20250630T150000
DTSTAMP:20260424T185843
CREATED:20250828T152521Z
LAST-MODIFIED:20250828T152521Z
UID:10009685-1751274000-1751295600@hlcc.org
SUMMARY:Weekday Swim Lessons & Youth Athletics BEGINS!
DESCRIPTION:Swim Lessons & Youth Athletics BEGINS!
URL:https://hlcc.org/event/weekday-swim-lessons-youth-athletics-begins/
CATEGORIES:Athletics,Water Safety
END:VEVENT
BEGIN:VEVENT
DTSTART;TZID=UTC:20250630T170000
DTEND;TZID=UTC:20250630T180000
DTSTAMP:20260424T185843
CREATED:20250828T152335Z
LAST-MODIFIED:20250828T152335Z
UID:10000310-1751302800-1751306400@hlcc.org
SUMMARY:Yoga
DESCRIPTION:
URL:https://hlcc.org/event/yoga-2/2025-06-30/
LOCATION:Lake Room\, Highland Lakes\, NJ\, United States
CATEGORIES:Activities
ATTACH;FMTTYPE=image/jpeg:https://hlcc.org/wp-content/uploads/2022/12/2022-HLCC-Social-Media-v2-8.jpg
ORGANIZER;CN="Activities":MAILTO:info@hcc.org
END:VEVENT
BEGIN:VEVENT
DTSTART;TZID=UTC:20250630T180000
DTEND;TZID=UTC:20250630T190000
DTSTAMP:20260424T185843
CREATED:20250828T152504Z
LAST-MODIFIED:20250828T152504Z
UID:10009131-1751306400-1751310000@hlcc.org
SUMMARY:Pickle Ball - Summer
DESCRIPTION:
URL:https://hlcc.org/event/pickle-ball-winter-2/2025-06-30/
CATEGORIES:Activities
END:VEVENT
BEGIN:VEVENT
DTSTART;TZID=UTC:20250630T180000
DTEND;TZID=UTC:20250630T190000
DTSTAMP:20260424T185843
CREATED:20250828T152521Z
LAST-MODIFIED:20250828T152521Z
UID:10009657-1751306400-1751310000@hlcc.org
SUMMARY:Community Fun Night - Ceramics ALL AGES
DESCRIPTION:
URL:https://hlcc.org/event/community-fun-night-ceramics-all-ages/2025-06-30/
LOCATION:Clubhouse
CATEGORIES:Activities
END:VEVENT
BEGIN:VEVENT
DTSTART;TZID=UTC:20250630T190000
DTEND;TZID=UTC:20250630T210000
DTSTAMP:20260424T185843
CREATED:20250828T152335Z
LAST-MODIFIED:20250828T152335Z
UID:10001491-1751310000-1751317200@hlcc.org
SUMMARY:Ceramics
DESCRIPTION:
URL:https://hlcc.org/event/ceramics/2025-06-30/
LOCATION:Clubhouse
CATEGORIES:Activities
ORGANIZER;CN="Activities":MAILTO:info@hcc.org
END:VEVENT
BEGIN:VEVENT
DTSTART;TZID=UTC:20250701T090000
DTEND;TZID=UTC:20250701T120000
DTSTAMP:20260424T185843
CREATED:20250828T152508Z
LAST-MODIFIED:20250828T152508Z
UID:10008505-1751360400-1751371200@hlcc.org
SUMMARY:Swim Team PRACTICE
DESCRIPTION:
URL:https://hlcc.org/event/swim-team-practice/2025-07-01/
CATEGORIES:Swim Team
ORGANIZER;CN="Swim Team":MAILTO:swimteam@hlcc.org
END:VEVENT
BEGIN:VEVENT
DTSTART;TZID=UTC:20250701T100000
DTEND;TZID=UTC:20250701T110000
DTSTAMP:20260424T185843
CREATED:20250828T152510Z
LAST-MODIFIED:20250828T152510Z
UID:10009083-1751364000-1751367600@hlcc.org
SUMMARY:Basic SF Sailing Clinic/Club Lawn
DESCRIPTION:
URL:https://hlcc.org/event/basic-sf-sailing-clinic-club-lawn/
CATEGORIES:Sailing
ATTACH;FMTTYPE=image/jpeg:https://hlcc.org/wp-content/uploads/2025/06/7-1-2025-basic-sailing-clinic.jpg
END:VEVENT
BEGIN:VEVENT
DTSTART;TZID=UTC:20250701T180000
DTEND;TZID=UTC:20250701T190000
DTSTAMP:20260424T185843
CREATED:20250828T152510Z
LAST-MODIFIED:20250828T152510Z
UID:10009677-1751392800-1751396400@hlcc.org
SUMMARY:Community Fun Night - Red White & Blue Tie Dye
DESCRIPTION:
URL:https://hlcc.org/event/community-fun-night-3/
LOCATION:Clubhouse
CATEGORIES:Activities
END:VEVENT
BEGIN:VEVENT
DTSTART;TZID=UTC:20250701T190000
DTEND;TZID=UTC:20250701T200000
DTSTAMP:20260424T185843
CREATED:20250828T152336Z
LAST-MODIFIED:20250828T152336Z
UID:10002397-1751396400-1751400000@hlcc.org
SUMMARY:Buildings & Grounds Committee
DESCRIPTION:
URL:https://hlcc.org/event/buildings-grounds-committee-4/2025-07-01/
LOCATION:Lake Room\, Highland Lakes\, NJ\, United States
CATEGORIES:Committee Meetings
ORGANIZER;CN="Committees":MAILTO:info@hlcc.org
END:VEVENT
BEGIN:VEVENT
DTSTART;TZID=UTC:20250702T090000
DTEND;TZID=UTC:20250702T100000
DTSTAMP:20260424T185843
CREATED:20250828T152522Z
LAST-MODIFIED:20250828T152522Z
UID:10009362-1751446800-1751450400@hlcc.org
SUMMARY:Water Aerobics Begins (MWF)
DESCRIPTION:
URL:https://hlcc.org/event/aqua-aerobics-begins-mwf/2025-07-02/
CATEGORIES:Activities
ORGANIZER;CN="Activities":MAILTO:info@hcc.org
END:VEVENT
BEGIN:VEVENT
DTSTART;TZID=UTC:20250702T090000
DTEND;TZID=UTC:20250702T120000
DTSTAMP:20260424T185843
CREATED:20250828T152508Z
LAST-MODIFIED:20250828T152508Z
UID:10008506-1751446800-1751457600@hlcc.org
SUMMARY:Swim Team PRACTICE
DESCRIPTION:
URL:https://hlcc.org/event/swim-team-practice/2025-07-02/
CATEGORIES:Swim Team
ORGANIZER;CN="Swim Team":MAILTO:swimteam@hlcc.org
END:VEVENT
BEGIN:VEVENT
DTSTART;TZID=UTC:20250702T170000
DTEND;TZID=UTC:20250702T180000
DTSTAMP:20260424T185843
CREATED:20250828T152335Z
LAST-MODIFIED:20250828T152335Z
UID:10000311-1751475600-1751479200@hlcc.org
SUMMARY:Yoga
DESCRIPTION:
URL:https://hlcc.org/event/yoga-2/2025-07-02/
LOCATION:Lake Room\, Highland Lakes\, NJ\, United States
CATEGORIES:Activities
ATTACH;FMTTYPE=image/jpeg:https://hlcc.org/wp-content/uploads/2022/12/2022-HLCC-Social-Media-v2-8.jpg
ORGANIZER;CN="Activities":MAILTO:info@hcc.org
END:VEVENT
BEGIN:VEVENT
DTSTART;TZID=UTC:20250702T180000
DTEND;TZID=UTC:20250702T190000
DTSTAMP:20260424T185843
CREATED:20250828T152504Z
LAST-MODIFIED:20250828T152504Z
UID:10009132-1751479200-1751482800@hlcc.org
SUMMARY:Pickle Ball - Summer
DESCRIPTION:
URL:https://hlcc.org/event/pickle-ball-winter-2/2025-07-02/
CATEGORIES:Activities
END:VEVENT
BEGIN:VEVENT
DTSTART;TZID=UTC:20250702T190000
DTEND;TZID=UTC:20250702T200000
DTSTAMP:20260424T185843
CREATED:20250828T152415Z
LAST-MODIFIED:20250828T152415Z
UID:10009205-1751482800-1751486400@hlcc.org
SUMMARY:Darts
DESCRIPTION:
URL:https://hlcc.org/event/darts-2/2025-07-02/
LOCATION:Clubhouse
CATEGORIES:Activities
ORGANIZER;CN="Activities":MAILTO:info@hcc.org
END:VEVENT
END:VCALENDAR