BEGIN:VCALENDAR
VERSION:2.0
PRODID:-//Highland Lakes Country Club and Community Association - ECPv6.15.20//NONSGML v1.0//EN
CALSCALE:GREGORIAN
METHOD:PUBLISH
X-ORIGINAL-URL:https://hlcc.org
X-WR-CALDESC:Events for Highland Lakes Country Club and Community Association
REFRESH-INTERVAL;VALUE=DURATION:PT1H
X-Robots-Tag:noindex
X-PUBLISHED-TTL:PT1H
BEGIN:VTIMEZONE
TZID:UTC
BEGIN:STANDARD
TZOFFSETFROM:+0000
TZOFFSETTO:+0000
TZNAME:UTC
DTSTART:20240101T000000
END:STANDARD
END:VTIMEZONE
BEGIN:VEVENT
DTSTART;TZID=UTC:20250701T190000
DTEND;TZID=UTC:20250701T200000
DTSTAMP:20260424T220510
CREATED:20250828T152336Z
LAST-MODIFIED:20250828T152336Z
UID:10002397-1751396400-1751400000@hlcc.org
SUMMARY:Buildings & Grounds Committee
DESCRIPTION:
URL:https://hlcc.org/event/buildings-grounds-committee-4/2025-07-01/
LOCATION:Lake Room\, Highland Lakes\, NJ\, United States
CATEGORIES:Committee Meetings
ORGANIZER;CN="Committees":MAILTO:info@hlcc.org
END:VEVENT
BEGIN:VEVENT
DTSTART;TZID=UTC:20250702T090000
DTEND;TZID=UTC:20250702T100000
DTSTAMP:20260424T220510
CREATED:20250828T152522Z
LAST-MODIFIED:20250828T152522Z
UID:10009362-1751446800-1751450400@hlcc.org
SUMMARY:Water Aerobics Begins (MWF)
DESCRIPTION:
URL:https://hlcc.org/event/aqua-aerobics-begins-mwf/2025-07-02/
CATEGORIES:Activities
ORGANIZER;CN="Activities":MAILTO:info@hcc.org
END:VEVENT
BEGIN:VEVENT
DTSTART;TZID=UTC:20250702T090000
DTEND;TZID=UTC:20250702T120000
DTSTAMP:20260424T220510
CREATED:20250828T152508Z
LAST-MODIFIED:20250828T152508Z
UID:10008506-1751446800-1751457600@hlcc.org
SUMMARY:Swim Team PRACTICE
DESCRIPTION:
URL:https://hlcc.org/event/swim-team-practice/2025-07-02/
CATEGORIES:Swim Team
ORGANIZER;CN="Swim Team":MAILTO:swimteam@hlcc.org
END:VEVENT
BEGIN:VEVENT
DTSTART;TZID=UTC:20250702T170000
DTEND;TZID=UTC:20250702T180000
DTSTAMP:20260424T220510
CREATED:20250828T152335Z
LAST-MODIFIED:20250828T152335Z
UID:10000311-1751475600-1751479200@hlcc.org
SUMMARY:Yoga
DESCRIPTION:
URL:https://hlcc.org/event/yoga-2/2025-07-02/
LOCATION:Lake Room\, Highland Lakes\, NJ\, United States
CATEGORIES:Activities
ATTACH;FMTTYPE=image/jpeg:https://hlcc.org/wp-content/uploads/2022/12/2022-HLCC-Social-Media-v2-8.jpg
ORGANIZER;CN="Activities":MAILTO:info@hcc.org
END:VEVENT
BEGIN:VEVENT
DTSTART;TZID=UTC:20250702T180000
DTEND;TZID=UTC:20250702T190000
DTSTAMP:20260424T220510
CREATED:20250828T152504Z
LAST-MODIFIED:20250828T152504Z
UID:10009132-1751479200-1751482800@hlcc.org
SUMMARY:Pickle Ball - Summer
DESCRIPTION:
URL:https://hlcc.org/event/pickle-ball-winter-2/2025-07-02/
CATEGORIES:Activities
END:VEVENT
BEGIN:VEVENT
DTSTART;TZID=UTC:20250702T190000
DTEND;TZID=UTC:20250702T200000
DTSTAMP:20260424T220510
CREATED:20250828T152415Z
LAST-MODIFIED:20250828T152415Z
UID:10009205-1751482800-1751486400@hlcc.org
SUMMARY:Darts
DESCRIPTION:
URL:https://hlcc.org/event/darts-2/2025-07-02/
LOCATION:Clubhouse
CATEGORIES:Activities
ORGANIZER;CN="Activities":MAILTO:info@hcc.org
END:VEVENT
BEGIN:VEVENT
DTSTART;TZID=UTC:20250703T080000
DTEND;TZID=UTC:20250703T093000
DTSTAMP:20260424T220510
CREATED:20250828T152339Z
LAST-MODIFIED:20250828T152339Z
UID:10003905-1751529600-1751535000@hlcc.org
SUMMARY:Yoga & Meditation
DESCRIPTION:
URL:https://hlcc.org/event/yoga-meditation/2025-07-03/
LOCATION:Clubhouse
CATEGORIES:Activities
ORGANIZER;CN="Activities":MAILTO:info@hcc.org
END:VEVENT
BEGIN:VEVENT
DTSTART;TZID=UTC:20250703T090000
DTEND;TZID=UTC:20250703T120000
DTSTAMP:20260424T220510
CREATED:20250828T152508Z
LAST-MODIFIED:20250828T152508Z
UID:10008507-1751533200-1751544000@hlcc.org
SUMMARY:Swim Team PRACTICE
DESCRIPTION:
URL:https://hlcc.org/event/swim-team-practice/2025-07-03/
CATEGORIES:Swim Team
ORGANIZER;CN="Swim Team":MAILTO:swimteam@hlcc.org
END:VEVENT
BEGIN:VEVENT
DTSTART;TZID=UTC:20250703T110000
DTEND;TZID=UTC:20250703T120000
DTSTAMP:20260424T220510
CREATED:20250828T152455Z
LAST-MODIFIED:20250828T152455Z
UID:10008250-1751540400-1751544000@hlcc.org
SUMMARY:Guitar Club
DESCRIPTION:
URL:https://hlcc.org/event/guitar-club/2025-07-03/
CATEGORIES:Activities
ATTACH;FMTTYPE=image/jpeg:https://hlcc.org/wp-content/uploads/2025/01/2025-GUITAR-CLUB.jpg
END:VEVENT
BEGIN:VEVENT
DTSTART;TZID=UTC:20250703T120000
DTEND;TZID=UTC:20250703T140000
DTSTAMP:20260424T220510
CREATED:20250828T152510Z
LAST-MODIFIED:20250828T152510Z
UID:10009271-1751544000-1751551200@hlcc.org
SUMMARY:Junior Lifeguard Training
DESCRIPTION:
URL:https://hlcc.org/event/junior-lifeguard-training/2025-07-03/
LOCATION:Beach 1
CATEGORIES:Water Safety
END:VEVENT
BEGIN:VEVENT
DTSTART;TZID=UTC:20250703T180000
DTEND;TZID=UTC:20250703T190000
DTSTAMP:20260424T220510
CREATED:20250828T152510Z
LAST-MODIFIED:20250828T152510Z
UID:10009670-1751565600-1751569200@hlcc.org
SUMMARY:Community Fun Night - Leather Craft
DESCRIPTION:
URL:https://hlcc.org/event/community-fun-night-2-2/
LOCATION:Clubhouse
CATEGORIES:Activities
END:VEVENT
BEGIN:VEVENT
DTSTART;TZID=UTC:20250703T190000
DTEND;TZID=UTC:20250703T200000
DTSTAMP:20260424T220510
CREATED:20250828T152334Z
LAST-MODIFIED:20250828T152334Z
UID:10000964-1751569200-1751572800@hlcc.org
SUMMARY:Stitching
DESCRIPTION:
URL:https://hlcc.org/event/stitching/2025-07-03/
LOCATION:Clubhouse
CATEGORIES:Activities
ORGANIZER;CN="Activities":MAILTO:info@hcc.org
END:VEVENT
BEGIN:VEVENT
DTSTART;TZID=UTC:20250703T190000
DTEND;TZID=UTC:20250703T200000
DTSTAMP:20260424T220510
CREATED:20250828T152523Z
LAST-MODIFIED:20250828T152523Z
UID:10003664-1751569200-1751572800@hlcc.org
SUMMARY:Roads Committee - CANCELED
DESCRIPTION:This meeting has been canceled.
URL:https://hlcc.org/event/roads-committee-2/
LOCATION:Seckler Room
CATEGORIES:Committee Meetings
ORGANIZER;CN="Committees":MAILTO:info@hlcc.org
END:VEVENT
BEGIN:VEVENT
DTSTART;TZID=UTC:20250703T190000
DTEND;TZID=UTC:20250703T203000
DTSTAMP:20260424T220510
CREATED:20250828T152523Z
LAST-MODIFIED:20250828T152523Z
UID:10009544-1751569200-1751574600@hlcc.org
SUMMARY:Chess
DESCRIPTION:
URL:https://hlcc.org/event/chess/2025-07-03/
CATEGORIES:Activities
END:VEVENT
BEGIN:VEVENT
DTSTART;TZID=UTC:20250704T090000
DTEND;TZID=UTC:20250704T100000
DTSTAMP:20260424T220510
CREATED:20250828T152523Z
LAST-MODIFIED:20250828T152523Z
UID:10009363-1751619600-1751623200@hlcc.org
SUMMARY:Water Aerobics (MWF)
DESCRIPTION:
URL:https://hlcc.org/event/aqua-aerobics-begins-mwf-2/2025-07-04/
CATEGORIES:Activities
ORGANIZER;CN="Activities":MAILTO:info@hcc.org
END:VEVENT
BEGIN:VEVENT
DTSTART;TZID=UTC:20250704T090000
DTEND;TZID=UTC:20250704T100000
DTSTAMP:20260424T220510
CREATED:20250828T152523Z
LAST-MODIFIED:20250828T152523Z
UID:10009388-1751619600-1751623200@hlcc.org
SUMMARY:Water Aerobics (MWF)
DESCRIPTION:
URL:https://hlcc.org/event/water-aerobics-mwf/2025-07-04/
CATEGORIES:Activities
ORGANIZER;CN="Activities":MAILTO:info@hcc.org
END:VEVENT
BEGIN:VEVENT
DTSTART;TZID=UTC:20250704T090000
DTEND;TZID=UTC:20250704T120000
DTSTAMP:20260424T220510
CREATED:20250828T152508Z
LAST-MODIFIED:20250828T152508Z
UID:10008508-1751619600-1751630400@hlcc.org
SUMMARY:Swim Team PRACTICE
DESCRIPTION:
URL:https://hlcc.org/event/swim-team-practice/2025-07-04/
CATEGORIES:Swim Team
ORGANIZER;CN="Swim Team":MAILTO:swimteam@hlcc.org
END:VEVENT
BEGIN:VEVENT
DTSTART;TZID=UTC:20250704T100000
DTEND;TZID=UTC:20250704T120000
DTSTAMP:20260424T220510
CREATED:20250828T152345Z
LAST-MODIFIED:20250828T152345Z
UID:10005319-1751623200-1751630400@hlcc.org
SUMMARY:Pickleball - Fridays
DESCRIPTION:
URL:https://hlcc.org/event/pickleball-3/2025-07-04/
LOCATION:Clubhouse
CATEGORIES:Activities
ORGANIZER;CN="Activities":MAILTO:info@hcc.org
END:VEVENT
BEGIN:VEVENT
DTSTART;TZID=UTC:20250704T120000
DTEND;TZID=UTC:20250704T120000
DTSTAMP:20260424T220510
CREATED:20250828T152522Z
LAST-MODIFIED:20250828T152522Z
UID:10008077-1751630400-1751630400@hlcc.org
SUMMARY:Borrow a Boat opens
DESCRIPTION:
URL:https://hlcc.org/event/borrow-a-boat-opens/
LOCATION:Main Lake\, 2240 Lakeside Drive West
CATEGORIES:Water Safety
END:VEVENT
BEGIN:VEVENT
DTSTART;TZID=UTC:20250704T193000
DTEND;TZID=UTC:20250704T210000
DTSTAMP:20260424T220510
CREATED:20250828T152522Z
LAST-MODIFIED:20250828T152522Z
UID:10009085-1751657400-1751662800@hlcc.org
SUMMARY:The Nerds Concert
DESCRIPTION:
URL:https://hlcc.org/event/the-nerds-concert-2/
CATEGORIES:Events
ATTACH;FMTTYPE=image/jpeg:https://hlcc.org/wp-content/uploads/2025/06/7-4-2024-nerds-1-1-scaled.jpg
END:VEVENT
BEGIN:VEVENT
DTSTART;TZID=UTC:20250705T090000
DTEND;TZID=UTC:20250705T100000
DTSTAMP:20260424T220510
CREATED:20250828T152503Z
LAST-MODIFIED:20250828T152503Z
UID:10008831-1751706000-1751709600@hlcc.org
SUMMARY:Running Club
DESCRIPTION:
URL:https://hlcc.org/event/running-club-2/2025-07-05/
CATEGORIES:Athletics
ATTACH;FMTTYPE=image/jpeg:https://hlcc.org/wp-content/uploads/2025/04/2025-running-CLUB-1.jpg
END:VEVENT
BEGIN:VEVENT
DTSTART;TZID=UTC:20250705T090000
DTEND;TZID=UTC:20250705T150000
DTSTAMP:20260424T220510
CREATED:20250828T152522Z
LAST-MODIFIED:20250828T152522Z
UID:10009686-1751706000-1751727600@hlcc.org
SUMMARY:Weekend Swim Lessons BEGINS!
DESCRIPTION:
URL:https://hlcc.org/event/weekend-swim-lessons-begins/
CATEGORIES:Water Safety
END:VEVENT
BEGIN:VEVENT
DTSTART;TZID=UTC:20250706T093000
DTEND;TZID=UTC:20250706T113000
DTSTAMP:20260424T220510
CREATED:20250828T152522Z
LAST-MODIFIED:20250828T152522Z
UID:10009086-1751794200-1751801400@hlcc.org
SUMMARY:Summer Breakfast at the Clubhouse
DESCRIPTION:
URL:https://hlcc.org/event/summer-breakfast-at-the-clubhouse/
CATEGORIES:Events
END:VEVENT
BEGIN:VEVENT
DTSTART;TZID=UTC:20250706T160000
DTEND;TZID=UTC:20250706T180000
DTSTAMP:20260424T220510
CREATED:20250828T152522Z
LAST-MODIFIED:20250828T152522Z
UID:10009649-1751817600-1751824800@hlcc.org
SUMMARY:Advanced Game Night
DESCRIPTION:
URL:https://hlcc.org/event/advanced-game-night/
CATEGORIES:Activities
END:VEVENT
BEGIN:VEVENT
DTSTART;TZID=UTC:20250707T090000
DTEND;TZID=UTC:20250707T100000
DTSTAMP:20260424T220510
CREATED:20250828T152523Z
LAST-MODIFIED:20250828T152523Z
UID:10009364-1751878800-1751882400@hlcc.org
SUMMARY:Water Aerobics (MWF)
DESCRIPTION:
URL:https://hlcc.org/event/aqua-aerobics-begins-mwf-2/2025-07-07/
CATEGORIES:Activities
ORGANIZER;CN="Activities":MAILTO:info@hcc.org
END:VEVENT
BEGIN:VEVENT
DTSTART;TZID=UTC:20250707T090000
DTEND;TZID=UTC:20250707T100000
DTSTAMP:20260424T220510
CREATED:20250828T152523Z
LAST-MODIFIED:20250828T152523Z
UID:10010156-1751878800-1751882400@hlcc.org
SUMMARY:Water Aerobics (MWF)
DESCRIPTION:
URL:https://hlcc.org/event/water-aerobics-mwf/2025-07-07/
CATEGORIES:Activities
ORGANIZER;CN="Activities":MAILTO:info@hcc.org
END:VEVENT
BEGIN:VEVENT
DTSTART;TZID=UTC:20250707T090000
DTEND;TZID=UTC:20250707T120000
DTSTAMP:20260424T220510
CREATED:20250828T152508Z
LAST-MODIFIED:20250828T152508Z
UID:10008509-1751878800-1751889600@hlcc.org
SUMMARY:Swim Team PRACTICE
DESCRIPTION:
URL:https://hlcc.org/event/swim-team-practice/2025-07-07/
CATEGORIES:Swim Team
ORGANIZER;CN="Swim Team":MAILTO:swimteam@hlcc.org
END:VEVENT
BEGIN:VEVENT
DTSTART;TZID=UTC:20250707T170000
DTEND;TZID=UTC:20250707T180000
DTSTAMP:20260424T220510
CREATED:20250828T152335Z
LAST-MODIFIED:20250828T152335Z
UID:10000312-1751907600-1751911200@hlcc.org
SUMMARY:Yoga
DESCRIPTION:
URL:https://hlcc.org/event/yoga-2/2025-07-07/
LOCATION:Lake Room\, Highland Lakes\, NJ\, United States
CATEGORIES:Activities
ATTACH;FMTTYPE=image/jpeg:https://hlcc.org/wp-content/uploads/2022/12/2022-HLCC-Social-Media-v2-8.jpg
ORGANIZER;CN="Activities":MAILTO:info@hcc.org
END:VEVENT
BEGIN:VEVENT
DTSTART;TZID=UTC:20250707T180000
DTEND;TZID=UTC:20250707T190000
DTSTAMP:20260424T220510
CREATED:20250828T152504Z
LAST-MODIFIED:20250828T152504Z
UID:10009133-1751911200-1751914800@hlcc.org
SUMMARY:Pickle Ball - Summer
DESCRIPTION:
URL:https://hlcc.org/event/pickle-ball-winter-2/2025-07-07/
CATEGORIES:Activities
END:VEVENT
BEGIN:VEVENT
DTSTART;TZID=UTC:20250707T180000
DTEND;TZID=UTC:20250707T190000
DTSTAMP:20260424T220510
CREATED:20250828T152521Z
LAST-MODIFIED:20250828T152521Z
UID:10009658-1751911200-1751914800@hlcc.org
SUMMARY:Community Fun Night - Ceramics ALL AGES
DESCRIPTION:
URL:https://hlcc.org/event/community-fun-night-ceramics-all-ages/2025-07-07/
LOCATION:Clubhouse
CATEGORIES:Activities
END:VEVENT
END:VCALENDAR