BEGIN:VCALENDAR
VERSION:2.0
PRODID:-//Highland Lakes Country Club and Community Association - ECPv6.15.20//NONSGML v1.0//EN
CALSCALE:GREGORIAN
METHOD:PUBLISH
X-WR-CALNAME:Highland Lakes Country Club and Community Association
X-ORIGINAL-URL:https://hlcc.org
X-WR-CALDESC:Events for Highland Lakes Country Club and Community Association
REFRESH-INTERVAL;VALUE=DURATION:PT1H
X-Robots-Tag:noindex
X-PUBLISHED-TTL:PT1H
BEGIN:VTIMEZONE
TZID:UTC
BEGIN:STANDARD
TZOFFSETFROM:+0000
TZOFFSETTO:+0000
TZNAME:UTC
DTSTART:20240101T000000
END:STANDARD
END:VTIMEZONE
BEGIN:VEVENT
DTSTART;TZID=UTC:20250707T090000
DTEND;TZID=UTC:20250707T100000
DTSTAMP:20260425T012209
CREATED:20250828T152523Z
LAST-MODIFIED:20250828T152523Z
UID:10009364-1751878800-1751882400@hlcc.org
SUMMARY:Water Aerobics (MWF)
DESCRIPTION:
URL:https://hlcc.org/event/aqua-aerobics-begins-mwf-2/2025-07-07/
CATEGORIES:Activities
ORGANIZER;CN="Activities":MAILTO:info@hcc.org
END:VEVENT
BEGIN:VEVENT
DTSTART;TZID=UTC:20250707T090000
DTEND;TZID=UTC:20250707T100000
DTSTAMP:20260425T012209
CREATED:20250828T152523Z
LAST-MODIFIED:20250828T152523Z
UID:10010156-1751878800-1751882400@hlcc.org
SUMMARY:Water Aerobics (MWF)
DESCRIPTION:
URL:https://hlcc.org/event/water-aerobics-mwf/2025-07-07/
CATEGORIES:Activities
ORGANIZER;CN="Activities":MAILTO:info@hcc.org
END:VEVENT
BEGIN:VEVENT
DTSTART;TZID=UTC:20250707T090000
DTEND;TZID=UTC:20250707T120000
DTSTAMP:20260425T012209
CREATED:20250828T152508Z
LAST-MODIFIED:20250828T152508Z
UID:10008509-1751878800-1751889600@hlcc.org
SUMMARY:Swim Team PRACTICE
DESCRIPTION:
URL:https://hlcc.org/event/swim-team-practice/2025-07-07/
CATEGORIES:Swim Team
ORGANIZER;CN="Swim Team":MAILTO:swimteam@hlcc.org
END:VEVENT
BEGIN:VEVENT
DTSTART;TZID=UTC:20250707T170000
DTEND;TZID=UTC:20250707T180000
DTSTAMP:20260425T012209
CREATED:20250828T152335Z
LAST-MODIFIED:20250828T152335Z
UID:10000312-1751907600-1751911200@hlcc.org
SUMMARY:Yoga
DESCRIPTION:
URL:https://hlcc.org/event/yoga-2/2025-07-07/
LOCATION:Lake Room\, Highland Lakes\, NJ\, United States
CATEGORIES:Activities
ATTACH;FMTTYPE=image/jpeg:https://hlcc.org/wp-content/uploads/2022/12/2022-HLCC-Social-Media-v2-8.jpg
ORGANIZER;CN="Activities":MAILTO:info@hcc.org
END:VEVENT
BEGIN:VEVENT
DTSTART;TZID=UTC:20250707T180000
DTEND;TZID=UTC:20250707T190000
DTSTAMP:20260425T012209
CREATED:20250828T152504Z
LAST-MODIFIED:20250828T152504Z
UID:10009133-1751911200-1751914800@hlcc.org
SUMMARY:Pickle Ball - Summer
DESCRIPTION:
URL:https://hlcc.org/event/pickle-ball-winter-2/2025-07-07/
CATEGORIES:Activities
END:VEVENT
BEGIN:VEVENT
DTSTART;TZID=UTC:20250707T180000
DTEND;TZID=UTC:20250707T190000
DTSTAMP:20260425T012209
CREATED:20250828T152521Z
LAST-MODIFIED:20250828T152521Z
UID:10009658-1751911200-1751914800@hlcc.org
SUMMARY:Community Fun Night - Ceramics ALL AGES
DESCRIPTION:
URL:https://hlcc.org/event/community-fun-night-ceramics-all-ages/2025-07-07/
LOCATION:Clubhouse
CATEGORIES:Activities
END:VEVENT
BEGIN:VEVENT
DTSTART;TZID=UTC:20250707T190000
DTEND;TZID=UTC:20250707T210000
DTSTAMP:20260425T012209
CREATED:20250828T152335Z
LAST-MODIFIED:20250828T152335Z
UID:10001492-1751914800-1751922000@hlcc.org
SUMMARY:Ceramics
DESCRIPTION:
URL:https://hlcc.org/event/ceramics/2025-07-07/
LOCATION:Clubhouse
CATEGORIES:Activities
ORGANIZER;CN="Activities":MAILTO:info@hcc.org
END:VEVENT
BEGIN:VEVENT
DTSTART;TZID=UTC:20250708T090000
DTEND;TZID=UTC:20250708T120000
DTSTAMP:20260425T012209
CREATED:20250828T152508Z
LAST-MODIFIED:20250828T152508Z
UID:10008510-1751965200-1751976000@hlcc.org
SUMMARY:Swim Team PRACTICE
DESCRIPTION:
URL:https://hlcc.org/event/swim-team-practice/2025-07-08/
CATEGORIES:Swim Team
ORGANIZER;CN="Swim Team":MAILTO:swimteam@hlcc.org
END:VEVENT
BEGIN:VEVENT
DTSTART;TZID=UTC:20250708T180000
DTEND;TZID=UTC:20250708T190000
DTSTAMP:20260425T012209
CREATED:20250828T152522Z
LAST-MODIFIED:20250828T152522Z
UID:10009678-1751997600-1752001200@hlcc.org
SUMMARY:Community Fun Night - Cake Wars
DESCRIPTION:
URL:https://hlcc.org/event/community-fun-night-4/
LOCATION:Clubhouse
CATEGORIES:Activities
END:VEVENT
BEGIN:VEVENT
DTSTART;TZID=UTC:20250708T190000
DTEND;TZID=UTC:20250708T210000
DTSTAMP:20260425T012209
CREATED:20250828T152522Z
LAST-MODIFIED:20250828T152522Z
UID:10009650-1752001200-1752008400@hlcc.org
SUMMARY:Seniors Club Wine & Cheese
DESCRIPTION:
URL:https://hlcc.org/event/seniors-club-wine-cheese-4/
CATEGORIES:Seniors Club
END:VEVENT
BEGIN:VEVENT
DTSTART;TZID=UTC:20250709T090000
DTEND;TZID=UTC:20250709T100000
DTSTAMP:20260425T012209
CREATED:20250828T152523Z
LAST-MODIFIED:20250828T152523Z
UID:10009365-1752051600-1752055200@hlcc.org
SUMMARY:Water Aerobics (MWF)
DESCRIPTION:
URL:https://hlcc.org/event/aqua-aerobics-begins-mwf-2/2025-07-09/
CATEGORIES:Activities
ORGANIZER;CN="Activities":MAILTO:info@hcc.org
END:VEVENT
BEGIN:VEVENT
DTSTART;TZID=UTC:20250709T090000
DTEND;TZID=UTC:20250709T100000
DTSTAMP:20260425T012209
CREATED:20250828T152523Z
LAST-MODIFIED:20250828T152523Z
UID:10010157-1752051600-1752055200@hlcc.org
SUMMARY:Water Aerobics (MWF)
DESCRIPTION:
URL:https://hlcc.org/event/water-aerobics-mwf/2025-07-09/
CATEGORIES:Activities
ORGANIZER;CN="Activities":MAILTO:info@hcc.org
END:VEVENT
BEGIN:VEVENT
DTSTART;TZID=UTC:20250709T090000
DTEND;TZID=UTC:20250709T120000
DTSTAMP:20260425T012209
CREATED:20250828T152508Z
LAST-MODIFIED:20250828T152508Z
UID:10008511-1752051600-1752062400@hlcc.org
SUMMARY:Swim Team PRACTICE
DESCRIPTION:
URL:https://hlcc.org/event/swim-team-practice/2025-07-09/
CATEGORIES:Swim Team
ORGANIZER;CN="Swim Team":MAILTO:swimteam@hlcc.org
END:VEVENT
BEGIN:VEVENT
DTSTART;TZID=UTC:20250709T170000
DTEND;TZID=UTC:20250709T180000
DTSTAMP:20260425T012209
CREATED:20250828T152335Z
LAST-MODIFIED:20250828T152335Z
UID:10000313-1752080400-1752084000@hlcc.org
SUMMARY:Yoga
DESCRIPTION:
URL:https://hlcc.org/event/yoga-2/2025-07-09/
LOCATION:Lake Room\, Highland Lakes\, NJ\, United States
CATEGORIES:Activities
ATTACH;FMTTYPE=image/jpeg:https://hlcc.org/wp-content/uploads/2022/12/2022-HLCC-Social-Media-v2-8.jpg
ORGANIZER;CN="Activities":MAILTO:info@hcc.org
END:VEVENT
BEGIN:VEVENT
DTSTART;TZID=UTC:20250709T180000
DTEND;TZID=UTC:20250709T190000
DTSTAMP:20260425T012209
CREATED:20250828T152504Z
LAST-MODIFIED:20250828T152504Z
UID:10009134-1752084000-1752087600@hlcc.org
SUMMARY:Pickle Ball - Summer
DESCRIPTION:
URL:https://hlcc.org/event/pickle-ball-winter-2/2025-07-09/
CATEGORIES:Activities
END:VEVENT
BEGIN:VEVENT
DTSTART;TZID=UTC:20250709T190000
DTEND;TZID=UTC:20250709T193000
DTSTAMP:20260425T012209
CREATED:20250828T152524Z
LAST-MODIFIED:20250828T152524Z
UID:10009688-1752087600-1752089400@hlcc.org
SUMMARY:Specail Meeting of the Voting Board
DESCRIPTION:Special Meeting of the Voting Board July 9\, 2025 7:00 PM\nA Special Meeting of the Voting Board has been scheduled for Wednesday\, July 9\, 2025\, at 7:00pm. \nThe purpose of the meeting is the appointment of a Second Vice President pro-tem\, to serve until the next election. \nThe Special Meeting will take place in the Clubhouse Lake Room\, immediately prior to the regularly scheduled July Workshop Meeting.
URL:https://hlcc.org/event/specail-meeting-of-the-voting-board/
LOCATION:Lake Room\, Highland Lakes\, NJ\, United States
CATEGORIES:Voting Board Meetings
END:VEVENT
BEGIN:VEVENT
DTSTART;TZID=UTC:20250709T190000
DTEND;TZID=UTC:20250709T200000
DTSTAMP:20260425T012209
CREATED:20250828T152415Z
LAST-MODIFIED:20250828T152415Z
UID:10009206-1752087600-1752091200@hlcc.org
SUMMARY:Darts
DESCRIPTION:
URL:https://hlcc.org/event/darts-2/2025-07-09/
LOCATION:Clubhouse
CATEGORIES:Activities
ORGANIZER;CN="Activities":MAILTO:info@hcc.org
END:VEVENT
BEGIN:VEVENT
DTSTART;TZID=UTC:20250709T193000
DTEND;TZID=UTC:20250709T213000
DTSTAMP:20260425T012209
CREATED:20250828T152524Z
LAST-MODIFIED:20250828T152524Z
UID:10009687-1752089400-1752096600@hlcc.org
SUMMARY:Voting Board Workshop
DESCRIPTION:
URL:https://hlcc.org/event/voting-board-workshop-24/
LOCATION:Lake Room\, Highland Lakes\, NJ\, United States
CATEGORIES:Voting Board Meetings
END:VEVENT
BEGIN:VEVENT
DTSTART;TZID=UTC:20250710T080000
DTEND;TZID=UTC:20250710T093000
DTSTAMP:20260425T012209
CREATED:20250828T152339Z
LAST-MODIFIED:20250828T152339Z
UID:10003906-1752134400-1752139800@hlcc.org
SUMMARY:Yoga & Meditation
DESCRIPTION:
URL:https://hlcc.org/event/yoga-meditation/2025-07-10/
LOCATION:Clubhouse
CATEGORIES:Activities
ORGANIZER;CN="Activities":MAILTO:info@hcc.org
END:VEVENT
BEGIN:VEVENT
DTSTART;TZID=UTC:20250710T090000
DTEND;TZID=UTC:20250710T120000
DTSTAMP:20260425T012209
CREATED:20250828T152508Z
LAST-MODIFIED:20250828T152508Z
UID:10008512-1752138000-1752148800@hlcc.org
SUMMARY:Swim Team PRACTICE
DESCRIPTION:
URL:https://hlcc.org/event/swim-team-practice/2025-07-10/
CATEGORIES:Swim Team
ORGANIZER;CN="Swim Team":MAILTO:swimteam@hlcc.org
END:VEVENT
BEGIN:VEVENT
DTSTART;TZID=UTC:20250710T090000
DTEND;TZID=UTC:20250710T170000
DTSTAMP:20260425T012209
CREATED:20250828T152524Z
LAST-MODIFIED:20250828T152524Z
UID:10009088-1752138000-1752166800@hlcc.org
SUMMARY:Community Yard Sale - SET UP
DESCRIPTION:
URL:https://hlcc.org/event/community-yard-sale-set-up/2025-07-10/
CATEGORIES:Events
END:VEVENT
BEGIN:VEVENT
DTSTART;TZID=UTC:20250710T110000
DTEND;TZID=UTC:20250710T120000
DTSTAMP:20260425T012209
CREATED:20250828T152455Z
LAST-MODIFIED:20250828T152455Z
UID:10008251-1752145200-1752148800@hlcc.org
SUMMARY:Guitar Club
DESCRIPTION:
URL:https://hlcc.org/event/guitar-club/2025-07-10/
CATEGORIES:Activities
ATTACH;FMTTYPE=image/jpeg:https://hlcc.org/wp-content/uploads/2025/01/2025-GUITAR-CLUB.jpg
END:VEVENT
BEGIN:VEVENT
DTSTART;TZID=UTC:20250710T120000
DTEND;TZID=UTC:20250710T140000
DTSTAMP:20260425T012209
CREATED:20250828T152510Z
LAST-MODIFIED:20250828T152510Z
UID:10009272-1752148800-1752156000@hlcc.org
SUMMARY:Junior Lifeguard Training
DESCRIPTION:
URL:https://hlcc.org/event/junior-lifeguard-training/2025-07-10/
LOCATION:Beach 1
CATEGORIES:Water Safety
END:VEVENT
BEGIN:VEVENT
DTSTART;TZID=UTC:20250710T190000
DTEND;TZID=UTC:20250710T200000
DTSTAMP:20260425T012209
CREATED:20250828T152334Z
LAST-MODIFIED:20250828T152334Z
UID:10000965-1752174000-1752177600@hlcc.org
SUMMARY:Stitching
DESCRIPTION:
URL:https://hlcc.org/event/stitching/2025-07-10/
LOCATION:Clubhouse
CATEGORIES:Activities
ORGANIZER;CN="Activities":MAILTO:info@hcc.org
END:VEVENT
BEGIN:VEVENT
DTSTART;TZID=UTC:20250710T190000
DTEND;TZID=UTC:20250710T203000
DTSTAMP:20260425T012209
CREATED:20250828T152523Z
LAST-MODIFIED:20250828T152523Z
UID:10009545-1752174000-1752179400@hlcc.org
SUMMARY:Chess
DESCRIPTION:
URL:https://hlcc.org/event/chess/2025-07-10/
CATEGORIES:Activities
END:VEVENT
BEGIN:VEVENT
DTSTART;TZID=UTC:20250711T080000
DTEND;TZID=UTC:20250711T170000
DTSTAMP:20260425T012209
CREATED:20250828T152524Z
LAST-MODIFIED:20250828T152524Z
UID:10009089-1752220800-1752253200@hlcc.org
SUMMARY:Community Yard Sale - SET UP
DESCRIPTION:
URL:https://hlcc.org/event/community-yard-sale-set-up/2025-07-11/
CATEGORIES:Events
END:VEVENT
BEGIN:VEVENT
DTSTART;TZID=UTC:20250711T090000
DTEND;TZID=UTC:20250711T100000
DTSTAMP:20260425T012209
CREATED:20250828T152523Z
LAST-MODIFIED:20250828T152523Z
UID:10009366-1752224400-1752228000@hlcc.org
SUMMARY:Water Aerobics (MWF)
DESCRIPTION:
URL:https://hlcc.org/event/aqua-aerobics-begins-mwf-2/2025-07-11/
CATEGORIES:Activities
ORGANIZER;CN="Activities":MAILTO:info@hcc.org
END:VEVENT
BEGIN:VEVENT
DTSTART;TZID=UTC:20250711T090000
DTEND;TZID=UTC:20250711T100000
DTSTAMP:20260425T012209
CREATED:20250828T152523Z
LAST-MODIFIED:20250828T152523Z
UID:10010158-1752224400-1752228000@hlcc.org
SUMMARY:Water Aerobics (MWF)
DESCRIPTION:
URL:https://hlcc.org/event/water-aerobics-mwf/2025-07-11/
CATEGORIES:Activities
ORGANIZER;CN="Activities":MAILTO:info@hcc.org
END:VEVENT
BEGIN:VEVENT
DTSTART;TZID=UTC:20250711T090000
DTEND;TZID=UTC:20250711T120000
DTSTAMP:20260425T012209
CREATED:20250828T152508Z
LAST-MODIFIED:20250828T152508Z
UID:10008513-1752224400-1752235200@hlcc.org
SUMMARY:Swim Team PRACTICE
DESCRIPTION:
URL:https://hlcc.org/event/swim-team-practice/2025-07-11/
CATEGORIES:Swim Team
ORGANIZER;CN="Swim Team":MAILTO:swimteam@hlcc.org
END:VEVENT
BEGIN:VEVENT
DTSTART;TZID=UTC:20250711T100000
DTEND;TZID=UTC:20250711T120000
DTSTAMP:20260425T012209
CREATED:20250828T152345Z
LAST-MODIFIED:20250828T152345Z
UID:10005320-1752228000-1752235200@hlcc.org
SUMMARY:Pickleball - Fridays
DESCRIPTION:
URL:https://hlcc.org/event/pickleball-3/2025-07-11/
LOCATION:Clubhouse
CATEGORIES:Activities
ORGANIZER;CN="Activities":MAILTO:info@hcc.org
END:VEVENT
END:VCALENDAR