BEGIN:VCALENDAR
VERSION:2.0
PRODID:-//Highland Lakes Country Club and Community Association - ECPv6.15.20//NONSGML v1.0//EN
CALSCALE:GREGORIAN
METHOD:PUBLISH
X-WR-CALNAME:Highland Lakes Country Club and Community Association
X-ORIGINAL-URL:https://hlcc.org
X-WR-CALDESC:Events for Highland Lakes Country Club and Community Association
REFRESH-INTERVAL;VALUE=DURATION:PT1H
X-Robots-Tag:noindex
X-PUBLISHED-TTL:PT1H
BEGIN:VTIMEZONE
TZID:UTC
BEGIN:STANDARD
TZOFFSETFROM:+0000
TZOFFSETTO:+0000
TZNAME:UTC
DTSTART:20250101T000000
END:STANDARD
END:VTIMEZONE
BEGIN:VEVENT
DTSTART;TZID=UTC:20260509T100000
DTEND;TZID=UTC:20260509T120000
DTSTAMP:20260424T173732
CREATED:20260120T192256Z
LAST-MODIFIED:20260120T192256Z
UID:10010945-1778320800-1778328000@hlcc.org
SUMMARY:Coomunications Committee Meeting
DESCRIPTION:
URL:https://hlcc.org/event/coomunications-committee-meeting/2026-05-09/
CATEGORIES:Committee Meetings
END:VEVENT
BEGIN:VEVENT
DTSTART;TZID=UTC:20260711T100000
DTEND;TZID=UTC:20260711T120000
DTSTAMP:20260424T173732
CREATED:20260120T192256Z
LAST-MODIFIED:20260120T192256Z
UID:10010946-1783764000-1783771200@hlcc.org
SUMMARY:Coomunications Committee Meeting
DESCRIPTION:
URL:https://hlcc.org/event/coomunications-committee-meeting/2026-07-11/
CATEGORIES:Committee Meetings
END:VEVENT
BEGIN:VEVENT
DTSTART;TZID=UTC:20260912T100000
DTEND;TZID=UTC:20260912T120000
DTSTAMP:20260424T173732
CREATED:20260120T192256Z
LAST-MODIFIED:20260120T192256Z
UID:10010947-1789207200-1789214400@hlcc.org
SUMMARY:Coomunications Committee Meeting
DESCRIPTION:
URL:https://hlcc.org/event/coomunications-committee-meeting/2026-09-12/
CATEGORIES:Committee Meetings
END:VEVENT
BEGIN:VEVENT
DTSTART;TZID=UTC:20261114T100000
DTEND;TZID=UTC:20261114T120000
DTSTAMP:20260424T173732
CREATED:20260120T192256Z
LAST-MODIFIED:20260120T192256Z
UID:10010948-1794650400-1794657600@hlcc.org
SUMMARY:Coomunications Committee Meeting
DESCRIPTION:
URL:https://hlcc.org/event/coomunications-committee-meeting/2026-11-14/
CATEGORIES:Committee Meetings
END:VEVENT
BEGIN:VEVENT
DTSTART;TZID=UTC:20270109T100000
DTEND;TZID=UTC:20270109T120000
DTSTAMP:20260424T173732
CREATED:20260120T192256Z
LAST-MODIFIED:20260120T192256Z
UID:10010949-1799488800-1799496000@hlcc.org
SUMMARY:Coomunications Committee Meeting
DESCRIPTION:
URL:https://hlcc.org/event/coomunications-committee-meeting/2027-01-09/
CATEGORIES:Committee Meetings
END:VEVENT
BEGIN:VEVENT
DTSTART;TZID=UTC:20270313T100000
DTEND;TZID=UTC:20270313T120000
DTSTAMP:20260424T173732
CREATED:20260120T192256Z
LAST-MODIFIED:20260120T192256Z
UID:10010950-1804932000-1804939200@hlcc.org
SUMMARY:Coomunications Committee Meeting
DESCRIPTION:
URL:https://hlcc.org/event/coomunications-committee-meeting/2027-03-13/
CATEGORIES:Committee Meetings
END:VEVENT
BEGIN:VEVENT
DTSTART;TZID=UTC:20270508T100000
DTEND;TZID=UTC:20270508T120000
DTSTAMP:20260424T173732
CREATED:20260120T192256Z
LAST-MODIFIED:20260120T192256Z
UID:10010951-1809770400-1809777600@hlcc.org
SUMMARY:Coomunications Committee Meeting
DESCRIPTION:
URL:https://hlcc.org/event/coomunications-committee-meeting/2027-05-08/
CATEGORIES:Committee Meetings
END:VEVENT
BEGIN:VEVENT
DTSTART;TZID=UTC:20270710T100000
DTEND;TZID=UTC:20270710T120000
DTSTAMP:20260424T173732
CREATED:20260120T192256Z
LAST-MODIFIED:20260120T192256Z
UID:10010952-1815213600-1815220800@hlcc.org
SUMMARY:Coomunications Committee Meeting
DESCRIPTION:
URL:https://hlcc.org/event/coomunications-committee-meeting/2027-07-10/
CATEGORIES:Committee Meetings
END:VEVENT
BEGIN:VEVENT
DTSTART;TZID=UTC:20270911T100000
DTEND;TZID=UTC:20270911T120000
DTSTAMP:20260424T173732
CREATED:20260120T192256Z
LAST-MODIFIED:20260120T192256Z
UID:10010953-1820656800-1820664000@hlcc.org
SUMMARY:Coomunications Committee Meeting
DESCRIPTION:
URL:https://hlcc.org/event/coomunications-committee-meeting/2027-09-11/
CATEGORIES:Committee Meetings
END:VEVENT
BEGIN:VEVENT
DTSTART;TZID=UTC:20271113T100000
DTEND;TZID=UTC:20271113T120000
DTSTAMP:20260424T173732
CREATED:20260120T192256Z
LAST-MODIFIED:20260120T192256Z
UID:10010954-1826100000-1826107200@hlcc.org
SUMMARY:Coomunications Committee Meeting
DESCRIPTION:
URL:https://hlcc.org/event/coomunications-committee-meeting/2027-11-13/
CATEGORIES:Committee Meetings
END:VEVENT
BEGIN:VEVENT
DTSTART;TZID=UTC:20280108T100000
DTEND;TZID=UTC:20280108T120000
DTSTAMP:20260424T173732
CREATED:20260120T192256Z
LAST-MODIFIED:20260120T192256Z
UID:10010955-1830938400-1830945600@hlcc.org
SUMMARY:Coomunications Committee Meeting
DESCRIPTION:
URL:https://hlcc.org/event/coomunications-committee-meeting/2028-01-08/
CATEGORIES:Committee Meetings
END:VEVENT
BEGIN:VEVENT
DTSTART;TZID=UTC:20280311T100000
DTEND;TZID=UTC:20280311T120000
DTSTAMP:20260424T173732
CREATED:20260120T192256Z
LAST-MODIFIED:20260120T192256Z
UID:10010956-1836381600-1836388800@hlcc.org
SUMMARY:Coomunications Committee Meeting
DESCRIPTION:
URL:https://hlcc.org/event/coomunications-committee-meeting/2028-03-11/
CATEGORIES:Committee Meetings
END:VEVENT
BEGIN:VEVENT
DTSTART;TZID=UTC:20280513T100000
DTEND;TZID=UTC:20280513T120000
DTSTAMP:20260424T173732
CREATED:20260120T192256Z
LAST-MODIFIED:20260120T192256Z
UID:10010957-1841824800-1841832000@hlcc.org
SUMMARY:Coomunications Committee Meeting
DESCRIPTION:
URL:https://hlcc.org/event/coomunications-committee-meeting/2028-05-13/
CATEGORIES:Committee Meetings
END:VEVENT
BEGIN:VEVENT
DTSTART;TZID=UTC:20280708T100000
DTEND;TZID=UTC:20280708T120000
DTSTAMP:20260424T173732
CREATED:20260120T192256Z
LAST-MODIFIED:20260120T192256Z
UID:10010958-1846663200-1846670400@hlcc.org
SUMMARY:Coomunications Committee Meeting
DESCRIPTION:
URL:https://hlcc.org/event/coomunications-committee-meeting/2028-07-08/
CATEGORIES:Committee Meetings
END:VEVENT
BEGIN:VEVENT
DTSTART;TZID=UTC:20280909T100000
DTEND;TZID=UTC:20280909T120000
DTSTAMP:20260424T173732
CREATED:20260120T192256Z
LAST-MODIFIED:20260120T192256Z
UID:10010959-1852106400-1852113600@hlcc.org
SUMMARY:Coomunications Committee Meeting
DESCRIPTION:
URL:https://hlcc.org/event/coomunications-committee-meeting/2028-09-09/
CATEGORIES:Committee Meetings
END:VEVENT
BEGIN:VEVENT
DTSTART;TZID=UTC:20281111T100000
DTEND;TZID=UTC:20281111T120000
DTSTAMP:20260424T173732
CREATED:20260120T192256Z
LAST-MODIFIED:20260120T192256Z
UID:10010960-1857549600-1857556800@hlcc.org
SUMMARY:Coomunications Committee Meeting
DESCRIPTION:
URL:https://hlcc.org/event/coomunications-committee-meeting/2028-11-11/
CATEGORIES:Committee Meetings
END:VEVENT
BEGIN:VEVENT
DTSTART;TZID=UTC:20290113T100000
DTEND;TZID=UTC:20290113T120000
DTSTAMP:20260424T173732
CREATED:20260120T192256Z
LAST-MODIFIED:20260120T192256Z
UID:10010961-1862992800-1863000000@hlcc.org
SUMMARY:Coomunications Committee Meeting
DESCRIPTION:
URL:https://hlcc.org/event/coomunications-committee-meeting/2029-01-13/
CATEGORIES:Committee Meetings
END:VEVENT
BEGIN:VEVENT
DTSTART;TZID=UTC:20290310T100000
DTEND;TZID=UTC:20290310T120000
DTSTAMP:20260424T173732
CREATED:20260120T192256Z
LAST-MODIFIED:20260120T192256Z
UID:10010962-1867831200-1867838400@hlcc.org
SUMMARY:Coomunications Committee Meeting
DESCRIPTION:
URL:https://hlcc.org/event/coomunications-committee-meeting/2029-03-10/
CATEGORIES:Committee Meetings
END:VEVENT
BEGIN:VEVENT
DTSTART;TZID=UTC:20290512T100000
DTEND;TZID=UTC:20290512T120000
DTSTAMP:20260424T173732
CREATED:20260120T192256Z
LAST-MODIFIED:20260120T192256Z
UID:10010963-1873274400-1873281600@hlcc.org
SUMMARY:Coomunications Committee Meeting
DESCRIPTION:
URL:https://hlcc.org/event/coomunications-committee-meeting/2029-05-12/
CATEGORIES:Committee Meetings
END:VEVENT
BEGIN:VEVENT
DTSTART;TZID=UTC:20290714T100000
DTEND;TZID=UTC:20290714T120000
DTSTAMP:20260424T173732
CREATED:20260120T192256Z
LAST-MODIFIED:20260120T192256Z
UID:10010964-1878717600-1878724800@hlcc.org
SUMMARY:Coomunications Committee Meeting
DESCRIPTION:
URL:https://hlcc.org/event/coomunications-committee-meeting/2029-07-14/
CATEGORIES:Committee Meetings
END:VEVENT
BEGIN:VEVENT
DTSTART;TZID=UTC:20290908T100000
DTEND;TZID=UTC:20290908T120000
DTSTAMP:20260424T173732
CREATED:20260120T192256Z
LAST-MODIFIED:20260120T192256Z
UID:10010965-1883556000-1883563200@hlcc.org
SUMMARY:Coomunications Committee Meeting
DESCRIPTION:
URL:https://hlcc.org/event/coomunications-committee-meeting/2029-09-08/
CATEGORIES:Committee Meetings
END:VEVENT
BEGIN:VEVENT
DTSTART;TZID=UTC:20291110T100000
DTEND;TZID=UTC:20291110T120000
DTSTAMP:20260424T173732
CREATED:20260120T192256Z
LAST-MODIFIED:20260120T192256Z
UID:10010966-1888999200-1889006400@hlcc.org
SUMMARY:Coomunications Committee Meeting
DESCRIPTION:
URL:https://hlcc.org/event/coomunications-committee-meeting/2029-11-10/
CATEGORIES:Committee Meetings
END:VEVENT
BEGIN:VEVENT
DTSTART;TZID=UTC:20300112T100000
DTEND;TZID=UTC:20300112T120000
DTSTAMP:20260424T173732
CREATED:20260120T192256Z
LAST-MODIFIED:20260120T192256Z
UID:10010967-1894442400-1894449600@hlcc.org
SUMMARY:Coomunications Committee Meeting
DESCRIPTION:
URL:https://hlcc.org/event/coomunications-committee-meeting/2030-01-12/
CATEGORIES:Committee Meetings
END:VEVENT
BEGIN:VEVENT
DTSTART;TZID=UTC:20300309T100000
DTEND;TZID=UTC:20300309T120000
DTSTAMP:20260424T173732
CREATED:20260120T192256Z
LAST-MODIFIED:20260120T192256Z
UID:10010968-1899280800-1899288000@hlcc.org
SUMMARY:Coomunications Committee Meeting
DESCRIPTION:
URL:https://hlcc.org/event/coomunications-committee-meeting/2030-03-09/
CATEGORIES:Committee Meetings
END:VEVENT
BEGIN:VEVENT
DTSTART;TZID=UTC:20300511T100000
DTEND;TZID=UTC:20300511T120000
DTSTAMP:20260424T173732
CREATED:20260120T192256Z
LAST-MODIFIED:20260120T192256Z
UID:10010969-1904724000-1904731200@hlcc.org
SUMMARY:Coomunications Committee Meeting
DESCRIPTION:
URL:https://hlcc.org/event/coomunications-committee-meeting/2030-05-11/
CATEGORIES:Committee Meetings
END:VEVENT
BEGIN:VEVENT
DTSTART;TZID=UTC:20300713T100000
DTEND;TZID=UTC:20300713T120000
DTSTAMP:20260424T173732
CREATED:20260120T192256Z
LAST-MODIFIED:20260120T192256Z
UID:10010970-1910167200-1910174400@hlcc.org
SUMMARY:Coomunications Committee Meeting
DESCRIPTION:
URL:https://hlcc.org/event/coomunications-committee-meeting/2030-07-13/
CATEGORIES:Committee Meetings
END:VEVENT
BEGIN:VEVENT
DTSTART;TZID=UTC:20300914T100000
DTEND;TZID=UTC:20300914T120000
DTSTAMP:20260424T173732
CREATED:20260120T192256Z
LAST-MODIFIED:20260120T192256Z
UID:10010971-1915610400-1915617600@hlcc.org
SUMMARY:Coomunications Committee Meeting
DESCRIPTION:
URL:https://hlcc.org/event/coomunications-committee-meeting/2030-09-14/
CATEGORIES:Committee Meetings
END:VEVENT
BEGIN:VEVENT
DTSTART;TZID=UTC:20301109T100000
DTEND;TZID=UTC:20301109T120000
DTSTAMP:20260424T173732
CREATED:20260120T192256Z
LAST-MODIFIED:20260120T192256Z
UID:10010972-1920448800-1920456000@hlcc.org
SUMMARY:Coomunications Committee Meeting
DESCRIPTION:
URL:https://hlcc.org/event/coomunications-committee-meeting/2030-11-09/
CATEGORIES:Committee Meetings
END:VEVENT
BEGIN:VEVENT
DTSTART;TZID=UTC:20310111T100000
DTEND;TZID=UTC:20310111T120000
DTSTAMP:20260424T173732
CREATED:20260120T192256Z
LAST-MODIFIED:20260120T192256Z
UID:10010973-1925892000-1925899200@hlcc.org
SUMMARY:Coomunications Committee Meeting
DESCRIPTION:
URL:https://hlcc.org/event/coomunications-committee-meeting/2031-01-11/
CATEGORIES:Committee Meetings
END:VEVENT
END:VCALENDAR