BEGIN:VCALENDAR
VERSION:2.0
PRODID:-//Highland Lakes Country Club and Community Association - ECPv6.15.20//NONSGML v1.0//EN
CALSCALE:GREGORIAN
METHOD:PUBLISH
X-ORIGINAL-URL:https://hlcc.org
X-WR-CALDESC:Events for Highland Lakes Country Club and Community Association
REFRESH-INTERVAL;VALUE=DURATION:PT1H
X-Robots-Tag:noindex
X-PUBLISHED-TTL:PT1H
BEGIN:VTIMEZONE
TZID:UTC
BEGIN:STANDARD
TZOFFSETFROM:+0000
TZOFFSETTO:+0000
TZNAME:UTC
DTSTART:20260101T000000
END:STANDARD
END:VTIMEZONE
BEGIN:VEVENT
DTSTART;TZID=UTC:20270114T190000
DTEND;TZID=UTC:20270114T200000
DTSTAMP:20260425T035740
CREATED:20250828T152334Z
LAST-MODIFIED:20250828T152334Z
UID:10001044-1799953200-1799956800@hlcc.org
SUMMARY:Stitching
DESCRIPTION:
URL:https://hlcc.org/event/stitching/2027-01-14/
LOCATION:Clubhouse
CATEGORIES:Activities
ORGANIZER;CN="Activities":MAILTO:info@hcc.org
END:VEVENT
BEGIN:VEVENT
DTSTART;TZID=UTC:20270115T100000
DTEND;TZID=UTC:20270115T120000
DTSTAMP:20260425T035740
CREATED:20250828T152345Z
LAST-MODIFIED:20250828T152345Z
UID:10005399-1800007200-1800014400@hlcc.org
SUMMARY:Pickleball - Fridays
DESCRIPTION:
URL:https://hlcc.org/event/pickleball-3/2027-01-15/
LOCATION:Clubhouse
CATEGORIES:Activities
ORGANIZER;CN="Activities":MAILTO:info@hcc.org
END:VEVENT
BEGIN:VEVENT
DTSTART;TZID=UTC:20270121T080000
DTEND;TZID=UTC:20270121T093000
DTSTAMP:20260425T035740
CREATED:20250828T152339Z
LAST-MODIFIED:20250828T152339Z
UID:10003986-1800518400-1800523800@hlcc.org
SUMMARY:Yoga & Meditation
DESCRIPTION:
URL:https://hlcc.org/event/yoga-meditation/2027-01-21/
LOCATION:Clubhouse
CATEGORIES:Activities
ORGANIZER;CN="Activities":MAILTO:info@hcc.org
END:VEVENT
BEGIN:VEVENT
DTSTART;TZID=UTC:20270121T190000
DTEND;TZID=UTC:20270121T200000
DTSTAMP:20260425T035740
CREATED:20250828T152334Z
LAST-MODIFIED:20250828T152334Z
UID:10001045-1800558000-1800561600@hlcc.org
SUMMARY:Stitching
DESCRIPTION:
URL:https://hlcc.org/event/stitching/2027-01-21/
LOCATION:Clubhouse
CATEGORIES:Activities
ORGANIZER;CN="Activities":MAILTO:info@hcc.org
END:VEVENT
BEGIN:VEVENT
DTSTART;TZID=UTC:20270121T190000
DTEND;TZID=UTC:20270121T200000
DTSTAMP:20260425T035740
CREATED:20250828T152341Z
LAST-MODIFIED:20250828T152341Z
UID:10003765-1800558000-1800561600@hlcc.org
SUMMARY:Fish Committee
DESCRIPTION:
URL:https://hlcc.org/event/fish-committee-2/2027-01-21/
LOCATION:Clubhouse
CATEGORIES:Committee Meetings
ORGANIZER;CN="Committees":MAILTO:info@hlcc.org
END:VEVENT
BEGIN:VEVENT
DTSTART;TZID=UTC:20270122T100000
DTEND;TZID=UTC:20270122T120000
DTSTAMP:20260425T035740
CREATED:20250828T152345Z
LAST-MODIFIED:20250828T152345Z
UID:10005400-1800612000-1800619200@hlcc.org
SUMMARY:Pickleball - Fridays
DESCRIPTION:
URL:https://hlcc.org/event/pickleball-3/2027-01-22/
LOCATION:Clubhouse
CATEGORIES:Activities
ORGANIZER;CN="Activities":MAILTO:info@hcc.org
END:VEVENT
BEGIN:VEVENT
DTSTART;TZID=UTC:20270127T200000
DTEND;TZID=UTC:20270127T210000
DTSTAMP:20260425T035740
CREATED:20250828T152337Z
LAST-MODIFIED:20250828T152337Z
UID:10002116-1801080000-1801083600@hlcc.org
SUMMARY:Ecology Committee
DESCRIPTION:Ecology Committee Meetings are held on the 4th Wednesday of every month [unless otherwise noted]. \nContact: ecology@hlcc.org
URL:https://hlcc.org/event/ecology-committee/2027-01-27/
LOCATION:Clubhouse
CATEGORIES:Committee Meetings
ORGANIZER;CN="Committees":MAILTO:info@hlcc.org
END:VEVENT
BEGIN:VEVENT
DTSTART;TZID=UTC:20270128T080000
DTEND;TZID=UTC:20270128T093000
DTSTAMP:20260425T035740
CREATED:20250828T152339Z
LAST-MODIFIED:20250828T152339Z
UID:10003987-1801123200-1801128600@hlcc.org
SUMMARY:Yoga & Meditation
DESCRIPTION:
URL:https://hlcc.org/event/yoga-meditation/2027-01-28/
LOCATION:Clubhouse
CATEGORIES:Activities
ORGANIZER;CN="Activities":MAILTO:info@hcc.org
END:VEVENT
BEGIN:VEVENT
DTSTART;TZID=UTC:20270128T190000
DTEND;TZID=UTC:20270128T200000
DTSTAMP:20260425T035740
CREATED:20250828T152334Z
LAST-MODIFIED:20250828T152334Z
UID:10001046-1801162800-1801166400@hlcc.org
SUMMARY:Stitching
DESCRIPTION:
URL:https://hlcc.org/event/stitching/2027-01-28/
LOCATION:Clubhouse
CATEGORIES:Activities
ORGANIZER;CN="Activities":MAILTO:info@hcc.org
END:VEVENT
BEGIN:VEVENT
DTSTART;TZID=UTC:20270129T100000
DTEND;TZID=UTC:20270129T120000
DTSTAMP:20260425T035740
CREATED:20250828T152345Z
LAST-MODIFIED:20250828T152345Z
UID:10005401-1801216800-1801224000@hlcc.org
SUMMARY:Pickleball - Fridays
DESCRIPTION:
URL:https://hlcc.org/event/pickleball-3/2027-01-29/
LOCATION:Clubhouse
CATEGORIES:Activities
ORGANIZER;CN="Activities":MAILTO:info@hcc.org
END:VEVENT
BEGIN:VEVENT
DTSTART;TZID=UTC:20270204T080000
DTEND;TZID=UTC:20270204T093000
DTSTAMP:20260425T035740
CREATED:20250828T152339Z
LAST-MODIFIED:20250828T152339Z
UID:10003988-1801728000-1801733400@hlcc.org
SUMMARY:Yoga & Meditation
DESCRIPTION:
URL:https://hlcc.org/event/yoga-meditation/2027-02-04/
LOCATION:Clubhouse
CATEGORIES:Activities
ORGANIZER;CN="Activities":MAILTO:info@hcc.org
END:VEVENT
BEGIN:VEVENT
DTSTART;TZID=UTC:20270204T190000
DTEND;TZID=UTC:20270204T200000
DTSTAMP:20260425T035740
CREATED:20250828T152334Z
LAST-MODIFIED:20250828T152334Z
UID:10001047-1801767600-1801771200@hlcc.org
SUMMARY:Stitching
DESCRIPTION:
URL:https://hlcc.org/event/stitching/2027-02-04/
LOCATION:Clubhouse
CATEGORIES:Activities
ORGANIZER;CN="Activities":MAILTO:info@hcc.org
END:VEVENT
BEGIN:VEVENT
DTSTART;TZID=UTC:20270205T100000
DTEND;TZID=UTC:20270205T120000
DTSTAMP:20260425T035740
CREATED:20250828T152345Z
LAST-MODIFIED:20250828T152345Z
UID:10005402-1801821600-1801828800@hlcc.org
SUMMARY:Pickleball - Fridays
DESCRIPTION:
URL:https://hlcc.org/event/pickleball-3/2027-02-05/
LOCATION:Clubhouse
CATEGORIES:Activities
ORGANIZER;CN="Activities":MAILTO:info@hcc.org
END:VEVENT
BEGIN:VEVENT
DTSTART;TZID=UTC:20270211T080000
DTEND;TZID=UTC:20270211T093000
DTSTAMP:20260425T035740
CREATED:20250828T152339Z
LAST-MODIFIED:20250828T152339Z
UID:10003989-1802332800-1802338200@hlcc.org
SUMMARY:Yoga & Meditation
DESCRIPTION:
URL:https://hlcc.org/event/yoga-meditation/2027-02-11/
LOCATION:Clubhouse
CATEGORIES:Activities
ORGANIZER;CN="Activities":MAILTO:info@hcc.org
END:VEVENT
BEGIN:VEVENT
DTSTART;TZID=UTC:20270211T190000
DTEND;TZID=UTC:20270211T200000
DTSTAMP:20260425T035740
CREATED:20250828T152334Z
LAST-MODIFIED:20250828T152334Z
UID:10001048-1802372400-1802376000@hlcc.org
SUMMARY:Stitching
DESCRIPTION:
URL:https://hlcc.org/event/stitching/2027-02-11/
LOCATION:Clubhouse
CATEGORIES:Activities
ORGANIZER;CN="Activities":MAILTO:info@hcc.org
END:VEVENT
BEGIN:VEVENT
DTSTART;TZID=UTC:20270212T100000
DTEND;TZID=UTC:20270212T120000
DTSTAMP:20260425T035740
CREATED:20250828T152345Z
LAST-MODIFIED:20250828T152345Z
UID:10005403-1802426400-1802433600@hlcc.org
SUMMARY:Pickleball - Fridays
DESCRIPTION:
URL:https://hlcc.org/event/pickleball-3/2027-02-12/
LOCATION:Clubhouse
CATEGORIES:Activities
ORGANIZER;CN="Activities":MAILTO:info@hcc.org
END:VEVENT
BEGIN:VEVENT
DTSTART;TZID=UTC:20270218T080000
DTEND;TZID=UTC:20270218T093000
DTSTAMP:20260425T035740
CREATED:20250828T152339Z
LAST-MODIFIED:20250828T152339Z
UID:10003990-1802937600-1802943000@hlcc.org
SUMMARY:Yoga & Meditation
DESCRIPTION:
URL:https://hlcc.org/event/yoga-meditation/2027-02-18/
LOCATION:Clubhouse
CATEGORIES:Activities
ORGANIZER;CN="Activities":MAILTO:info@hcc.org
END:VEVENT
BEGIN:VEVENT
DTSTART;TZID=UTC:20270218T190000
DTEND;TZID=UTC:20270218T200000
DTSTAMP:20260425T035740
CREATED:20250828T152334Z
LAST-MODIFIED:20250828T152334Z
UID:10001049-1802977200-1802980800@hlcc.org
SUMMARY:Stitching
DESCRIPTION:
URL:https://hlcc.org/event/stitching/2027-02-18/
LOCATION:Clubhouse
CATEGORIES:Activities
ORGANIZER;CN="Activities":MAILTO:info@hcc.org
END:VEVENT
BEGIN:VEVENT
DTSTART;TZID=UTC:20270218T190000
DTEND;TZID=UTC:20270218T200000
DTSTAMP:20260425T035740
CREATED:20250828T152341Z
LAST-MODIFIED:20250828T152341Z
UID:10003766-1802977200-1802980800@hlcc.org
SUMMARY:Fish Committee
DESCRIPTION:
URL:https://hlcc.org/event/fish-committee-2/2027-02-18/
LOCATION:Clubhouse
CATEGORIES:Committee Meetings
ORGANIZER;CN="Committees":MAILTO:info@hlcc.org
END:VEVENT
BEGIN:VEVENT
DTSTART;TZID=UTC:20270219T100000
DTEND;TZID=UTC:20270219T120000
DTSTAMP:20260425T035740
CREATED:20250828T152345Z
LAST-MODIFIED:20250828T152345Z
UID:10005404-1803031200-1803038400@hlcc.org
SUMMARY:Pickleball - Fridays
DESCRIPTION:
URL:https://hlcc.org/event/pickleball-3/2027-02-19/
LOCATION:Clubhouse
CATEGORIES:Activities
ORGANIZER;CN="Activities":MAILTO:info@hcc.org
END:VEVENT
BEGIN:VEVENT
DTSTART;TZID=UTC:20270224T200000
DTEND;TZID=UTC:20270224T210000
DTSTAMP:20260425T035740
CREATED:20250828T152337Z
LAST-MODIFIED:20250828T152337Z
UID:10002117-1803499200-1803502800@hlcc.org
SUMMARY:Ecology Committee
DESCRIPTION:Ecology Committee Meetings are held on the 4th Wednesday of every month [unless otherwise noted]. \nContact: ecology@hlcc.org
URL:https://hlcc.org/event/ecology-committee/2027-02-24/
LOCATION:Clubhouse
CATEGORIES:Committee Meetings
ORGANIZER;CN="Committees":MAILTO:info@hlcc.org
END:VEVENT
BEGIN:VEVENT
DTSTART;TZID=UTC:20270225T080000
DTEND;TZID=UTC:20270225T093000
DTSTAMP:20260425T035740
CREATED:20250828T152339Z
LAST-MODIFIED:20250828T152339Z
UID:10003991-1803542400-1803547800@hlcc.org
SUMMARY:Yoga & Meditation
DESCRIPTION:
URL:https://hlcc.org/event/yoga-meditation/2027-02-25/
LOCATION:Clubhouse
CATEGORIES:Activities
ORGANIZER;CN="Activities":MAILTO:info@hcc.org
END:VEVENT
BEGIN:VEVENT
DTSTART;TZID=UTC:20270225T190000
DTEND;TZID=UTC:20270225T200000
DTSTAMP:20260425T035740
CREATED:20250828T152334Z
LAST-MODIFIED:20250828T152334Z
UID:10001050-1803582000-1803585600@hlcc.org
SUMMARY:Stitching
DESCRIPTION:
URL:https://hlcc.org/event/stitching/2027-02-25/
LOCATION:Clubhouse
CATEGORIES:Activities
ORGANIZER;CN="Activities":MAILTO:info@hcc.org
END:VEVENT
BEGIN:VEVENT
DTSTART;TZID=UTC:20270226T100000
DTEND;TZID=UTC:20270226T120000
DTSTAMP:20260425T035740
CREATED:20250828T152345Z
LAST-MODIFIED:20250828T152345Z
UID:10005405-1803636000-1803643200@hlcc.org
SUMMARY:Pickleball - Fridays
DESCRIPTION:
URL:https://hlcc.org/event/pickleball-3/2027-02-26/
LOCATION:Clubhouse
CATEGORIES:Activities
ORGANIZER;CN="Activities":MAILTO:info@hcc.org
END:VEVENT
BEGIN:VEVENT
DTSTART;TZID=UTC:20270304T080000
DTEND;TZID=UTC:20270304T093000
DTSTAMP:20260425T035740
CREATED:20250828T152339Z
LAST-MODIFIED:20250828T152339Z
UID:10003992-1804147200-1804152600@hlcc.org
SUMMARY:Yoga & Meditation
DESCRIPTION:
URL:https://hlcc.org/event/yoga-meditation/2027-03-04/
LOCATION:Clubhouse
CATEGORIES:Activities
ORGANIZER;CN="Activities":MAILTO:info@hcc.org
END:VEVENT
BEGIN:VEVENT
DTSTART;TZID=UTC:20270304T190000
DTEND;TZID=UTC:20270304T200000
DTSTAMP:20260425T035740
CREATED:20250828T152334Z
LAST-MODIFIED:20250828T152334Z
UID:10001051-1804186800-1804190400@hlcc.org
SUMMARY:Stitching
DESCRIPTION:
URL:https://hlcc.org/event/stitching/2027-03-04/
LOCATION:Clubhouse
CATEGORIES:Activities
ORGANIZER;CN="Activities":MAILTO:info@hcc.org
END:VEVENT
BEGIN:VEVENT
DTSTART;TZID=UTC:20270305T100000
DTEND;TZID=UTC:20270305T120000
DTSTAMP:20260425T035740
CREATED:20250828T152345Z
LAST-MODIFIED:20250828T152345Z
UID:10005406-1804240800-1804248000@hlcc.org
SUMMARY:Pickleball - Fridays
DESCRIPTION:
URL:https://hlcc.org/event/pickleball-3/2027-03-05/
LOCATION:Clubhouse
CATEGORIES:Activities
ORGANIZER;CN="Activities":MAILTO:info@hcc.org
END:VEVENT
BEGIN:VEVENT
DTSTART;TZID=UTC:20270311T080000
DTEND;TZID=UTC:20270311T093000
DTSTAMP:20260425T035740
CREATED:20250828T152339Z
LAST-MODIFIED:20250828T152339Z
UID:10003993-1804752000-1804757400@hlcc.org
SUMMARY:Yoga & Meditation
DESCRIPTION:
URL:https://hlcc.org/event/yoga-meditation/2027-03-11/
LOCATION:Clubhouse
CATEGORIES:Activities
ORGANIZER;CN="Activities":MAILTO:info@hcc.org
END:VEVENT
BEGIN:VEVENT
DTSTART;TZID=UTC:20270311T190000
DTEND;TZID=UTC:20270311T200000
DTSTAMP:20260425T035740
CREATED:20250828T152334Z
LAST-MODIFIED:20250828T152334Z
UID:10001052-1804791600-1804795200@hlcc.org
SUMMARY:Stitching
DESCRIPTION:
URL:https://hlcc.org/event/stitching/2027-03-11/
LOCATION:Clubhouse
CATEGORIES:Activities
ORGANIZER;CN="Activities":MAILTO:info@hcc.org
END:VEVENT
BEGIN:VEVENT
DTSTART;TZID=UTC:20270312T100000
DTEND;TZID=UTC:20270312T120000
DTSTAMP:20260425T035740
CREATED:20250828T152345Z
LAST-MODIFIED:20250828T152345Z
UID:10005407-1804845600-1804852800@hlcc.org
SUMMARY:Pickleball - Fridays
DESCRIPTION:
URL:https://hlcc.org/event/pickleball-3/2027-03-12/
LOCATION:Clubhouse
CATEGORIES:Activities
ORGANIZER;CN="Activities":MAILTO:info@hcc.org
END:VEVENT
END:VCALENDAR