BEGIN:VCALENDAR
VERSION:2.0
PRODID:-//Highland Lakes Country Club and Community Association - ECPv6.15.20//NONSGML v1.0//EN
CALSCALE:GREGORIAN
METHOD:PUBLISH
X-WR-CALNAME:Highland Lakes Country Club and Community Association
X-ORIGINAL-URL:https://hlcc.org
X-WR-CALDESC:Events for Highland Lakes Country Club and Community Association
REFRESH-INTERVAL;VALUE=DURATION:PT1H
X-Robots-Tag:noindex
X-PUBLISHED-TTL:PT1H
BEGIN:VTIMEZONE
TZID:UTC
BEGIN:STANDARD
TZOFFSETFROM:+0000
TZOFFSETTO:+0000
TZNAME:UTC
DTSTART:20250101T000000
END:STANDARD
END:VTIMEZONE
BEGIN:VEVENT
DTSTART;TZID=UTC:20260521T190000
DTEND;TZID=UTC:20260521T200000
DTSTAMP:20260424T124134
CREATED:20250828T152341Z
LAST-MODIFIED:20250828T152341Z
UID:10003757-1779390000-1779393600@hlcc.org
SUMMARY:Fish Committee
DESCRIPTION:
URL:https://hlcc.org/event/fish-committee-2/2026-05-21/
LOCATION:Clubhouse
CATEGORIES:Committee Meetings
ORGANIZER;CN="Committees":MAILTO:info@hlcc.org
END:VEVENT
BEGIN:VEVENT
DTSTART;TZID=UTC:20260522T100000
DTEND;TZID=UTC:20260522T120000
DTSTAMP:20260424T124134
CREATED:20250828T152345Z
LAST-MODIFIED:20250828T152345Z
UID:10005365-1779444000-1779451200@hlcc.org
SUMMARY:Pickleball - Fridays
DESCRIPTION:
URL:https://hlcc.org/event/pickleball-3/2026-05-22/
LOCATION:Clubhouse
CATEGORIES:Activities
ORGANIZER;CN="Activities":MAILTO:info@hcc.org
END:VEVENT
BEGIN:VEVENT
DTSTART;TZID=UTC:20260527T200000
DTEND;TZID=UTC:20260527T210000
DTSTAMP:20260424T124134
CREATED:20250828T152337Z
LAST-MODIFIED:20250828T152337Z
UID:10002108-1779912000-1779915600@hlcc.org
SUMMARY:Ecology Committee
DESCRIPTION:Ecology Committee Meetings are held on the 4th Wednesday of every month [unless otherwise noted]. \nContact: ecology@hlcc.org
URL:https://hlcc.org/event/ecology-committee/2026-05-27/
LOCATION:Clubhouse
CATEGORIES:Committee Meetings
ORGANIZER;CN="Committees":MAILTO:info@hlcc.org
END:VEVENT
BEGIN:VEVENT
DTSTART;TZID=UTC:20260528T080000
DTEND;TZID=UTC:20260528T093000
DTSTAMP:20260424T124134
CREATED:20250828T152339Z
LAST-MODIFIED:20250828T152339Z
UID:10003952-1779955200-1779960600@hlcc.org
SUMMARY:Yoga & Meditation
DESCRIPTION:
URL:https://hlcc.org/event/yoga-meditation/2026-05-28/
LOCATION:Clubhouse
CATEGORIES:Activities
ORGANIZER;CN="Activities":MAILTO:info@hcc.org
END:VEVENT
BEGIN:VEVENT
DTSTART;TZID=UTC:20260528T190000
DTEND;TZID=UTC:20260528T200000
DTSTAMP:20260424T124134
CREATED:20250828T152334Z
LAST-MODIFIED:20250828T152334Z
UID:10001011-1779994800-1779998400@hlcc.org
SUMMARY:Stitching
DESCRIPTION:
URL:https://hlcc.org/event/stitching/2026-05-28/
LOCATION:Clubhouse
CATEGORIES:Activities
ORGANIZER;CN="Activities":MAILTO:info@hcc.org
END:VEVENT
BEGIN:VEVENT
DTSTART;TZID=UTC:20260529T100000
DTEND;TZID=UTC:20260529T120000
DTSTAMP:20260424T124134
CREATED:20250828T152345Z
LAST-MODIFIED:20250828T152345Z
UID:10005366-1780048800-1780056000@hlcc.org
SUMMARY:Pickleball - Fridays
DESCRIPTION:
URL:https://hlcc.org/event/pickleball-3/2026-05-29/
LOCATION:Clubhouse
CATEGORIES:Activities
ORGANIZER;CN="Activities":MAILTO:info@hcc.org
END:VEVENT
BEGIN:VEVENT
DTSTART;TZID=UTC:20260604T080000
DTEND;TZID=UTC:20260604T093000
DTSTAMP:20260424T124134
CREATED:20250828T152339Z
LAST-MODIFIED:20250828T152339Z
UID:10003953-1780560000-1780565400@hlcc.org
SUMMARY:Yoga & Meditation
DESCRIPTION:
URL:https://hlcc.org/event/yoga-meditation/2026-06-04/
LOCATION:Clubhouse
CATEGORIES:Activities
ORGANIZER;CN="Activities":MAILTO:info@hcc.org
END:VEVENT
BEGIN:VEVENT
DTSTART;TZID=UTC:20260604T190000
DTEND;TZID=UTC:20260604T200000
DTSTAMP:20260424T124134
CREATED:20250828T152334Z
LAST-MODIFIED:20250828T152334Z
UID:10001012-1780599600-1780603200@hlcc.org
SUMMARY:Stitching
DESCRIPTION:
URL:https://hlcc.org/event/stitching/2026-06-04/
LOCATION:Clubhouse
CATEGORIES:Activities
ORGANIZER;CN="Activities":MAILTO:info@hcc.org
END:VEVENT
BEGIN:VEVENT
DTSTART;TZID=UTC:20260605T100000
DTEND;TZID=UTC:20260605T120000
DTSTAMP:20260424T124134
CREATED:20250828T152345Z
LAST-MODIFIED:20250828T152345Z
UID:10005367-1780653600-1780660800@hlcc.org
SUMMARY:Pickleball - Fridays
DESCRIPTION:
URL:https://hlcc.org/event/pickleball-3/2026-06-05/
LOCATION:Clubhouse
CATEGORIES:Activities
ORGANIZER;CN="Activities":MAILTO:info@hcc.org
END:VEVENT
BEGIN:VEVENT
DTSTART;TZID=UTC:20260611T080000
DTEND;TZID=UTC:20260611T093000
DTSTAMP:20260424T124134
CREATED:20250828T152339Z
LAST-MODIFIED:20250828T152339Z
UID:10003954-1781164800-1781170200@hlcc.org
SUMMARY:Yoga & Meditation
DESCRIPTION:
URL:https://hlcc.org/event/yoga-meditation/2026-06-11/
LOCATION:Clubhouse
CATEGORIES:Activities
ORGANIZER;CN="Activities":MAILTO:info@hcc.org
END:VEVENT
BEGIN:VEVENT
DTSTART;TZID=UTC:20260611T190000
DTEND;TZID=UTC:20260611T200000
DTSTAMP:20260424T124134
CREATED:20250828T152334Z
LAST-MODIFIED:20250828T152334Z
UID:10001013-1781204400-1781208000@hlcc.org
SUMMARY:Stitching
DESCRIPTION:
URL:https://hlcc.org/event/stitching/2026-06-11/
LOCATION:Clubhouse
CATEGORIES:Activities
ORGANIZER;CN="Activities":MAILTO:info@hcc.org
END:VEVENT
BEGIN:VEVENT
DTSTART;TZID=UTC:20260612T100000
DTEND;TZID=UTC:20260612T120000
DTSTAMP:20260424T124134
CREATED:20250828T152345Z
LAST-MODIFIED:20250828T152345Z
UID:10005368-1781258400-1781265600@hlcc.org
SUMMARY:Pickleball - Fridays
DESCRIPTION:
URL:https://hlcc.org/event/pickleball-3/2026-06-12/
LOCATION:Clubhouse
CATEGORIES:Activities
ORGANIZER;CN="Activities":MAILTO:info@hcc.org
END:VEVENT
BEGIN:VEVENT
DTSTART;TZID=UTC:20260618T080000
DTEND;TZID=UTC:20260618T093000
DTSTAMP:20260424T124134
CREATED:20250828T152339Z
LAST-MODIFIED:20250828T152339Z
UID:10003955-1781769600-1781775000@hlcc.org
SUMMARY:Yoga & Meditation
DESCRIPTION:
URL:https://hlcc.org/event/yoga-meditation/2026-06-18/
LOCATION:Clubhouse
CATEGORIES:Activities
ORGANIZER;CN="Activities":MAILTO:info@hcc.org
END:VEVENT
BEGIN:VEVENT
DTSTART;TZID=UTC:20260618T190000
DTEND;TZID=UTC:20260618T200000
DTSTAMP:20260424T124134
CREATED:20250828T152334Z
LAST-MODIFIED:20250828T152334Z
UID:10001014-1781809200-1781812800@hlcc.org
SUMMARY:Stitching
DESCRIPTION:
URL:https://hlcc.org/event/stitching/2026-06-18/
LOCATION:Clubhouse
CATEGORIES:Activities
ORGANIZER;CN="Activities":MAILTO:info@hcc.org
END:VEVENT
BEGIN:VEVENT
DTSTART;TZID=UTC:20260618T190000
DTEND;TZID=UTC:20260618T200000
DTSTAMP:20260424T124134
CREATED:20250828T152341Z
LAST-MODIFIED:20250828T152341Z
UID:10003758-1781809200-1781812800@hlcc.org
SUMMARY:Fish Committee
DESCRIPTION:
URL:https://hlcc.org/event/fish-committee-2/2026-06-18/
LOCATION:Clubhouse
CATEGORIES:Committee Meetings
ORGANIZER;CN="Committees":MAILTO:info@hlcc.org
END:VEVENT
BEGIN:VEVENT
DTSTART;TZID=UTC:20260619T100000
DTEND;TZID=UTC:20260619T120000
DTSTAMP:20260424T124134
CREATED:20250828T152345Z
LAST-MODIFIED:20250828T152345Z
UID:10005369-1781863200-1781870400@hlcc.org
SUMMARY:Pickleball - Fridays
DESCRIPTION:
URL:https://hlcc.org/event/pickleball-3/2026-06-19/
LOCATION:Clubhouse
CATEGORIES:Activities
ORGANIZER;CN="Activities":MAILTO:info@hcc.org
END:VEVENT
BEGIN:VEVENT
DTSTART;TZID=UTC:20260624T200000
DTEND;TZID=UTC:20260624T210000
DTSTAMP:20260424T124134
CREATED:20250828T152337Z
LAST-MODIFIED:20250828T152337Z
UID:10002109-1782331200-1782334800@hlcc.org
SUMMARY:Ecology Committee
DESCRIPTION:Ecology Committee Meetings are held on the 4th Wednesday of every month [unless otherwise noted]. \nContact: ecology@hlcc.org
URL:https://hlcc.org/event/ecology-committee/2026-06-24/
LOCATION:Clubhouse
CATEGORIES:Committee Meetings
ORGANIZER;CN="Committees":MAILTO:info@hlcc.org
END:VEVENT
BEGIN:VEVENT
DTSTART;TZID=UTC:20260625T080000
DTEND;TZID=UTC:20260625T093000
DTSTAMP:20260424T124134
CREATED:20250828T152339Z
LAST-MODIFIED:20250828T152339Z
UID:10003956-1782374400-1782379800@hlcc.org
SUMMARY:Yoga & Meditation
DESCRIPTION:
URL:https://hlcc.org/event/yoga-meditation/2026-06-25/
LOCATION:Clubhouse
CATEGORIES:Activities
ORGANIZER;CN="Activities":MAILTO:info@hcc.org
END:VEVENT
BEGIN:VEVENT
DTSTART;TZID=UTC:20260625T190000
DTEND;TZID=UTC:20260625T200000
DTSTAMP:20260424T124134
CREATED:20250828T152334Z
LAST-MODIFIED:20250828T152334Z
UID:10001015-1782414000-1782417600@hlcc.org
SUMMARY:Stitching
DESCRIPTION:
URL:https://hlcc.org/event/stitching/2026-06-25/
LOCATION:Clubhouse
CATEGORIES:Activities
ORGANIZER;CN="Activities":MAILTO:info@hcc.org
END:VEVENT
BEGIN:VEVENT
DTSTART;TZID=UTC:20260626T100000
DTEND;TZID=UTC:20260626T120000
DTSTAMP:20260424T124134
CREATED:20250828T152345Z
LAST-MODIFIED:20250828T152345Z
UID:10005370-1782468000-1782475200@hlcc.org
SUMMARY:Pickleball - Fridays
DESCRIPTION:
URL:https://hlcc.org/event/pickleball-3/2026-06-26/
LOCATION:Clubhouse
CATEGORIES:Activities
ORGANIZER;CN="Activities":MAILTO:info@hcc.org
END:VEVENT
BEGIN:VEVENT
DTSTART;TZID=UTC:20260702T080000
DTEND;TZID=UTC:20260702T093000
DTSTAMP:20260424T124134
CREATED:20250828T152339Z
LAST-MODIFIED:20250828T152339Z
UID:10003957-1782979200-1782984600@hlcc.org
SUMMARY:Yoga & Meditation
DESCRIPTION:
URL:https://hlcc.org/event/yoga-meditation/2026-07-02/
LOCATION:Clubhouse
CATEGORIES:Activities
ORGANIZER;CN="Activities":MAILTO:info@hcc.org
END:VEVENT
BEGIN:VEVENT
DTSTART;TZID=UTC:20260702T190000
DTEND;TZID=UTC:20260702T200000
DTSTAMP:20260424T124134
CREATED:20250828T152334Z
LAST-MODIFIED:20250828T152334Z
UID:10001016-1783018800-1783022400@hlcc.org
SUMMARY:Stitching
DESCRIPTION:
URL:https://hlcc.org/event/stitching/2026-07-02/
LOCATION:Clubhouse
CATEGORIES:Activities
ORGANIZER;CN="Activities":MAILTO:info@hcc.org
END:VEVENT
BEGIN:VEVENT
DTSTART;TZID=UTC:20260703T100000
DTEND;TZID=UTC:20260703T120000
DTSTAMP:20260424T124134
CREATED:20250828T152345Z
LAST-MODIFIED:20250828T152345Z
UID:10005371-1783072800-1783080000@hlcc.org
SUMMARY:Pickleball - Fridays
DESCRIPTION:
URL:https://hlcc.org/event/pickleball-3/2026-07-03/
LOCATION:Clubhouse
CATEGORIES:Activities
ORGANIZER;CN="Activities":MAILTO:info@hcc.org
END:VEVENT
BEGIN:VEVENT
DTSTART;TZID=UTC:20260709T080000
DTEND;TZID=UTC:20260709T093000
DTSTAMP:20260424T124134
CREATED:20250828T152339Z
LAST-MODIFIED:20250828T152339Z
UID:10003958-1783584000-1783589400@hlcc.org
SUMMARY:Yoga & Meditation
DESCRIPTION:
URL:https://hlcc.org/event/yoga-meditation/2026-07-09/
LOCATION:Clubhouse
CATEGORIES:Activities
ORGANIZER;CN="Activities":MAILTO:info@hcc.org
END:VEVENT
BEGIN:VEVENT
DTSTART;TZID=UTC:20260709T190000
DTEND;TZID=UTC:20260709T200000
DTSTAMP:20260424T124134
CREATED:20250828T152334Z
LAST-MODIFIED:20250828T152334Z
UID:10001017-1783623600-1783627200@hlcc.org
SUMMARY:Stitching
DESCRIPTION:
URL:https://hlcc.org/event/stitching/2026-07-09/
LOCATION:Clubhouse
CATEGORIES:Activities
ORGANIZER;CN="Activities":MAILTO:info@hcc.org
END:VEVENT
BEGIN:VEVENT
DTSTART;TZID=UTC:20260710T100000
DTEND;TZID=UTC:20260710T120000
DTSTAMP:20260424T124134
CREATED:20250828T152345Z
LAST-MODIFIED:20250828T152345Z
UID:10005372-1783677600-1783684800@hlcc.org
SUMMARY:Pickleball - Fridays
DESCRIPTION:
URL:https://hlcc.org/event/pickleball-3/2026-07-10/
LOCATION:Clubhouse
CATEGORIES:Activities
ORGANIZER;CN="Activities":MAILTO:info@hcc.org
END:VEVENT
BEGIN:VEVENT
DTSTART;TZID=UTC:20260716T080000
DTEND;TZID=UTC:20260716T093000
DTSTAMP:20260424T124134
CREATED:20250828T152339Z
LAST-MODIFIED:20250828T152339Z
UID:10003959-1784188800-1784194200@hlcc.org
SUMMARY:Yoga & Meditation
DESCRIPTION:
URL:https://hlcc.org/event/yoga-meditation/2026-07-16/
LOCATION:Clubhouse
CATEGORIES:Activities
ORGANIZER;CN="Activities":MAILTO:info@hcc.org
END:VEVENT
BEGIN:VEVENT
DTSTART;TZID=UTC:20260716T190000
DTEND;TZID=UTC:20260716T200000
DTSTAMP:20260424T124134
CREATED:20250828T152334Z
LAST-MODIFIED:20250828T152334Z
UID:10001018-1784228400-1784232000@hlcc.org
SUMMARY:Stitching
DESCRIPTION:
URL:https://hlcc.org/event/stitching/2026-07-16/
LOCATION:Clubhouse
CATEGORIES:Activities
ORGANIZER;CN="Activities":MAILTO:info@hcc.org
END:VEVENT
BEGIN:VEVENT
DTSTART;TZID=UTC:20260716T190000
DTEND;TZID=UTC:20260716T200000
DTSTAMP:20260424T124134
CREATED:20250828T152341Z
LAST-MODIFIED:20250828T152341Z
UID:10003759-1784228400-1784232000@hlcc.org
SUMMARY:Fish Committee
DESCRIPTION:
URL:https://hlcc.org/event/fish-committee-2/2026-07-16/
LOCATION:Clubhouse
CATEGORIES:Committee Meetings
ORGANIZER;CN="Committees":MAILTO:info@hlcc.org
END:VEVENT
BEGIN:VEVENT
DTSTART;TZID=UTC:20260717T100000
DTEND;TZID=UTC:20260717T120000
DTSTAMP:20260424T124134
CREATED:20250828T152345Z
LAST-MODIFIED:20250828T152345Z
UID:10005373-1784282400-1784289600@hlcc.org
SUMMARY:Pickleball - Fridays
DESCRIPTION:
URL:https://hlcc.org/event/pickleball-3/2026-07-17/
LOCATION:Clubhouse
CATEGORIES:Activities
ORGANIZER;CN="Activities":MAILTO:info@hcc.org
END:VEVENT
END:VCALENDAR