BEGIN:VCALENDAR
VERSION:2.0
PRODID:-//Highland Lakes Country Club and Community Association - ECPv6.15.20//NONSGML v1.0//EN
CALSCALE:GREGORIAN
METHOD:PUBLISH
X-WR-CALNAME:Highland Lakes Country Club and Community Association
X-ORIGINAL-URL:https://hlcc.org
X-WR-CALDESC:Events for Highland Lakes Country Club and Community Association
REFRESH-INTERVAL;VALUE=DURATION:PT1H
X-Robots-Tag:noindex
X-PUBLISHED-TTL:PT1H
BEGIN:VTIMEZONE
TZID:UTC
BEGIN:STANDARD
TZOFFSETFROM:+0000
TZOFFSETTO:+0000
TZNAME:UTC
DTSTART:20250101T000000
END:STANDARD
END:VTIMEZONE
BEGIN:VEVENT
DTSTART;TZID=UTC:20260826T200000
DTEND;TZID=UTC:20260826T210000
DTSTAMP:20260424T185120
CREATED:20250828T152337Z
LAST-MODIFIED:20250828T152337Z
UID:10002111-1787774400-1787778000@hlcc.org
SUMMARY:Ecology Committee
DESCRIPTION:Ecology Committee Meetings are held on the 4th Wednesday of every month [unless otherwise noted]. \nContact: ecology@hlcc.org
URL:https://hlcc.org/event/ecology-committee/2026-08-26/
LOCATION:Clubhouse
CATEGORIES:Committee Meetings
ORGANIZER;CN="Committees":MAILTO:info@hlcc.org
END:VEVENT
BEGIN:VEVENT
DTSTART;TZID=UTC:20260827T080000
DTEND;TZID=UTC:20260827T093000
DTSTAMP:20260424T185120
CREATED:20250828T152339Z
LAST-MODIFIED:20250828T152339Z
UID:10003965-1787817600-1787823000@hlcc.org
SUMMARY:Yoga & Meditation
DESCRIPTION:
URL:https://hlcc.org/event/yoga-meditation/2026-08-27/
LOCATION:Clubhouse
CATEGORIES:Activities
ORGANIZER;CN="Activities":MAILTO:info@hcc.org
END:VEVENT
BEGIN:VEVENT
DTSTART;TZID=UTC:20260827T190000
DTEND;TZID=UTC:20260827T200000
DTSTAMP:20260424T185120
CREATED:20250828T152334Z
LAST-MODIFIED:20250828T152334Z
UID:10001024-1787857200-1787860800@hlcc.org
SUMMARY:Stitching
DESCRIPTION:
URL:https://hlcc.org/event/stitching/2026-08-27/
LOCATION:Clubhouse
CATEGORIES:Activities
ORGANIZER;CN="Activities":MAILTO:info@hcc.org
END:VEVENT
BEGIN:VEVENT
DTSTART;TZID=UTC:20260828T100000
DTEND;TZID=UTC:20260828T120000
DTSTAMP:20260424T185120
CREATED:20250828T152345Z
LAST-MODIFIED:20250828T152345Z
UID:10005379-1787911200-1787918400@hlcc.org
SUMMARY:Pickleball - Fridays
DESCRIPTION:
URL:https://hlcc.org/event/pickleball-3/2026-08-28/
LOCATION:Clubhouse
CATEGORIES:Activities
ORGANIZER;CN="Activities":MAILTO:info@hcc.org
END:VEVENT
BEGIN:VEVENT
DTSTART;TZID=UTC:20260903T080000
DTEND;TZID=UTC:20260903T093000
DTSTAMP:20260424T185120
CREATED:20250828T152339Z
LAST-MODIFIED:20250828T152339Z
UID:10003966-1788422400-1788427800@hlcc.org
SUMMARY:Yoga & Meditation
DESCRIPTION:
URL:https://hlcc.org/event/yoga-meditation/2026-09-03/
LOCATION:Clubhouse
CATEGORIES:Activities
ORGANIZER;CN="Activities":MAILTO:info@hcc.org
END:VEVENT
BEGIN:VEVENT
DTSTART;TZID=UTC:20260903T190000
DTEND;TZID=UTC:20260903T200000
DTSTAMP:20260424T185120
CREATED:20250828T152334Z
LAST-MODIFIED:20250828T152334Z
UID:10001025-1788462000-1788465600@hlcc.org
SUMMARY:Stitching
DESCRIPTION:
URL:https://hlcc.org/event/stitching/2026-09-03/
LOCATION:Clubhouse
CATEGORIES:Activities
ORGANIZER;CN="Activities":MAILTO:info@hcc.org
END:VEVENT
BEGIN:VEVENT
DTSTART;TZID=UTC:20260904T100000
DTEND;TZID=UTC:20260904T120000
DTSTAMP:20260424T185120
CREATED:20250828T152345Z
LAST-MODIFIED:20250828T152345Z
UID:10005380-1788516000-1788523200@hlcc.org
SUMMARY:Pickleball - Fridays
DESCRIPTION:
URL:https://hlcc.org/event/pickleball-3/2026-09-04/
LOCATION:Clubhouse
CATEGORIES:Activities
ORGANIZER;CN="Activities":MAILTO:info@hcc.org
END:VEVENT
BEGIN:VEVENT
DTSTART;TZID=UTC:20260910T080000
DTEND;TZID=UTC:20260910T093000
DTSTAMP:20260424T185120
CREATED:20250828T152339Z
LAST-MODIFIED:20250828T152339Z
UID:10003967-1789027200-1789032600@hlcc.org
SUMMARY:Yoga & Meditation
DESCRIPTION:
URL:https://hlcc.org/event/yoga-meditation/2026-09-10/
LOCATION:Clubhouse
CATEGORIES:Activities
ORGANIZER;CN="Activities":MAILTO:info@hcc.org
END:VEVENT
BEGIN:VEVENT
DTSTART;TZID=UTC:20260910T190000
DTEND;TZID=UTC:20260910T200000
DTSTAMP:20260424T185120
CREATED:20250828T152334Z
LAST-MODIFIED:20250828T152334Z
UID:10001026-1789066800-1789070400@hlcc.org
SUMMARY:Stitching
DESCRIPTION:
URL:https://hlcc.org/event/stitching/2026-09-10/
LOCATION:Clubhouse
CATEGORIES:Activities
ORGANIZER;CN="Activities":MAILTO:info@hcc.org
END:VEVENT
BEGIN:VEVENT
DTSTART;TZID=UTC:20260911T100000
DTEND;TZID=UTC:20260911T120000
DTSTAMP:20260424T185120
CREATED:20250828T152345Z
LAST-MODIFIED:20250828T152345Z
UID:10005381-1789120800-1789128000@hlcc.org
SUMMARY:Pickleball - Fridays
DESCRIPTION:
URL:https://hlcc.org/event/pickleball-3/2026-09-11/
LOCATION:Clubhouse
CATEGORIES:Activities
ORGANIZER;CN="Activities":MAILTO:info@hcc.org
END:VEVENT
BEGIN:VEVENT
DTSTART;TZID=UTC:20260917T080000
DTEND;TZID=UTC:20260917T093000
DTSTAMP:20260424T185120
CREATED:20250828T152339Z
LAST-MODIFIED:20250828T152339Z
UID:10003968-1789632000-1789637400@hlcc.org
SUMMARY:Yoga & Meditation
DESCRIPTION:
URL:https://hlcc.org/event/yoga-meditation/2026-09-17/
LOCATION:Clubhouse
CATEGORIES:Activities
ORGANIZER;CN="Activities":MAILTO:info@hcc.org
END:VEVENT
BEGIN:VEVENT
DTSTART;TZID=UTC:20260917T190000
DTEND;TZID=UTC:20260917T200000
DTSTAMP:20260424T185120
CREATED:20250828T152334Z
LAST-MODIFIED:20250828T152334Z
UID:10001027-1789671600-1789675200@hlcc.org
SUMMARY:Stitching
DESCRIPTION:
URL:https://hlcc.org/event/stitching/2026-09-17/
LOCATION:Clubhouse
CATEGORIES:Activities
ORGANIZER;CN="Activities":MAILTO:info@hcc.org
END:VEVENT
BEGIN:VEVENT
DTSTART;TZID=UTC:20260917T190000
DTEND;TZID=UTC:20260917T200000
DTSTAMP:20260424T185120
CREATED:20250828T152341Z
LAST-MODIFIED:20250828T152341Z
UID:10003761-1789671600-1789675200@hlcc.org
SUMMARY:Fish Committee
DESCRIPTION:
URL:https://hlcc.org/event/fish-committee-2/2026-09-17/
LOCATION:Clubhouse
CATEGORIES:Committee Meetings
ORGANIZER;CN="Committees":MAILTO:info@hlcc.org
END:VEVENT
BEGIN:VEVENT
DTSTART;TZID=UTC:20260918T100000
DTEND;TZID=UTC:20260918T120000
DTSTAMP:20260424T185120
CREATED:20250828T152345Z
LAST-MODIFIED:20250828T152345Z
UID:10005382-1789725600-1789732800@hlcc.org
SUMMARY:Pickleball - Fridays
DESCRIPTION:
URL:https://hlcc.org/event/pickleball-3/2026-09-18/
LOCATION:Clubhouse
CATEGORIES:Activities
ORGANIZER;CN="Activities":MAILTO:info@hcc.org
END:VEVENT
BEGIN:VEVENT
DTSTART;TZID=UTC:20260923T200000
DTEND;TZID=UTC:20260923T210000
DTSTAMP:20260424T185120
CREATED:20250828T152337Z
LAST-MODIFIED:20250828T152337Z
UID:10002112-1790193600-1790197200@hlcc.org
SUMMARY:Ecology Committee
DESCRIPTION:Ecology Committee Meetings are held on the 4th Wednesday of every month [unless otherwise noted]. \nContact: ecology@hlcc.org
URL:https://hlcc.org/event/ecology-committee/2026-09-23/
LOCATION:Clubhouse
CATEGORIES:Committee Meetings
ORGANIZER;CN="Committees":MAILTO:info@hlcc.org
END:VEVENT
BEGIN:VEVENT
DTSTART;TZID=UTC:20260924T080000
DTEND;TZID=UTC:20260924T093000
DTSTAMP:20260424T185120
CREATED:20250828T152339Z
LAST-MODIFIED:20250828T152339Z
UID:10003969-1790236800-1790242200@hlcc.org
SUMMARY:Yoga & Meditation
DESCRIPTION:
URL:https://hlcc.org/event/yoga-meditation/2026-09-24/
LOCATION:Clubhouse
CATEGORIES:Activities
ORGANIZER;CN="Activities":MAILTO:info@hcc.org
END:VEVENT
BEGIN:VEVENT
DTSTART;TZID=UTC:20260924T190000
DTEND;TZID=UTC:20260924T200000
DTSTAMP:20260424T185120
CREATED:20250828T152334Z
LAST-MODIFIED:20250828T152334Z
UID:10001028-1790276400-1790280000@hlcc.org
SUMMARY:Stitching
DESCRIPTION:
URL:https://hlcc.org/event/stitching/2026-09-24/
LOCATION:Clubhouse
CATEGORIES:Activities
ORGANIZER;CN="Activities":MAILTO:info@hcc.org
END:VEVENT
BEGIN:VEVENT
DTSTART;TZID=UTC:20260925T100000
DTEND;TZID=UTC:20260925T120000
DTSTAMP:20260424T185120
CREATED:20250828T152345Z
LAST-MODIFIED:20250828T152345Z
UID:10005383-1790330400-1790337600@hlcc.org
SUMMARY:Pickleball - Fridays
DESCRIPTION:
URL:https://hlcc.org/event/pickleball-3/2026-09-25/
LOCATION:Clubhouse
CATEGORIES:Activities
ORGANIZER;CN="Activities":MAILTO:info@hcc.org
END:VEVENT
BEGIN:VEVENT
DTSTART;TZID=UTC:20260930T184500
DTEND;TZID=UTC:20260930T200000
DTSTAMP:20260424T185120
CREATED:20260331T161545Z
LAST-MODIFIED:20260331T161912Z
UID:10011787-1790793900-1790798400@hlcc.org
SUMMARY:Book Club
DESCRIPTION:
URL:https://hlcc.org/event/book-club-2-2/2026-09-30/
LOCATION:Clubhouse
CATEGORIES:Activities
ORGANIZER;CN="Activities":MAILTO:info@hcc.org
END:VEVENT
BEGIN:VEVENT
DTSTART;TZID=UTC:20261001T080000
DTEND;TZID=UTC:20261001T093000
DTSTAMP:20260424T185120
CREATED:20250828T152339Z
LAST-MODIFIED:20250828T152339Z
UID:10003970-1790841600-1790847000@hlcc.org
SUMMARY:Yoga & Meditation
DESCRIPTION:
URL:https://hlcc.org/event/yoga-meditation/2026-10-01/
LOCATION:Clubhouse
CATEGORIES:Activities
ORGANIZER;CN="Activities":MAILTO:info@hcc.org
END:VEVENT
BEGIN:VEVENT
DTSTART;TZID=UTC:20261001T190000
DTEND;TZID=UTC:20261001T200000
DTSTAMP:20260424T185120
CREATED:20250828T152334Z
LAST-MODIFIED:20250828T152334Z
UID:10001029-1790881200-1790884800@hlcc.org
SUMMARY:Stitching
DESCRIPTION:
URL:https://hlcc.org/event/stitching/2026-10-01/
LOCATION:Clubhouse
CATEGORIES:Activities
ORGANIZER;CN="Activities":MAILTO:info@hcc.org
END:VEVENT
BEGIN:VEVENT
DTSTART;TZID=UTC:20261002T100000
DTEND;TZID=UTC:20261002T120000
DTSTAMP:20260424T185120
CREATED:20250828T152345Z
LAST-MODIFIED:20250828T152345Z
UID:10005384-1790935200-1790942400@hlcc.org
SUMMARY:Pickleball - Fridays
DESCRIPTION:
URL:https://hlcc.org/event/pickleball-3/2026-10-02/
LOCATION:Clubhouse
CATEGORIES:Activities
ORGANIZER;CN="Activities":MAILTO:info@hcc.org
END:VEVENT
BEGIN:VEVENT
DTSTART;TZID=UTC:20261008T080000
DTEND;TZID=UTC:20261008T093000
DTSTAMP:20260424T185120
CREATED:20250828T152339Z
LAST-MODIFIED:20250828T152339Z
UID:10003971-1791446400-1791451800@hlcc.org
SUMMARY:Yoga & Meditation
DESCRIPTION:
URL:https://hlcc.org/event/yoga-meditation/2026-10-08/
LOCATION:Clubhouse
CATEGORIES:Activities
ORGANIZER;CN="Activities":MAILTO:info@hcc.org
END:VEVENT
BEGIN:VEVENT
DTSTART;TZID=UTC:20261008T190000
DTEND;TZID=UTC:20261008T200000
DTSTAMP:20260424T185120
CREATED:20250828T152334Z
LAST-MODIFIED:20250828T152334Z
UID:10001030-1791486000-1791489600@hlcc.org
SUMMARY:Stitching
DESCRIPTION:
URL:https://hlcc.org/event/stitching/2026-10-08/
LOCATION:Clubhouse
CATEGORIES:Activities
ORGANIZER;CN="Activities":MAILTO:info@hcc.org
END:VEVENT
BEGIN:VEVENT
DTSTART;TZID=UTC:20261009T100000
DTEND;TZID=UTC:20261009T120000
DTSTAMP:20260424T185120
CREATED:20250828T152345Z
LAST-MODIFIED:20250828T152345Z
UID:10005385-1791540000-1791547200@hlcc.org
SUMMARY:Pickleball - Fridays
DESCRIPTION:
URL:https://hlcc.org/event/pickleball-3/2026-10-09/
LOCATION:Clubhouse
CATEGORIES:Activities
ORGANIZER;CN="Activities":MAILTO:info@hcc.org
END:VEVENT
BEGIN:VEVENT
DTSTART;TZID=UTC:20261015T080000
DTEND;TZID=UTC:20261015T093000
DTSTAMP:20260424T185120
CREATED:20250828T152339Z
LAST-MODIFIED:20250828T152339Z
UID:10003972-1792051200-1792056600@hlcc.org
SUMMARY:Yoga & Meditation
DESCRIPTION:
URL:https://hlcc.org/event/yoga-meditation/2026-10-15/
LOCATION:Clubhouse
CATEGORIES:Activities
ORGANIZER;CN="Activities":MAILTO:info@hcc.org
END:VEVENT
BEGIN:VEVENT
DTSTART;TZID=UTC:20261015T190000
DTEND;TZID=UTC:20261015T200000
DTSTAMP:20260424T185120
CREATED:20250828T152334Z
LAST-MODIFIED:20250828T152334Z
UID:10001031-1792090800-1792094400@hlcc.org
SUMMARY:Stitching
DESCRIPTION:
URL:https://hlcc.org/event/stitching/2026-10-15/
LOCATION:Clubhouse
CATEGORIES:Activities
ORGANIZER;CN="Activities":MAILTO:info@hcc.org
END:VEVENT
BEGIN:VEVENT
DTSTART;TZID=UTC:20261015T190000
DTEND;TZID=UTC:20261015T200000
DTSTAMP:20260424T185120
CREATED:20250828T152341Z
LAST-MODIFIED:20250828T152341Z
UID:10003762-1792090800-1792094400@hlcc.org
SUMMARY:Fish Committee
DESCRIPTION:
URL:https://hlcc.org/event/fish-committee-2/2026-10-15/
LOCATION:Clubhouse
CATEGORIES:Committee Meetings
ORGANIZER;CN="Committees":MAILTO:info@hlcc.org
END:VEVENT
BEGIN:VEVENT
DTSTART;TZID=UTC:20261016T100000
DTEND;TZID=UTC:20261016T120000
DTSTAMP:20260424T185120
CREATED:20250828T152345Z
LAST-MODIFIED:20250828T152345Z
UID:10005386-1792144800-1792152000@hlcc.org
SUMMARY:Pickleball - Fridays
DESCRIPTION:
URL:https://hlcc.org/event/pickleball-3/2026-10-16/
LOCATION:Clubhouse
CATEGORIES:Activities
ORGANIZER;CN="Activities":MAILTO:info@hcc.org
END:VEVENT
BEGIN:VEVENT
DTSTART;TZID=UTC:20261022T080000
DTEND;TZID=UTC:20261022T093000
DTSTAMP:20260424T185120
CREATED:20250828T152339Z
LAST-MODIFIED:20250828T152339Z
UID:10003973-1792656000-1792661400@hlcc.org
SUMMARY:Yoga & Meditation
DESCRIPTION:
URL:https://hlcc.org/event/yoga-meditation/2026-10-22/
LOCATION:Clubhouse
CATEGORIES:Activities
ORGANIZER;CN="Activities":MAILTO:info@hcc.org
END:VEVENT
END:VCALENDAR