BEGIN:VCALENDAR
VERSION:2.0
PRODID:-//Highland Lakes Country Club and Community Association - ECPv6.15.20//NONSGML v1.0//EN
CALSCALE:GREGORIAN
METHOD:PUBLISH
X-ORIGINAL-URL:https://hlcc.org
X-WR-CALDESC:Events for Highland Lakes Country Club and Community Association
REFRESH-INTERVAL;VALUE=DURATION:PT1H
X-Robots-Tag:noindex
X-PUBLISHED-TTL:PT1H
BEGIN:VTIMEZONE
TZID:UTC
BEGIN:STANDARD
TZOFFSETFROM:+0000
TZOFFSETTO:+0000
TZNAME:UTC
DTSTART:20250101T000000
END:STANDARD
END:VTIMEZONE
BEGIN:VEVENT
DTSTART;TZID=UTC:20261009T100000
DTEND;TZID=UTC:20261009T120000
DTSTAMP:20260424T214910
CREATED:20250828T152345Z
LAST-MODIFIED:20250828T152345Z
UID:10005385-1791540000-1791547200@hlcc.org
SUMMARY:Pickleball - Fridays
DESCRIPTION:
URL:https://hlcc.org/event/pickleball-3/2026-10-09/
LOCATION:Clubhouse
CATEGORIES:Activities
ORGANIZER;CN="Activities":MAILTO:info@hcc.org
END:VEVENT
BEGIN:VEVENT
DTSTART;TZID=UTC:20261015T080000
DTEND;TZID=UTC:20261015T093000
DTSTAMP:20260424T214910
CREATED:20250828T152339Z
LAST-MODIFIED:20250828T152339Z
UID:10003972-1792051200-1792056600@hlcc.org
SUMMARY:Yoga & Meditation
DESCRIPTION:
URL:https://hlcc.org/event/yoga-meditation/2026-10-15/
LOCATION:Clubhouse
CATEGORIES:Activities
ORGANIZER;CN="Activities":MAILTO:info@hcc.org
END:VEVENT
BEGIN:VEVENT
DTSTART;TZID=UTC:20261015T190000
DTEND;TZID=UTC:20261015T200000
DTSTAMP:20260424T214910
CREATED:20250828T152334Z
LAST-MODIFIED:20250828T152334Z
UID:10001031-1792090800-1792094400@hlcc.org
SUMMARY:Stitching
DESCRIPTION:
URL:https://hlcc.org/event/stitching/2026-10-15/
LOCATION:Clubhouse
CATEGORIES:Activities
ORGANIZER;CN="Activities":MAILTO:info@hcc.org
END:VEVENT
BEGIN:VEVENT
DTSTART;TZID=UTC:20261015T190000
DTEND;TZID=UTC:20261015T200000
DTSTAMP:20260424T214910
CREATED:20250828T152341Z
LAST-MODIFIED:20250828T152341Z
UID:10003762-1792090800-1792094400@hlcc.org
SUMMARY:Fish Committee
DESCRIPTION:
URL:https://hlcc.org/event/fish-committee-2/2026-10-15/
LOCATION:Clubhouse
CATEGORIES:Committee Meetings
ORGANIZER;CN="Committees":MAILTO:info@hlcc.org
END:VEVENT
BEGIN:VEVENT
DTSTART;TZID=UTC:20261016T100000
DTEND;TZID=UTC:20261016T120000
DTSTAMP:20260424T214910
CREATED:20250828T152345Z
LAST-MODIFIED:20250828T152345Z
UID:10005386-1792144800-1792152000@hlcc.org
SUMMARY:Pickleball - Fridays
DESCRIPTION:
URL:https://hlcc.org/event/pickleball-3/2026-10-16/
LOCATION:Clubhouse
CATEGORIES:Activities
ORGANIZER;CN="Activities":MAILTO:info@hcc.org
END:VEVENT
BEGIN:VEVENT
DTSTART;TZID=UTC:20261022T080000
DTEND;TZID=UTC:20261022T093000
DTSTAMP:20260424T214910
CREATED:20250828T152339Z
LAST-MODIFIED:20250828T152339Z
UID:10003973-1792656000-1792661400@hlcc.org
SUMMARY:Yoga & Meditation
DESCRIPTION:
URL:https://hlcc.org/event/yoga-meditation/2026-10-22/
LOCATION:Clubhouse
CATEGORIES:Activities
ORGANIZER;CN="Activities":MAILTO:info@hcc.org
END:VEVENT
BEGIN:VEVENT
DTSTART;TZID=UTC:20261022T190000
DTEND;TZID=UTC:20261022T200000
DTSTAMP:20260424T214910
CREATED:20250828T152334Z
LAST-MODIFIED:20250828T152334Z
UID:10001032-1792695600-1792699200@hlcc.org
SUMMARY:Stitching
DESCRIPTION:
URL:https://hlcc.org/event/stitching/2026-10-22/
LOCATION:Clubhouse
CATEGORIES:Activities
ORGANIZER;CN="Activities":MAILTO:info@hcc.org
END:VEVENT
BEGIN:VEVENT
DTSTART;TZID=UTC:20261023T100000
DTEND;TZID=UTC:20261023T120000
DTSTAMP:20260424T214910
CREATED:20250828T152345Z
LAST-MODIFIED:20250828T152345Z
UID:10005387-1792749600-1792756800@hlcc.org
SUMMARY:Pickleball - Fridays
DESCRIPTION:
URL:https://hlcc.org/event/pickleball-3/2026-10-23/
LOCATION:Clubhouse
CATEGORIES:Activities
ORGANIZER;CN="Activities":MAILTO:info@hcc.org
END:VEVENT
BEGIN:VEVENT
DTSTART;TZID=UTC:20261028T200000
DTEND;TZID=UTC:20261028T210000
DTSTAMP:20260424T214910
CREATED:20250828T152337Z
LAST-MODIFIED:20250828T152337Z
UID:10002113-1793217600-1793221200@hlcc.org
SUMMARY:Ecology Committee
DESCRIPTION:Ecology Committee Meetings are held on the 4th Wednesday of every month [unless otherwise noted]. \nContact: ecology@hlcc.org
URL:https://hlcc.org/event/ecology-committee/2026-10-28/
LOCATION:Clubhouse
CATEGORIES:Committee Meetings
ORGANIZER;CN="Committees":MAILTO:info@hlcc.org
END:VEVENT
BEGIN:VEVENT
DTSTART;TZID=UTC:20261029T080000
DTEND;TZID=UTC:20261029T093000
DTSTAMP:20260424T214910
CREATED:20250828T152339Z
LAST-MODIFIED:20250828T152339Z
UID:10003974-1793260800-1793266200@hlcc.org
SUMMARY:Yoga & Meditation
DESCRIPTION:
URL:https://hlcc.org/event/yoga-meditation/2026-10-29/
LOCATION:Clubhouse
CATEGORIES:Activities
ORGANIZER;CN="Activities":MAILTO:info@hcc.org
END:VEVENT
BEGIN:VEVENT
DTSTART;TZID=UTC:20261029T190000
DTEND;TZID=UTC:20261029T200000
DTSTAMP:20260424T214910
CREATED:20250828T152334Z
LAST-MODIFIED:20250828T152334Z
UID:10001033-1793300400-1793304000@hlcc.org
SUMMARY:Stitching
DESCRIPTION:
URL:https://hlcc.org/event/stitching/2026-10-29/
LOCATION:Clubhouse
CATEGORIES:Activities
ORGANIZER;CN="Activities":MAILTO:info@hcc.org
END:VEVENT
BEGIN:VEVENT
DTSTART;TZID=UTC:20261030T100000
DTEND;TZID=UTC:20261030T120000
DTSTAMP:20260424T214910
CREATED:20250828T152345Z
LAST-MODIFIED:20250828T152345Z
UID:10005388-1793354400-1793361600@hlcc.org
SUMMARY:Pickleball - Fridays
DESCRIPTION:
URL:https://hlcc.org/event/pickleball-3/2026-10-30/
LOCATION:Clubhouse
CATEGORIES:Activities
ORGANIZER;CN="Activities":MAILTO:info@hcc.org
END:VEVENT
BEGIN:VEVENT
DTSTART;TZID=UTC:20261105T080000
DTEND;TZID=UTC:20261105T093000
DTSTAMP:20260424T214910
CREATED:20250828T152339Z
LAST-MODIFIED:20250828T152339Z
UID:10003975-1793865600-1793871000@hlcc.org
SUMMARY:Yoga & Meditation
DESCRIPTION:
URL:https://hlcc.org/event/yoga-meditation/2026-11-05/
LOCATION:Clubhouse
CATEGORIES:Activities
ORGANIZER;CN="Activities":MAILTO:info@hcc.org
END:VEVENT
BEGIN:VEVENT
DTSTART;TZID=UTC:20261105T190000
DTEND;TZID=UTC:20261105T200000
DTSTAMP:20260424T214910
CREATED:20250828T152334Z
LAST-MODIFIED:20250828T152334Z
UID:10001034-1793905200-1793908800@hlcc.org
SUMMARY:Stitching
DESCRIPTION:
URL:https://hlcc.org/event/stitching/2026-11-05/
LOCATION:Clubhouse
CATEGORIES:Activities
ORGANIZER;CN="Activities":MAILTO:info@hcc.org
END:VEVENT
BEGIN:VEVENT
DTSTART;TZID=UTC:20261106T100000
DTEND;TZID=UTC:20261106T120000
DTSTAMP:20260424T214910
CREATED:20250828T152345Z
LAST-MODIFIED:20250828T152345Z
UID:10005389-1793959200-1793966400@hlcc.org
SUMMARY:Pickleball - Fridays
DESCRIPTION:
URL:https://hlcc.org/event/pickleball-3/2026-11-06/
LOCATION:Clubhouse
CATEGORIES:Activities
ORGANIZER;CN="Activities":MAILTO:info@hcc.org
END:VEVENT
BEGIN:VEVENT
DTSTART;TZID=UTC:20261112T080000
DTEND;TZID=UTC:20261112T093000
DTSTAMP:20260424T214910
CREATED:20250828T152339Z
LAST-MODIFIED:20250828T152339Z
UID:10003976-1794470400-1794475800@hlcc.org
SUMMARY:Yoga & Meditation
DESCRIPTION:
URL:https://hlcc.org/event/yoga-meditation/2026-11-12/
LOCATION:Clubhouse
CATEGORIES:Activities
ORGANIZER;CN="Activities":MAILTO:info@hcc.org
END:VEVENT
BEGIN:VEVENT
DTSTART;TZID=UTC:20261112T190000
DTEND;TZID=UTC:20261112T200000
DTSTAMP:20260424T214910
CREATED:20250828T152334Z
LAST-MODIFIED:20250828T152334Z
UID:10001035-1794510000-1794513600@hlcc.org
SUMMARY:Stitching
DESCRIPTION:
URL:https://hlcc.org/event/stitching/2026-11-12/
LOCATION:Clubhouse
CATEGORIES:Activities
ORGANIZER;CN="Activities":MAILTO:info@hcc.org
END:VEVENT
BEGIN:VEVENT
DTSTART;TZID=UTC:20261113T100000
DTEND;TZID=UTC:20261113T120000
DTSTAMP:20260424T214910
CREATED:20250828T152345Z
LAST-MODIFIED:20250828T152345Z
UID:10005390-1794564000-1794571200@hlcc.org
SUMMARY:Pickleball - Fridays
DESCRIPTION:
URL:https://hlcc.org/event/pickleball-3/2026-11-13/
LOCATION:Clubhouse
CATEGORIES:Activities
ORGANIZER;CN="Activities":MAILTO:info@hcc.org
END:VEVENT
BEGIN:VEVENT
DTSTART;TZID=UTC:20261119T080000
DTEND;TZID=UTC:20261119T093000
DTSTAMP:20260424T214910
CREATED:20250828T152339Z
LAST-MODIFIED:20250828T152339Z
UID:10003977-1795075200-1795080600@hlcc.org
SUMMARY:Yoga & Meditation
DESCRIPTION:
URL:https://hlcc.org/event/yoga-meditation/2026-11-19/
LOCATION:Clubhouse
CATEGORIES:Activities
ORGANIZER;CN="Activities":MAILTO:info@hcc.org
END:VEVENT
BEGIN:VEVENT
DTSTART;TZID=UTC:20261119T190000
DTEND;TZID=UTC:20261119T200000
DTSTAMP:20260424T214910
CREATED:20250828T152334Z
LAST-MODIFIED:20250828T152334Z
UID:10001036-1795114800-1795118400@hlcc.org
SUMMARY:Stitching
DESCRIPTION:
URL:https://hlcc.org/event/stitching/2026-11-19/
LOCATION:Clubhouse
CATEGORIES:Activities
ORGANIZER;CN="Activities":MAILTO:info@hcc.org
END:VEVENT
BEGIN:VEVENT
DTSTART;TZID=UTC:20261119T190000
DTEND;TZID=UTC:20261119T200000
DTSTAMP:20260424T214910
CREATED:20250828T152341Z
LAST-MODIFIED:20250828T152341Z
UID:10003763-1795114800-1795118400@hlcc.org
SUMMARY:Fish Committee
DESCRIPTION:
URL:https://hlcc.org/event/fish-committee-2/2026-11-19/
LOCATION:Clubhouse
CATEGORIES:Committee Meetings
ORGANIZER;CN="Committees":MAILTO:info@hlcc.org
END:VEVENT
BEGIN:VEVENT
DTSTART;TZID=UTC:20261120T100000
DTEND;TZID=UTC:20261120T120000
DTSTAMP:20260424T214910
CREATED:20250828T152345Z
LAST-MODIFIED:20250828T152345Z
UID:10005391-1795168800-1795176000@hlcc.org
SUMMARY:Pickleball - Fridays
DESCRIPTION:
URL:https://hlcc.org/event/pickleball-3/2026-11-20/
LOCATION:Clubhouse
CATEGORIES:Activities
ORGANIZER;CN="Activities":MAILTO:info@hcc.org
END:VEVENT
BEGIN:VEVENT
DTSTART;TZID=UTC:20261125T200000
DTEND;TZID=UTC:20261125T210000
DTSTAMP:20260424T214910
CREATED:20250828T152337Z
LAST-MODIFIED:20250828T152337Z
UID:10002114-1795636800-1795640400@hlcc.org
SUMMARY:Ecology Committee
DESCRIPTION:Ecology Committee Meetings are held on the 4th Wednesday of every month [unless otherwise noted]. \nContact: ecology@hlcc.org
URL:https://hlcc.org/event/ecology-committee/2026-11-25/
LOCATION:Clubhouse
CATEGORIES:Committee Meetings
ORGANIZER;CN="Committees":MAILTO:info@hlcc.org
END:VEVENT
BEGIN:VEVENT
DTSTART;TZID=UTC:20261126T080000
DTEND;TZID=UTC:20261126T093000
DTSTAMP:20260424T214910
CREATED:20250828T152339Z
LAST-MODIFIED:20250828T152339Z
UID:10003978-1795680000-1795685400@hlcc.org
SUMMARY:Yoga & Meditation
DESCRIPTION:
URL:https://hlcc.org/event/yoga-meditation/2026-11-26/
LOCATION:Clubhouse
CATEGORIES:Activities
ORGANIZER;CN="Activities":MAILTO:info@hcc.org
END:VEVENT
BEGIN:VEVENT
DTSTART;TZID=UTC:20261126T190000
DTEND;TZID=UTC:20261126T200000
DTSTAMP:20260424T214910
CREATED:20250828T152334Z
LAST-MODIFIED:20250828T152334Z
UID:10001037-1795719600-1795723200@hlcc.org
SUMMARY:Stitching
DESCRIPTION:
URL:https://hlcc.org/event/stitching/2026-11-26/
LOCATION:Clubhouse
CATEGORIES:Activities
ORGANIZER;CN="Activities":MAILTO:info@hcc.org
END:VEVENT
BEGIN:VEVENT
DTSTART;TZID=UTC:20261127T100000
DTEND;TZID=UTC:20261127T120000
DTSTAMP:20260424T214910
CREATED:20250828T152345Z
LAST-MODIFIED:20250828T152345Z
UID:10005392-1795773600-1795780800@hlcc.org
SUMMARY:Pickleball - Fridays
DESCRIPTION:
URL:https://hlcc.org/event/pickleball-3/2026-11-27/
LOCATION:Clubhouse
CATEGORIES:Activities
ORGANIZER;CN="Activities":MAILTO:info@hcc.org
END:VEVENT
BEGIN:VEVENT
DTSTART;TZID=UTC:20261203T080000
DTEND;TZID=UTC:20261203T093000
DTSTAMP:20260424T214910
CREATED:20250828T152339Z
LAST-MODIFIED:20250828T152339Z
UID:10003979-1796284800-1796290200@hlcc.org
SUMMARY:Yoga & Meditation
DESCRIPTION:
URL:https://hlcc.org/event/yoga-meditation/2026-12-03/
LOCATION:Clubhouse
CATEGORIES:Activities
ORGANIZER;CN="Activities":MAILTO:info@hcc.org
END:VEVENT
BEGIN:VEVENT
DTSTART;TZID=UTC:20261203T190000
DTEND;TZID=UTC:20261203T200000
DTSTAMP:20260424T214910
CREATED:20250828T152334Z
LAST-MODIFIED:20250828T152334Z
UID:10001038-1796324400-1796328000@hlcc.org
SUMMARY:Stitching
DESCRIPTION:
URL:https://hlcc.org/event/stitching/2026-12-03/
LOCATION:Clubhouse
CATEGORIES:Activities
ORGANIZER;CN="Activities":MAILTO:info@hcc.org
END:VEVENT
BEGIN:VEVENT
DTSTART;TZID=UTC:20261204T100000
DTEND;TZID=UTC:20261204T120000
DTSTAMP:20260424T214910
CREATED:20250828T152345Z
LAST-MODIFIED:20250828T152345Z
UID:10005393-1796378400-1796385600@hlcc.org
SUMMARY:Pickleball - Fridays
DESCRIPTION:
URL:https://hlcc.org/event/pickleball-3/2026-12-04/
LOCATION:Clubhouse
CATEGORIES:Activities
ORGANIZER;CN="Activities":MAILTO:info@hcc.org
END:VEVENT
BEGIN:VEVENT
DTSTART;TZID=UTC:20261210T080000
DTEND;TZID=UTC:20261210T093000
DTSTAMP:20260424T214910
CREATED:20250828T152339Z
LAST-MODIFIED:20250828T152339Z
UID:10003980-1796889600-1796895000@hlcc.org
SUMMARY:Yoga & Meditation
DESCRIPTION:
URL:https://hlcc.org/event/yoga-meditation/2026-12-10/
LOCATION:Clubhouse
CATEGORIES:Activities
ORGANIZER;CN="Activities":MAILTO:info@hcc.org
END:VEVENT
END:VCALENDAR